{"text_format":"1","workbook":"xlsx","n_sheets":20,"sheets":["Índice","Conceitos","Desempregados_Genero","Desempregados Genero %","Desempregados_idades ","Desempregados_idades  %","Desempregados_ escolaridade","Desempregados escolaridad %","DLD Genero ","DLD Genero %","DLD Idades ","DLD idades %","DLD Escolaridade ","DLD escolar % ","1º Empr. Genero","1º Emprego Genero_%","1º Emprego idades","1º emprego idades %","1º Emprego escolaridade","1º emprego escolaridade %"],"not_rendered":{"charts":0,"images":1,"macros":1,"external_links":0,"defined_names":0,"comments":0,"pivot_tables":0},"unopened":[],"bounds":{"document_bytes":16777216,"sheet_cells":100000,"rows_first":2000,"rows_last":500,"rows_between":2000,"halvings":0,"cell_chars":16384,"cell_head_chars":4096},"cells_cut":0,"cells_raw":0,"read":"whole","date_system":"1900"}

{"sheet":"Índice","index":0,"n_rows":30,"n_cols":4,"rows_kept":30,"cut":false,"hidden":false,"merged":[[43,1,43,6],[18,1,18,10],[20,1,20,10],[36,1,36,11],[37,1,37,10],[38,1,38,11],[39,1,39,13],[40,1,40,12],[24,1,24,9],[42,1,42,8],[32,1,32,11],[31,1,31,10],[34,1,34,9],[35,1,35,9],[30,1,30,10],[41,1,41,12],[33,1,33,10],[10,1,10,3],[16,1,16,9],[26,1,26,10],[27,1,27,10],[14,1,14,9],[15,1,15,9],[17,1,17,10]]}
[]
[]
[]
[null,null,null,"Documento realizado pelo Observatório de Luta Contra a Pobreza na Cidade de Lisboa"]
[null,null,null,"Dados cedidos pelo Instituto de Emprego e Formação Profissional (IEFP)"]
[]
[]
[]
[]
[null,"Índice"]
[null,"Conceitos"]
[]
["Q.1","Número de desempregados inscritos nos Centros de Emprego, género 2014"]
["Q.2","Desempregados inscritos nos Centros de Emprego, género 2014 (%)"]
["Q.3","Número de desempregados inscritos nos Centros de Emprego, idade 2014"]
["Q.4","Desempregados inscritos nos Centros de Emprego, idade 2014 (%)"]
["Q.5","Número de desempregados inscritos nos Centros de Emprego, escolaridade 2014"]
["Q.6","Desempregados inscritos nos Centros de Emprego, escolaridade, 2014 (%)"]
["Q.7","Número de Desempregados de Longa Duração inscritos nos Centros de Emprego, género 2014"]
["Q.8","Desempregados de longa duração inscritos nos Centros de Emprego, 2014 (%)"]
["Q.9","Número de Desempregados de Longa Duração inscritos nos Centros de Emprego, idade 2014"]
["Q.10","Desempregados de longa duração inscritos nos Centros de Emprego, idade, 1º trim.-4º trim. 2014"]
["Q.11","Número de Desempregados de Longa Duração inscritos nos Centros de Emprego, escolaridade, 2014"]
["Q.12","Desempregados de longa duração inscritos nos Centros de Emprego, escolaridade, 2014"]
["Q.13","Número de desempregados 1º emprego  inscritos Centros de Emprego,  género, 2014"]
["Q.14","Desempregados 1º emprego inscritos nos Centros de Emprego, Género, 2014"]
["Q.15","Número de desempregados 1º emprego  inscritos Centros de Emprego,  idade 2014"]
["Q.16","Desempregados 1º emprego inscritos nos Centros de Emprego, idade, 2014"]
["Q.17","Número de desempregados 1º emprego  inscritos Centros de Emprego,  escolaridade 2014"]
["Q.18","Desempregados 1º emprego inscritos nos Centros de Emprego, escolaridade, 2014"]

{"sheet":"Conceitos","index":1,"n_rows":29,"n_cols":4,"rows_kept":29,"cut":false,"hidden":false,"merged":[[21,5,21,12],[32,2,32,4],[35,2,35,4],[21,2,21,4],[26,1,27,1],[22,2,24,4],[25,2,25,4],[28,2,28,4]]}
[]
[]
[]
[null,"CONCEITOS"]
[]
[null,"DESEMPREGADO","O candidato inscrito num Centro de Emprego, que não tem trabalho, procura um emprego como trabalhador por conta de outrem, está imediatamente disponível e tem capacidade para o trabalho (IEFP)"]
[]
[null,"DESEMPREGADO À PROCURA DE NOVO EMPREGO","Pessoa que já teve um emprego. Inclui os candidatos que, tendo-se retirado da vida ativa, qualquer que tenha sido o motivo e a duração da interrupção, desejam eingressar. Inclui igualmente os candidatos que tenham trabalhado com familiares, não sendo remunerados e os que trabalharam por conta própria (IEFP)"]
[]
[null,"DESEMPREGADO À PROCURA DO 1º. EMPREGO","Pessoa que nunca teve emprego (IEFP)"]
[]
[null,"DESEMPREGADO DE LONGA DURAÇÃO","Candidato inscrito como Desempregado há um ano ou mais (IEFP)"]
[]
[null,"GRUPO ETÁRIO","Intervalo de idade, em anos, no qual o indivíduo se enquadra, de acordo com o momento de referência"]
[]
[null,"NÍVEL DE ESCOLARIDADE","Nível ou grau de ensino mais elevado que o indivíduo concluiu ou para o qual obteve equivalência, e em relação ao qual tem direito ao respectivo certificado ou diploma."]
[]
[null,"POPULAÇÃO ACTIVA","Conjunto de indivíduos com idade mínima de 15 anos que, no período de referência, constituíam a  mão-de-obra disponível  para a produção de bens e serviços que entram no circuito económico (empregados e desempregados)."]
[]
[null,"TAXA DE DESEMPREGO","Taxa que permite definir o peso da população desempregada: (População desempregada/ População activa)*100 (expressa em % "]
[]
[]
[]
[]
[]
[null,null,null,"Taxa que permite definir o peso da população desempregada "]
[]
[]
[null,null,null,"Conjunto de indivíduos com idade mínima de 15 anos que, no período de referência, constituíam a  mão-de-obra disponível para a produção de bens e serviços que entram no circuito económico (empregados e desempregados)."]

{"sheet":"Desempregados_Genero","index":2,"n_rows":41,"n_cols":17,"rows_kept":41,"cut":false,"hidden":false,"merged":[[6,2,6,16],[7,2,7,4],[7,6,7,8],[7,10,7,12],[7,14,7,16]]}
[]
[]
[]
[]
["Q.1","Número de desempregados inscritos nos Centros de Emprego, género, 2014"]
[]
[null,null,"Número de desempregados inscritos nos Centros de Emprego, género "]
[null,null,"1º TRIMESTRE",null,null,null,"2º TRIMESTRE",null,2,null,"3º TRIMESTRE",null,null,null,"4º TRIMESTRE",null,4]
[null,"Unidade: Nº","Fem","Masc","Total",null,"Fem","Masc","Total",null,"Fem","Masc","Total",null,"Fem","Masc","Total"]
[null,"Portugal Continental",334887,318614,653501,null,301128,279551,580679,null,308134,274706,582840,null,291824,272488,564312]
[null,"AML",80969,83543,164512,null,74480,74285,148765,null,75520,72250,147770,null,69623,69234,138857]
[null,"Distrito de Lisboa",62345,65455,127800,null,57157,58203,115360,null,57235,55800,113035,null,52248,52831,105079]
[null,"Concelho de Lisboa",15962,17988,33950,null,{"$f":"SUM(G14:G38)","v":14735},{"$f":"SUM(H14:H38)","v":16433},{"$f":"SUM(I14:I38)","v":31168},null,14710,15713,30423,null,12998,14336,27334]
[null,"Ajuda",487,494,981,null,484,462,{"$f":"SUM(G14:H14)","v":946},null,507,458,965,null,432,415,847]
[null,"Alcântara",384,468,852,null,351,420,{"$f":"SUM(G15:H15)","v":771},null,353,398,751,null,300,360,660]
[null,"Alvalade",748,696,1444,null,612,628,1240,null,622,600,1222,null,562,511,1073]
[null,"Areeiro",600,538,1138,null,534,481,1015,null,520,475,995,null,452,447,899]
[null,"Arroios",1045,1428,2473,null,931,1302,2233,null,912,1245,2157,null,805,1156,1961]
[null,"Avenidas Novas",596,538,1134,null,532,479,1011,null,535,471,1006,null,461,431,892]
[null,"Beato",478,650,1128,null,454,608,1062,null,422,564,986,null,376,508,884]
[null,"Belém",273,263,536,null,254,226,480,null,261,231,492,null,215,203,418]
[null,"Benfica",1122,1182,2304,null,1094,1068,2162,null,1031,972,2003,null,1008,952,1960]
[null,"Campo de Ourique",562,526,1088,null,523,509,1032,null,549,488,1037,null,495,469,964]
[null,"Campolide",409,506,915,null,340,417,757,null,343,430,773,null,320,422,742]
[null,"Carnide",571,659,1230,null,542,630,1172,null,554,595,1149,null,499,573,1072]
[null,"Estrela",470,435,905,null,434,410,844,null,451,391,842,null,363,380,743]
[null,"Lumiar",1121,1109,2230,null,1025,1014,2039,null,1004,971,1975,null,928,935,1863]
[null,"Marvila",1505,1830,3335,null,1374,1667,3041,null,1355,1583,2938,null,1166,1359,2525]
[null,"Misericórdia",392,518,910,null,352,474,826,null,349,427,776,null,312,401,713]
[null,"Olivais",105,88,193,null,174,169,343,null,230,238,468,null,269,280,549]
[null,"Parque das Nações",1242,1489,2731,null,1100,1343,2443,null,1048,1232,2280,null,832,995,1827]
[null,"Penha de França",895,993,1888,null,828,896,1724,null,851,867,1718,null,718,786,1504]
[null,"Santa Clara",964,1201,2165,null,921,1128,2049,null,948,1078,2026,null,850,967,1817]
[null,"Santa Maria Maior",454,623,1077,null,391,555,946,null,365,498,863,null,313,451,764]
[null,"Santo António",350,428,778,null,358,379,737,null,355,376,731,null,295,329,624]
[null,"São Domingos de Benfica",707,737,1444,null,658,648,1306,null,679,625,1304,null,627,584,1211]
[null,"São Vicente",466,567,1033,null,444,505,949,null,438,477,915,null,382,407,789]
[null,"Freg. Não Codificada",16,22,38,null,25,15,40,null,28,23,51,null,18,15,33]
[]
[null,"Fonte: Instituto de Emprego e Formação Profissional"]
[null,"Notas n.d.: não disponível (para valores =< 5, por razões de confidencialidade dados não disponibilizados pela fonte)"]

{"sheet":"Desempregados Genero %","index":3,"n_rows":42,"n_cols":14,"rows_kept":42,"cut":false,"hidden":false,"merged":[[43,2,43,16],[8,2,8,4],[8,5,8,7],[8,8,8,10],[8,11,8,13],[6,2,6,13],[7,2,7,13]]}
[]
[]
[]
[]
["Q.2","Desempregados inscritos nos Centros de Emprego, género, 2014 (%)"]
[]
[null,null,"Desempregados inscritos nos Centros de Emprego, género "]
[null,null,"%"]
[null,null,"1º TRIMESTRE",null,null,"2º TRIMESTRE",null,null,"3º TRIMESTRE",null,null,"4º TRIMESTRE"]
[null,"Unidade: Nº e %","Fem",null,"Masc","Fem",null,"Masc","Fem",null,"Masc","Fem",null,"Masc"]
[null,"Portugal Continental",{"$f":"Desempregados_Genero!C10/Desempregados_Genero!E10","v":0.51245063129207147},null,{"$f":"Desempregados_Genero!D10/Desempregados_Genero!E10","v":0.48754936870792853},{"$f":"Desempregados_Genero!G10/Desempregados_Genero!I10","v":0.51857911169510174},null,{"$f":"Desempregados_Genero!H10/Desempregados_Genero!I10","v":0.48142088830489821},{"$f":"Desempregados_Genero!K10/Desempregados_Genero!M10","v":0.52867682382815184},{"$f":"Desempregados_Genero!L10/Desempregados_Genero!N10","v":{"$error":"#DIV/0!"}},{"$f":"Desempregados_Genero!L10/Desempregados_Genero!M10","v":0.47132317617184821},{"$f":"Desempregados_Genero!O10/Desempregados_Genero!Q10","v":0.51713236649229499},null,{"$f":"Desempregados_Genero!P10/Desempregados_Genero!Q10","v":0.48286763350770495}]
[null,"AML",{"$f":"Desempregados_Genero!C11/Desempregados_Genero!E11","v":0.49217686247811709},null,{"$f":"Desempregados_Genero!D11/Desempregados_Genero!E11","v":0.50782313752188291},{"$f":"Desempregados_Genero!G11/Desempregados_Genero!I11","v":0.50065539609451148},null,{"$f":"Desempregados_Genero!H11/Desempregados_Genero!I11","v":0.49934460390548852},{"$f":"Desempregados_Genero!K11/Desempregados_Genero!M11","v":0.51106449211612637},null,{"$f":"Desempregados_Genero!L11/Desempregados_Genero!M11","v":0.48893550788387358},{"$f":"Desempregados_Genero!O11/Desempregados_Genero!Q11","v":0.50140072160568061},null,{"$f":"Desempregados_Genero!P11/Desempregados_Genero!Q11","v":0.49859927839431933}]
[null,"Distrito de Lisboa",{"$f":"Desempregados_Genero!C12/Desempregados_Genero!E12","v":0.48783255086071986},null,{"$f":"Desempregados_Genero!D12/Desempregados_Genero!E12","v":0.51216744913928014},{"$f":"Desempregados_Genero!G12/Desempregados_Genero!I12","v":0.49546636615811374},null,{"$f":"Desempregados_Genero!H12/Desempregados_Genero!I12","v":0.50453363384188632},{"$f":"Desempregados_Genero!K12/Desempregados_Genero!M12","v":0.50634759145397445},null,{"$f":"Desempregados_Genero!L12/Desempregados_Genero!M12","v":0.49365240854602555},{"$f":"Desempregados_Genero!O12/Desempregados_Genero!Q12","v":0.49722589670628764},null,{"$f":"Desempregados_Genero!P12/Desempregados_Genero!Q12","v":0.5027741032937123}]
[null,"Concelho de Lisboa",{"$f":"Desempregados_Genero!C13/Desempregados_Genero!E13","v":0.47016200294550808},null,{"$f":"Desempregados_Genero!D13/Desempregados_Genero!E13","v":0.52983799705449186},{"$f":"Desempregados_Genero!G13/Desempregados_Genero!I13","v":0.47276052361396304},null,{"$f":"Desempregados_Genero!H13/Desempregados_Genero!I13","v":0.52723947638603696},{"$f":"Desempregados_Genero!K13/Desempregados_Genero!M13","v":0.483515761101798},null,{"$f":"Desempregados_Genero!L13/Desempregados_Genero!M13","v":0.51648423889820205},{"$f":"Desempregados_Genero!O13/Desempregados_Genero!Q13","v":0.47552498719543423},null,{"$f":"Desempregados_Genero!P13/Desempregados_Genero!Q13","v":0.52447501280456577}]
[null,"Ajuda",{"$f":"Desempregados_Genero!C14/Desempregados_Genero!E14","v":0.49643221202854232},null,{"$f":"Desempregados_Genero!D14/Desempregados_Genero!E14","v":0.50356778797145774},{"$f":"Desempregados_Genero!G14/Desempregados_Genero!I14","v":0.51162790697674421},null,{"$f":"Desempregados_Genero!H14/Desempregados_Genero!I14","v":0.48837209302325579},{"$f":"Desempregados_Genero!K14/Desempregados_Genero!M14","v":0.52538860103626939},null,{"$f":"Desempregados_Genero!L14/Desempregados_Genero!M14","v":0.47461139896373056},{"$f":"Desempregados_Genero!O14/Desempregados_Genero!Q14","v":0.51003541912632822},null,{"$f":"Desempregados_Genero!P14/Desempregados_Genero!Q14","v":0.48996458087367178}]
[null,"Alcântara",{"$f":"Desempregados_Genero!C15/Desempregados_Genero!E15","v":0.45070422535211269},null,{"$f":"Desempregados_Genero!D15/Desempregados_Genero!E15","v":0.54929577464788737},{"$f":"Desempregados_Genero!G15/Desempregados_Genero!I15","v":0.45525291828793774},null,{"$f":"Desempregados_Genero!H15/Desempregados_Genero!I15","v":0.54474708171206221},{"$f":"Desempregados_Genero!K15/Desempregados_Genero!M15","v":0.47003994673768307},null,{"$f":"Desempregados_Genero!L15/Desempregados_Genero!M15","v":0.52996005326231688},{"$f":"Desempregados_Genero!O15/Desempregados_Genero!Q15","v":0.45454545454545453},null,{"$f":"Desempregados_Genero!P15/Desempregados_Genero!Q15","v":0.54545454545454541}]
[null,"Alvalade",{"$f":"Desempregados_Genero!C16/Desempregados_Genero!E16","v":0.51800554016620504},null,{"$f":"Desempregados_Genero!D16/Desempregados_Genero!E16","v":0.48199445983379502},{"$f":"Desempregados_Genero!G16/Desempregados_Genero!I16","v":0.49354838709677418},null,{"$f":"Desempregados_Genero!H16/Desempregados_Genero!I16","v":0.50645161290322582},{"$f":"Desempregados_Genero!K16/Desempregados_Genero!M16","v":0.50900163666121112},null,{"$f":"Desempregados_Genero!L16/Desempregados_Genero!M16","v":0.49099836333878888},{"$f":"Desempregados_Genero!O16/Desempregados_Genero!Q16","v":0.5237651444547996},null,{"$f":"Desempregados_Genero!P16/Desempregados_Genero!Q16","v":0.4762348555452004}]
[null,"Areeiro",{"$f":"Desempregados_Genero!C17/Desempregados_Genero!E17","v":0.52724077328646746},null,{"$f":"Desempregados_Genero!D17/Desempregados_Genero!E17","v":0.47275922671353249},{"$f":"Desempregados_Genero!G17/Desempregados_Genero!I17","v":0.52610837438423641},null,{"$f":"Desempregados_Genero!H17/Desempregados_Genero!I17","v":0.47389162561576353},{"$f":"Desempregados_Genero!K17/Desempregados_Genero!M17","v":0.52261306532663321},null,{"$f":"Desempregados_Genero!L17/Desempregados_Genero!M17","v":0.47738693467336685},{"$f":"Desempregados_Genero!O17/Desempregados_Genero!Q17","v":0.50278086763070073},null,{"$f":"Desempregados_Genero!P17/Desempregados_Genero!Q17","v":0.49721913236929921}]
[null,"Arroios",{"$f":"Desempregados_Genero!C18/Desempregados_Genero!E18","v":0.42256368782854831},null,{"$f":"Desempregados_Genero!D18/Desempregados_Genero!E18","v":0.57743631217145164},{"$f":"Desempregados_Genero!G18/Desempregados_Genero!I18","v":0.41692789968652039},null,{"$f":"Desempregados_Genero!H18/Desempregados_Genero!I18","v":0.58307210031347967},{"$f":"Desempregados_Genero!K18/Desempregados_Genero!M18","v":0.42280945757997218},null,{"$f":"Desempregados_Genero!L18/Desempregados_Genero!M18","v":0.57719054242002776},{"$f":"Desempregados_Genero!O18/Desempregados_Genero!Q18","v":0.41050484446710861},null,{"$f":"Desempregados_Genero!P18/Desempregados_Genero!Q18","v":0.58949515553289134}]
[null,"Avenidas Novas",{"$f":"Desempregados_Genero!C19/Desempregados_Genero!E19","v":0.52557319223985888},null,{"$f":"Desempregados_Genero!D19/Desempregados_Genero!E19","v":0.47442680776014107},{"$f":"Desempregados_Genero!G19/Desempregados_Genero!I19","v":0.52621167161226512},null,{"$f":"Desempregados_Genero!H19/Desempregados_Genero!I19","v":0.47378832838773494},{"$f":"Desempregados_Genero!K19/Desempregados_Genero!M19","v":0.53180914512922461},null,{"$f":"Desempregados_Genero!L19/Desempregados_Genero!M19","v":0.46819085487077533},{"$f":"Desempregados_Genero!O19/Desempregados_Genero!Q19","v":0.51681614349775784},null,{"$f":"Desempregados_Genero!P19/Desempregados_Genero!Q19","v":0.48318385650224216}]
[null,"Beato",{"$f":"Desempregados_Genero!C20/Desempregados_Genero!E20","v":0.42375886524822692},null,{"$f":"Desempregados_Genero!D20/Desempregados_Genero!E20","v":0.57624113475177308},{"$f":"Desempregados_Genero!G20/Desempregados_Genero!I20","v":0.42749529190207158},null,{"$f":"Desempregados_Genero!H20/Desempregados_Genero!I20","v":0.57250470809792842},{"$f":"Desempregados_Genero!K20/Desempregados_Genero!M20","v":0.42799188640973629},null,{"$f":"Desempregados_Genero!L20/Desempregados_Genero!M20","v":0.57200811359026371},{"$f":"Desempregados_Genero!O20/Desempregados_Genero!Q20","v":0.42533936651583709},null,{"$f":"Desempregados_Genero!P20/Desempregados_Genero!Q20","v":0.57466063348416285}]
[null,"Belém",{"$f":"Desempregados_Genero!C21/Desempregados_Genero!E21","v":0.50932835820895528},null,{"$f":"Desempregados_Genero!D21/Desempregados_Genero!E21","v":0.49067164179104478},{"$f":"Desempregados_Genero!G21/Desempregados_Genero!I21","v":0.52916666666666667},null,{"$f":"Desempregados_Genero!H21/Desempregados_Genero!I21","v":0.47083333333333333},{"$f":"Desempregados_Genero!K21/Desempregados_Genero!M21","v":0.53048780487804881},null,{"$f":"Desempregados_Genero!L21/Desempregados_Genero!M21","v":0.46951219512195119},{"$f":"Desempregados_Genero!O21/Desempregados_Genero!Q21","v":0.5143540669856459},null,{"$f":"Desempregados_Genero!P21/Desempregados_Genero!Q21","v":0.48564593301435405}]
[null,"Benfica",{"$f":"Desempregados_Genero!C22/Desempregados_Genero!E22","v":0.48697916666666669},null,{"$f":"Desempregados_Genero!D22/Desempregados_Genero!E22","v":0.51302083333333337},{"$f":"Desempregados_Genero!G22/Desempregados_Genero!I22","v":0.50601295097132282},null,{"$f":"Desempregados_Genero!H22/Desempregados_Genero!I22","v":0.49398704902867713},{"$f":"Desempregados_Genero!K22/Desempregados_Genero!M22","v":0.51472790813779334},null,{"$f":"Desempregados_Genero!L22/Desempregados_Genero!M22","v":0.48527209186220671},{"$f":"Desempregados_Genero!O22/Desempregados_Genero!Q22","v":0.51428571428571423},null,{"$f":"Desempregados_Genero!P22/Desempregados_Genero!Q22","v":0.48571428571428571}]
[null,"Campo de Ourique",{"$f":"Desempregados_Genero!C23/Desempregados_Genero!E23","v":0.51654411764705888},null,{"$f":"Desempregados_Genero!D23/Desempregados_Genero!E23","v":0.48345588235294118},{"$f":"Desempregados_Genero!G23/Desempregados_Genero!I23","v":0.50678294573643412},null,{"$f":"Desempregados_Genero!H23/Desempregados_Genero!I23","v":0.49321705426356588},{"$f":"Desempregados_Genero!K23/Desempregados_Genero!M23","v":0.52941176470588236},null,{"$f":"Desempregados_Genero!L23/Desempregados_Genero!M23","v":0.47058823529411764},{"$f":"Desempregados_Genero!O23/Desempregados_Genero!Q23","v":0.51348547717842319},null,{"$f":"Desempregados_Genero!P23/Desempregados_Genero!Q23","v":0.48651452282157676}]
[null,"Campolide",{"$f":"Desempregados_Genero!C24/Desempregados_Genero!E24","v":0.44699453551912566},null,{"$f":"Desempregados_Genero!D24/Desempregados_Genero!E24","v":0.55300546448087429},{"$f":"Desempregados_Genero!G24/Desempregados_Genero!I24","v":0.44914134742404227},null,{"$f":"Desempregados_Genero!H24/Desempregados_Genero!I24","v":0.55085865257595767},{"$f":"Desempregados_Genero!K24/Desempregados_Genero!M24","v":0.44372574385510999},null,{"$f":"Desempregados_Genero!L24/Desempregados_Genero!M24","v":0.55627425614489001},{"$f":"Desempregados_Genero!O24/Desempregados_Genero!Q24","v":0.43126684636118601},null,{"$f":"Desempregados_Genero!P24/Desempregados_Genero!Q24","v":0.56873315363881405}]
[null,"Carnide",{"$f":"Desempregados_Genero!C25/Desempregados_Genero!E25","v":0.46422764227642277},null,{"$f":"Desempregados_Genero!D25/Desempregados_Genero!E25","v":0.53577235772357723},{"$f":"Desempregados_Genero!G25/Desempregados_Genero!I25","v":0.46245733788395904},null,{"$f":"Desempregados_Genero!H25/Desempregados_Genero!I25","v":0.53754266211604096},{"$f":"Desempregados_Genero!K25/Desempregados_Genero!M25","v":0.48215839860748477},null,{"$f":"Desempregados_Genero!L25/Desempregados_Genero!M25","v":0.51784160139251523},{"$f":"Desempregados_Genero!O25/Desempregados_Genero!Q25","v":0.46548507462686567},null,{"$f":"Desempregados_Genero!P25/Desempregados_Genero!Q25","v":0.53451492537313428}]
[null,"Estrela",{"$f":"Desempregados_Genero!C26/Desempregados_Genero!E26","v":0.51933701657458564},null,{"$f":"Desempregados_Genero!D26/Desempregados_Genero!E26","v":0.48066298342541436},{"$f":"Desempregados_Genero!G26/Desempregados_Genero!I26","v":0.51421800947867302},null,{"$f":"Desempregados_Genero!H26/Desempregados_Genero!I26","v":0.48578199052132703},{"$f":"Desempregados_Genero!K26/Desempregados_Genero!M26","v":0.53562945368171022},null,{"$f":"Desempregados_Genero!L26/Desempregados_Genero!M26","v":0.46437054631828978},{"$f":"Desempregados_Genero!O26/Desempregados_Genero!Q26","v":0.48855989232839836},null,{"$f":"Desempregados_Genero!P26/Desempregados_Genero!Q26","v":0.51144010767160164}]
[null,"Lumiar",{"$f":"Desempregados_Genero!C27/Desempregados_Genero!E27","v":0.50269058295964131},null,{"$f":"Desempregados_Genero!D27/Desempregados_Genero!E27","v":0.49730941704035875},{"$f":"Desempregados_Genero!G27/Desempregados_Genero!I27","v":0.50269740068661106},null,{"$f":"Desempregados_Genero!H27/Desempregados_Genero!I27","v":0.49730259931338894},{"$f":"Desempregados_Genero!K27/Desempregados_Genero!M27","v":0.50835443037974681},null,{"$f":"Desempregados_Genero!L27/Desempregados_Genero!M27","v":0.49164556962025319},{"$f":"Desempregados_Genero!O27/Desempregados_Genero!Q27","v":0.49812130971551261},null,{"$f":"Desempregados_Genero!P27/Desempregados_Genero!Q27","v":0.50187869028448739}]
[null,"Marvila",{"$f":"Desempregados_Genero!C28/Desempregados_Genero!E28","v":0.45127436281859068},null,{"$f":"Desempregados_Genero!D28/Desempregados_Genero!E28","v":0.54872563718140932},{"$f":"Desempregados_Genero!G28/Desempregados_Genero!I28","v":0.45182505754685959},null,{"$f":"Desempregados_Genero!H28/Desempregados_Genero!I28","v":0.54817494245314047},{"$f":"Desempregados_Genero!K28/Desempregados_Genero!M28","v":0.46119809394145678},null,{"$f":"Desempregados_Genero!L28/Desempregados_Genero!M28","v":0.53880190605854328},{"$f":"Desempregados_Genero!O28/Desempregados_Genero!Q28","v":0.4617821782178218},null,{"$f":"Desempregados_Genero!P28/Desempregados_Genero!Q28","v":0.53821782178217825}]
[null,"Misericórdia",{"$f":"Desempregados_Genero!C29/Desempregados_Genero!E29","v":0.43076923076923079},null,{"$f":"Desempregados_Genero!D29/Desempregados_Genero!E29","v":0.56923076923076921},{"$f":"Desempregados_Genero!G29/Desempregados_Genero!I29","v":0.42615012106537531},null,{"$f":"Desempregados_Genero!H29/Desempregados_Genero!I29","v":0.57384987893462469},{"$f":"Desempregados_Genero!K29/Desempregados_Genero!M29","v":0.44974226804123713},null,{"$f":"Desempregados_Genero!L29/Desempregados_Genero!M29","v":0.55025773195876293},{"$f":"Desempregados_Genero!O29/Desempregados_Genero!Q29","v":0.43758765778401121},null,{"$f":"Desempregados_Genero!P29/Desempregados_Genero!Q29","v":0.56241234221598879}]
[null,"Olivais",{"$f":"Desempregados_Genero!C30/Desempregados_Genero!E30","v":0.54404145077720212},null,{"$f":"Desempregados_Genero!D30/Desempregados_Genero!E30","v":0.45595854922279794},{"$f":"Desempregados_Genero!G30/Desempregados_Genero!I30","v":0.50728862973760935},null,{"$f":"Desempregados_Genero!H30/Desempregados_Genero!I30","v":0.49271137026239065},{"$f":"Desempregados_Genero!K30/Desempregados_Genero!M30","v":0.49145299145299143},null,{"$f":"Desempregados_Genero!L30/Desempregados_Genero!M30","v":0.50854700854700852},{"$f":"Desempregados_Genero!O30/Desempregados_Genero!Q30","v":0.48998178506375228},null,{"$f":"Desempregados_Genero!P30/Desempregados_Genero!Q30","v":0.51001821493624777}]
[null,"Parque das Nações",{"$f":"Desempregados_Genero!C31/Desempregados_Genero!E31","v":0.45477846942511901},null,{"$f":"Desempregados_Genero!D31/Desempregados_Genero!E31","v":0.54522153057488099},{"$f":"Desempregados_Genero!G31/Desempregados_Genero!I31","v":0.45026606631191157},null,{"$f":"Desempregados_Genero!H31/Desempregados_Genero!I31","v":0.54973393368808843},{"$f":"Desempregados_Genero!K31/Desempregados_Genero!M31","v":0.45964912280701753},null,{"$f":"Desempregados_Genero!L31/Desempregados_Genero!M31","v":0.54035087719298247},{"$f":"Desempregados_Genero!O31/Desempregados_Genero!Q31","v":0.45539135194307606},null,{"$f":"Desempregados_Genero!P31/Desempregados_Genero!Q31","v":0.54460864805692388}]
[null,"Penha de França",{"$f":"Desempregados_Genero!C32/Desempregados_Genero!E32","v":0.47404661016949151},null,{"$f":"Desempregados_Genero!D32/Desempregados_Genero!E32","v":0.52595338983050843},{"$f":"Desempregados_Genero!G32/Desempregados_Genero!I32","v":0.48027842227378192},null,{"$f":"Desempregados_Genero!H32/Desempregados_Genero!I32","v":0.51972157772621808},{"$f":"Desempregados_Genero!K32/Desempregados_Genero!M32","v":0.49534342258440045},null,{"$f":"Desempregados_Genero!L32/Desempregados_Genero!M32","v":0.50465657741559955},{"$f":"Desempregados_Genero!O32/Desempregados_Genero!Q32","v":0.47739361702127658},null,{"$f":"Desempregados_Genero!P32/Desempregados_Genero!Q32","v":0.52260638297872342}]
[null,"Santa Clara",{"$f":"Desempregados_Genero!C33/Desempregados_Genero!E33","v":0.44526558891454965},null,{"$f":"Desempregados_Genero!D33/Desempregados_Genero!E33","v":0.5547344110854503},{"$f":"Desempregados_Genero!G33/Desempregados_Genero!I33","v":0.44948755490483161},null,{"$f":"Desempregados_Genero!H33/Desempregados_Genero!I33","v":0.55051244509516839},{"$f":"Desempregados_Genero!K33/Desempregados_Genero!M33","v":0.46791707798617965},null,{"$f":"Desempregados_Genero!L33/Desempregados_Genero!M33","v":0.53208292201382035},{"$f":"Desempregados_Genero!O33/Desempregados_Genero!Q33","v":0.46780407264722068},null,{"$f":"Desempregados_Genero!P33/Desempregados_Genero!Q33","v":0.53219592735277932}]
[null,"Santa Maria Maior",{"$f":"Desempregados_Genero!C34/Desempregados_Genero!E34","v":0.42154131847725163},null,{"$f":"Desempregados_Genero!D34/Desempregados_Genero!E34","v":0.57845868152274837},{"$f":"Desempregados_Genero!G34/Desempregados_Genero!I34","v":0.41331923890063427},null,{"$f":"Desempregados_Genero!H34/Desempregados_Genero!I34","v":0.58668076109936573},{"$f":"Desempregados_Genero!K34/Desempregados_Genero!M34","v":0.42294322132097334},null,{"$f":"Desempregados_Genero!L34/Desempregados_Genero!M34","v":0.57705677867902661},{"$f":"Desempregados_Genero!O34/Desempregados_Genero!Q34","v":0.40968586387434552},null,{"$f":"Desempregados_Genero!P34/Desempregados_Genero!Q34","v":0.59031413612565442}]
[null,"Santo António",{"$f":"Desempregados_Genero!C35/Desempregados_Genero!E35","v":0.44987146529562982},null,{"$f":"Desempregados_Genero!D35/Desempregados_Genero!E35","v":0.55012853470437018},{"$f":"Desempregados_Genero!G35/Desempregados_Genero!I35","v":0.48575305291723203},null,{"$f":"Desempregados_Genero!H35/Desempregados_Genero!I35","v":0.51424694708276797},{"$f":"Desempregados_Genero!K35/Desempregados_Genero!M35","v":0.48563611491108072},null,{"$f":"Desempregados_Genero!L35/Desempregados_Genero!M35","v":0.51436388508891928},{"$f":"Desempregados_Genero!O35/Desempregados_Genero!Q35","v":0.47275641025641024},null,{"$f":"Desempregados_Genero!P35/Desempregados_Genero!Q35","v":0.52724358974358976}]
[null,"São Domingos de Benfica",{"$f":"Desempregados_Genero!C36/Desempregados_Genero!E36","v":0.48961218836565096},null,{"$f":"Desempregados_Genero!D36/Desempregados_Genero!E36","v":0.51038781163434899},{"$f":"Desempregados_Genero!G36/Desempregados_Genero!I36","v":0.5038284839203675},null,{"$f":"Desempregados_Genero!H36/Desempregados_Genero!I36","v":0.49617151607963245},{"$f":"Desempregados_Genero!K36/Desempregados_Genero!M36","v":0.52070552147239269},null,{"$f":"Desempregados_Genero!L36/Desempregados_Genero!M36","v":0.47929447852760737},{"$f":"Desempregados_Genero!O36/Desempregados_Genero!Q36","v":0.51775392237819984},null,{"$f":"Desempregados_Genero!P36/Desempregados_Genero!Q36","v":0.48224607762180016}]
[null,"São Vicente",{"$f":"Desempregados_Genero!C37/Desempregados_Genero!E37","v":0.45111326234269117},null,{"$f":"Desempregados_Genero!D37/Desempregados_Genero!E37","v":0.54888673765730878},{"$f":"Desempregados_Genero!G37/Desempregados_Genero!I37","v":0.4678609062170706},null,{"$f":"Desempregados_Genero!H37/Desempregados_Genero!I37","v":0.53213909378292945},{"$f":"Desempregados_Genero!K37/Desempregados_Genero!M37","v":0.47868852459016392},null,{"$f":"Desempregados_Genero!L37/Desempregados_Genero!M37","v":0.52131147540983602},{"$f":"Desempregados_Genero!O37/Desempregados_Genero!Q37","v":0.48415716096324463},null,{"$f":"Desempregados_Genero!P37/Desempregados_Genero!Q37","v":0.51584283903675543}]
[null,"Freg. Não Codificada",{"$f":"Desempregados_Genero!C38/Desempregados_Genero!E38","v":0.42105263157894735},null,{"$f":"Desempregados_Genero!D38/Desempregados_Genero!E38","v":0.57894736842105265},{"$f":"Desempregados_Genero!G38/Desempregados_Genero!I38","v":0.625},null,{"$f":"Desempregados_Genero!H38/Desempregados_Genero!I38","v":0.375},{"$f":"Desempregados_Genero!K38/Desempregados_Genero!M38","v":0.5490196078431373},null,{"$f":"Desempregados_Genero!L38/Desempregados_Genero!M38","v":0.45098039215686275},{"$f":"Desempregados_Genero!O38/Desempregados_Genero!Q38","v":0.54545454545454541},null,{"$f":"Desempregados_Genero!P38/Desempregados_Genero!Q38","v":0.45454545454545453}]
[]
[null,"Fonte: Instituto de Emprego e Formação Profissional"]
[null,"Cálculos: OLCPL"]

{"sheet":"Desempregados_idades ","index":4,"n_rows":41,"n_cols":25,"rows_kept":41,"cut":false,"hidden":false,"merged":[[39,2,39,6],[39,7,39,10],[6,2,6,24],[7,2,7,6],[7,8,7,12],[7,14,7,18],[7,20,7,24],[39,12,39,14]]}
[]
[]
[]
[]
["Q.3","Número de desempregados inscritos nos Centros de Emprego, idade, 2014"]
[]
[null,null,"Número de desempregados inscritos nos Centros de Emprego, idade"]
[null,null,"1º TRIMESTRE",null,null,null,null,null,"2º TRIMESTRE",null,null,null,null,null,"3º TRIMESTRE",null,null,null,null,null,"4º TRIMESTRE"]
[null,"Unidade: Nº","< 25 Anos","25 - 34 Anos","35 - 54 Anos","55 Anos e +","Total",null,"< 25 Anos","25 - 34 Anos","35 - 54 Anos","55 Anos e +","Total",null,"< 25 Anos","25 - 34 Anos","35 - 54 Anos","55 Anos e +","Total",null,"< 25 Anos","25 - 34 Anos","35 - 54 Anos","55 Anos e +","Total"]
[null,"Portugal Continental",85278,137023,303164,128036,653501,null,65322,113944,277257,124156,580679,null,72402,114894,272320,123224,582840,null,68515,109838,262667,123292,564312]
[null,"AML",18536,35152,79642,31182,164512,null,14128,29438,74477,30722,148765,null,15172,29287,72466,30845,147770,null,13500,27657,67712,29988,138857]
[null,"Distrito de Lisboa",14458,27293,61727,24322,127800,null,10927,22713,57681,24039,115360,null,11550,22221,55377,23887,113035,null,10228,20710,51184,22957,105079]
[null,"Concelho de Lisboa",3824,7838,15932,6356,33950,null,{"$f":"SUM(I14:I38)","v":3057},{"$f":"SUM(J14:J38)","v":6525},15273,6313,31168,null,3073,6388,14683,6279,30423,null,2469,5735,13026,6104,27334]
[null,"Ajuda",133,229,468,151,981,null,121,200,471,154,946,null,114,213,476,162,965,null,85,184,426,152,847]
[null,"Alcântara",96,189,427,140,852,null,70,159,403,139,771,null,71,155,388,137,751,null,55,150,315,140,660]
[null,"Alvalade",152,320,711,261,1444,null,95,249,642,254,1240,null,111,244,614,253,1222,null,99,229,511,234,1073]
[null,"Areeiro",119,260,510,249,1138,null,95,215,453,252,1015,null,95,230,445,225,995,null,82,216,372,229,899]
[null,"Arroios",229,577,1220,447,2473,null,161,478,1147,447,2233,null,162,464,1077,454,2157,null,133,404,968,456,1961]
[null,"Avenidas Novas",132,295,481,226,1134,null,100,214,469,228,1011,null,115,222,451,218,1006,null,88,200,377,227,892]
[null,"Beato",142,233,533,220,1128,null,114,211,509,228,1062,null,92,178,497,219,986,null,79,151,453,201,884]
[null,"Belém",48,106,290,92,536,null,40,84,262,94,480,null,43,99,255,95,492,null,31,90,209,88,418]
[null,"Benfica",236,526,1111,431,2304,null,193,454,1081,434,2162,null,206,416,967,414,2003,null,179,407,950,424,1960]
[null,"Campo de Ourique",106,236,517,229,1088,null,89,218,487,238,1032,null,80,207,501,249,1037,null,53,186,473,252,964]
[null,"Campolide",98,197,450,170,915,null,79,123,390,165,757,null,74,146,389,164,773,null,56,121,388,177,742]
[null,"Carnide",179,280,532,239,1230,null,160,243,537,232,1172,null,150,250,511,238,1149,null,129,212,492,239,1072]
[null,"Estrela",79,178,444,204,905,null,66,141,443,194,844,null,77,155,414,196,842,null,59,148,342,194,743]
[null,"Lumiar",255,577,1008,390,2230,null,201,483,966,389,2039,null,212,413,976,374,1975,null,171,420,900,372,1863]
[null,"Marvila",479,727,1493,636,3335,null,361,633,1425,622,3041,null,373,603,1317,645,2938,null,263,510,1139,613,2525]
[null,"Misericórdia",91,228,417,174,910,null,69,167,416,174,826,null,49,172,385,170,776,null,43,160,345,165,713]
[null,"Olivais",48,46,81,18,193,null,80,81,134,48,343,null,106,110,189,63,468,null,94,137,235,83,549]
[null,"Parque das Nações",322,593,1294,522,2731,null,233,482,1238,490,2443,null,193,444,1156,487,2280,null,138,340,904,445,1827]
[null,"Penha de França",165,468,891,364,1888,null,138,390,847,349,1724,null,159,384,840,335,1718,null,133,332,730,309,1504]
[null,"Santa Clara",293,552,986,334,2165,null,271,474,961,343,2049,null,273,478,930,345,2026,null,235,413,843,326,1817]
[null,"Santa Maria Maior",103,254,522,198,1077,null,75,193,494,184,946,null,59,152,468,184,863,null,55,136,405,168,764]
[null,"Santo António",56,188,365,169,778,null,52,160,362,163,737,null,52,162,358,159,731,null,45,139,291,149,624]
[null,"São Domingos de Benfica",145,325,677,297,1444,null,114,268,632,292,1306,null,126,286,593,299,1304,null,102,277,556,276,1211]
[null,"São Vicente",111,243,487,192,1033,null,77,196,479,197,949,null,73,192,460,190,915,null,55,166,387,181,789]
[null,"Freg. Não Codificada",7,11,17,3,38,null,3,9,25,3,40,null,8,13,26,4,51,null,7,7,15,4,33]
[]
[null,"Fonte: Instituto de Emprego e Formação Profissional"]
[null,"Notas n.d.: não disponível (para valores =< 5, por razões de confidencialidade dados não disponibilizados pela fonte)"]

{"sheet":"Desempregados_idades  %","index":5,"n_rows":41,"n_cols":21,"rows_kept":41,"cut":false,"hidden":false,"merged":[[8,17,8,20],[6,2,6,20],[7,2,7,20],[8,12,8,15],[44,2,44,11],[8,2,8,5],[42,2,42,5],[8,7,8,10]]}
[]
[]
[]
[]
["Q.4","Desempregados inscritos nos Centros de Emprego, idade, 2014 (%)"]
[]
[null,null,"Desempregados inscritos nos Centros de Emprego, Idades "]
[null,null,"%"]
[null,null,"1º TRIMESTRE",null,null,null,null,"2º TRIMESTRE",null,null,null,null,"3º TRIMESTRE",null,null,null,null,"4º TRIMESTRE"]
[null,"Unidade: Nº e %","< 25 Anos","25 - 34 Anos","35 - 54 Anos","55 Anos e +",null,"< 25 Anos","25 - 34 Anos","35 - 54 Anos","55 Anos e +",null,"< 25 Anos","25 - 34 Anos","35 - 54 Anos","55 Anos e +",null,"< 25 Anos","25 - 34 Anos","35 - 54 Anos","55 Anos e +"]
[null,"Portugal Continental",{"$f":"'Desempregados_idades '!C10/'Desempregados_idades '!G10","v":0.1304940619830727},{"$f":"'Desempregados_idades '!D10/'Desempregados_idades '!G10","v":0.20967527211128981},{"$f":"'Desempregados_idades '!E10/'Desempregados_idades '!G10","v":0.46390747680569733},{"$f":"'Desempregados_idades '!F10/'Desempregados_idades '!G10","v":0.19592318909994016},null,{"$f":"'Desempregados_idades '!I10/'Desempregados_idades '!M10","v":0.1124924441903358},{"$f":"'Desempregados_idades '!J10/'Desempregados_idades '!M10","v":0.19622545330552679},{"$f":"'Desempregados_idades '!K10/'Desempregados_idades '!M10","v":0.47747034075625261},{"$f":"'Desempregados_idades '!L10/'Desempregados_idades '!M10","v":0.2138117617478848},null,{"$f":"'Desempregados_idades '!O10/'Desempregados_idades '!S10","v":0.12422277125797818},{"$f":"'Desempregados_idades '!P10/'Desempregados_idades '!S10","v":0.19712785670166769},{"$f":"'Desempregados_idades '!Q10/'Desempregados_idades '!S10","v":0.46722942831651909},{"$f":"'Desempregados_idades '!R10/'Desempregados_idades '!S10","v":0.21141994372383502},null,{"$f":"'Desempregados_idades '!U10/'Desempregados_idades '!Y10","v":0.12141333163214675},{"$f":"'Desempregados_idades '!V10/'Desempregados_idades '!Y10","v":0.19464055345269993},{"$f":"'Desempregados_idades '!W10/'Desempregados_idades '!Y10","v":0.46546414040459888},{"$f":"'Desempregados_idades '!X10/'Desempregados_idades '!Y10","v":0.21848197451055446}]
[null,"AML",{"$f":"'Desempregados_idades '!C11/'Desempregados_idades '!G11","v":0.11267263178369967},{"$f":"'Desempregados_idades '!D11/'Desempregados_idades '!G11","v":0.21367438241587239},{"$f":"'Desempregados_idades '!E11/'Desempregados_idades '!G11","v":0.48411058159891074},{"$f":"'Desempregados_idades '!F11/'Desempregados_idades '!G11","v":0.18954240420151722},null,{"$f":"'Desempregados_idades '!I11/'Desempregados_idades '!M11","v":9.4968574597519576E-2},{"$f":"'Desempregados_idades '!J11/'Desempregados_idades '!M11","v":0.19788256646388599},{"$f":"'Desempregados_idades '!K11/'Desempregados_idades '!M11","v":0.50063523006083421},{"$f":"'Desempregados_idades '!L11/'Desempregados_idades '!M11","v":0.20651362887776023},null,{"$f":"'Desempregados_idades '!O11/'Desempregados_idades '!S11","v":0.10267307301888069},{"$f":"'Desempregados_idades '!P11/'Desempregados_idades '!S11","v":0.19819313798470597},{"$f":"'Desempregados_idades '!Q11/'Desempregados_idades '!S11","v":0.49039723895242604},{"$f":"'Desempregados_idades '!R11/'Desempregados_idades '!S11","v":0.20873655004398728},null,{"$f":"'Desempregados_idades '!U11/'Desempregados_idades '!Y11","v":9.7222322245187495E-2},{"$f":"'Desempregados_idades '!V11/'Desempregados_idades '!Y11","v":0.19917613083964078},{"$f":"'Desempregados_idades '!W11/'Desempregados_idades '!Y11","v":0.48763836176786191},{"$f":"'Desempregados_idades '!X11/'Desempregados_idades '!Y11","v":0.21596318514730983}]
[null,"Distrito de Lisboa",{"$f":"'Desempregados_idades '!C12/'Desempregados_idades '!G12","v":0.11312989045383412},{"$f":"'Desempregados_idades '!D12/'Desempregados_idades '!G12","v":0.2135602503912363},{"$f":"'Desempregados_idades '!E12/'Desempregados_idades '!G12","v":0.48299687010954617},{"$f":"'Desempregados_idades '!F12/'Desempregados_idades '!G12","v":0.19031298904538341},null,{"$f":"'Desempregados_idades '!I12/'Desempregados_idades '!M12","v":9.4720873786407769E-2},{"$f":"'Desempregados_idades '!J12/'Desempregados_idades '!M12","v":0.1968880027739251},{"$f":"'Desempregados_idades '!K12/'Desempregados_idades '!M12","v":0.50000866851595005},{"$f":"'Desempregados_idades '!L12/'Desempregados_idades '!M12","v":0.20838245492371707},null,{"$f":"'Desempregados_idades '!O12/'Desempregados_idades '!S12","v":0.10218074047861282},{"$f":"'Desempregados_idades '!P12/'Desempregados_idades '!S12","v":0.1965851285000221},{"$f":"'Desempregados_idades '!Q12/'Desempregados_idades '!S12","v":0.4899102048038218},{"$f":"'Desempregados_idades '!R12/'Desempregados_idades '!S12","v":0.21132392621754323},null,{"$f":"'Desempregados_idades '!U12/'Desempregados_idades '!Y12","v":9.7336289839073456E-2},{"$f":"'Desempregados_idades '!V12/'Desempregados_idades '!Y12","v":0.197089808620181},{"$f":"'Desempregados_idades '!W12/'Desempregados_idades '!Y12","v":0.48710018176800313},{"$f":"'Desempregados_idades '!X12/'Desempregados_idades '!Y12","v":0.21847371977274241}]
[null,"Concelho de Lisboa",{"$f":"'Desempregados_idades '!C13/'Desempregados_idades '!G13","v":0.11263622974963181},{"$f":"'Desempregados_idades '!D13/'Desempregados_idades '!G13","v":0.23086892488954344},{"$f":"'Desempregados_idades '!E13/'Desempregados_idades '!G13","v":0.4692783505154639},{"$f":"'Desempregados_idades '!F13/'Desempregados_idades '!G13","v":0.18721649484536082},null,{"$f":"'Desempregados_idades '!I13/'Desempregados_idades '!M13","v":9.8081365503080081E-2},{"$f":"'Desempregados_idades '!J13/'Desempregados_idades '!M13","v":0.20934933264887062},{"$f":"'Desempregados_idades '!K13/'Desempregados_idades '!M13","v":0.49002181724845995},{"$f":"'Desempregados_idades '!L13/'Desempregados_idades '!M13","v":0.20254748459958932},null,{"$f":"'Desempregados_idades '!O13/'Desempregados_idades '!S13","v":0.10100910495348914},{"$f":"'Desempregados_idades '!P13/'Desempregados_idades '!S13","v":0.20997271800940079},{"$f":"'Desempregados_idades '!Q13/'Desempregados_idades '!S13","v":0.48262827466061858},{"$f":"'Desempregados_idades '!R13/'Desempregados_idades '!S13","v":0.20638990237649146},null,{"$f":"'Desempregados_idades '!U13/'Desempregados_idades '!Y13","v":9.0327065193531869E-2},{"$f":"'Desempregados_idades '!V13/'Desempregados_idades '!Y13","v":0.20981195580595596},{"$f":"'Desempregados_idades '!W13/'Desempregados_idades '!Y13","v":0.47654935245481816},{"$f":"'Desempregados_idades '!X13/'Desempregados_idades '!Y13","v":0.223311626545694}]
[null,"Ajuda",{"$f":"'Desempregados_idades '!C14/'Desempregados_idades '!G14","v":0.13557594291539246},{"$f":"'Desempregados_idades '!D14/'Desempregados_idades '!G14","v":0.23343527013251783},{"$f":"'Desempregados_idades '!E14/'Desempregados_idades '!G14","v":0.47706422018348627},{"$f":"'Desempregados_idades '!F14/'Desempregados_idades '!G14","v":0.15392456676860347},null,{"$f":"'Desempregados_idades '!I14/'Desempregados_idades '!M14","v":0.12790697674418605},{"$f":"'Desempregados_idades '!J14/'Desempregados_idades '!M14","v":0.21141649048625794},{"$f":"'Desempregados_idades '!K14/'Desempregados_idades '!M14","v":0.4978858350951374},{"$f":"'Desempregados_idades '!L14/'Desempregados_idades '!M14","v":0.16279069767441862},null,{"$f":"'Desempregados_idades '!O14/'Desempregados_idades '!S14","v":0.11813471502590674},{"$f":"'Desempregados_idades '!P14/'Desempregados_idades '!S14","v":0.22072538860103627},{"$f":"'Desempregados_idades '!Q14/'Desempregados_idades '!S14","v":0.49326424870466323},{"$f":"'Desempregados_idades '!R14/'Desempregados_idades '!S14","v":0.16787564766839377},null,{"$f":"'Desempregados_idades '!U14/'Desempregados_idades '!Y14","v":0.10035419126328217},{"$f":"'Desempregados_idades '!V14/'Desempregados_idades '!Y14","v":0.21723730814639905},{"$f":"'Desempregados_idades '!W14/'Desempregados_idades '!Y14","v":0.50295159386068478},{"$f":"'Desempregados_idades '!X14/'Desempregados_idades '!Y14","v":0.17945690672963399}]
[null,"Alcântara",{"$f":"'Desempregados_idades '!C15/'Desempregados_idades '!G15","v":0.11267605633802817},{"$f":"'Desempregados_idades '!D15/'Desempregados_idades '!G15","v":0.22183098591549297},{"$f":"'Desempregados_idades '!E15/'Desempregados_idades '!G15","v":0.50117370892018775},{"$f":"'Desempregados_idades '!F15/'Desempregados_idades '!G15","v":0.16431924882629109},null,{"$f":"'Desempregados_idades '!I15/'Desempregados_idades '!M15","v":9.0791180285343706E-2},{"$f":"'Desempregados_idades '!J15/'Desempregados_idades '!M15","v":0.20622568093385213},{"$f":"'Desempregados_idades '!K15/'Desempregados_idades '!M15","v":0.52269779507133596},{"$f":"'Desempregados_idades '!L15/'Desempregados_idades '!M15","v":0.18028534370946822},null,{"$f":"'Desempregados_idades '!O15/'Desempregados_idades '!S15","v":9.4540612516644473E-2},{"$f":"'Desempregados_idades '!P15/'Desempregados_idades '!S15","v":0.20639147802929428},{"$f":"'Desempregados_idades '!Q15/'Desempregados_idades '!S15","v":0.51664447403462055},{"$f":"'Desempregados_idades '!R15/'Desempregados_idades '!S15","v":0.18242343541944075},null,{"$f":"'Desempregados_idades '!U15/'Desempregados_idades '!Y15","v":8.3333333333333329E-2},{"$f":"'Desempregados_idades '!V15/'Desempregados_idades '!Y15","v":0.22727272727272727},{"$f":"'Desempregados_idades '!W15/'Desempregados_idades '!Y15","v":0.47727272727272729},{"$f":"'Desempregados_idades '!X15/'Desempregados_idades '!Y15","v":0.21212121212121213}]
[null,"Alvalade",{"$f":"'Desempregados_idades '!C16/'Desempregados_idades '!G16","v":0.10526315789473684},{"$f":"'Desempregados_idades '!D16/'Desempregados_idades '!G16","v":0.22160664819944598},{"$f":"'Desempregados_idades '!E16/'Desempregados_idades '!G16","v":0.49238227146814406},{"$f":"'Desempregados_idades '!F16/'Desempregados_idades '!G16","v":0.18074792243767313},null,{"$f":"'Desempregados_idades '!I16/'Desempregados_idades '!M16","v":7.6612903225806453E-2},{"$f":"'Desempregados_idades '!J16/'Desempregados_idades '!M16","v":0.20080645161290323},{"$f":"'Desempregados_idades '!K16/'Desempregados_idades '!M16","v":0.51774193548387093},{"$f":"'Desempregados_idades '!L16/'Desempregados_idades '!M16","v":0.20483870967741935},null,{"$f":"'Desempregados_idades '!O16/'Desempregados_idades '!S16","v":9.0834697217675939E-2},{"$f":"'Desempregados_idades '!P16/'Desempregados_idades '!S16","v":0.19967266775777415},{"$f":"'Desempregados_idades '!Q16/'Desempregados_idades '!S16","v":0.50245499181669395},{"$f":"'Desempregados_idades '!R16/'Desempregados_idades '!S16","v":0.20703764320785598},null,{"$f":"'Desempregados_idades '!U16/'Desempregados_idades '!Y16","v":9.2264678471575018E-2},{"$f":"'Desempregados_idades '!V16/'Desempregados_idades '!Y16","v":0.21342031686859272},{"$f":"'Desempregados_idades '!W16/'Desempregados_idades '!Y16","v":0.4762348555452004},{"$f":"'Desempregados_idades '!X16/'Desempregados_idades '!Y16","v":0.21808014911463186}]
[null,"Areeiro",{"$f":"'Desempregados_idades '!C17/'Desempregados_idades '!G17","v":0.10456942003514938},{"$f":"'Desempregados_idades '!D17/'Desempregados_idades '!G17","v":0.22847100175746923},{"$f":"'Desempregados_idades '!E17/'Desempregados_idades '!G17","v":0.44815465729349735},{"$f":"'Desempregados_idades '!F17/'Desempregados_idades '!G17","v":0.21880492091388401},null,{"$f":"'Desempregados_idades '!I17/'Desempregados_idades '!M17","v":9.3596059113300489E-2},{"$f":"'Desempregados_idades '!J17/'Desempregados_idades '!M17","v":0.21182266009852216},{"$f":"'Desempregados_idades '!K17/'Desempregados_idades '!M17","v":0.44630541871921181},{"$f":"'Desempregados_idades '!L17/'Desempregados_idades '!M17","v":0.24827586206896551},null,{"$f":"'Desempregados_idades '!O17/'Desempregados_idades '!S17","v":9.5477386934673364E-2},{"$f":"'Desempregados_idades '!P17/'Desempregados_idades '!S17","v":0.23115577889447236},{"$f":"'Desempregados_idades '!Q17/'Desempregados_idades '!S17","v":0.44723618090452261},{"$f":"'Desempregados_idades '!R17/'Desempregados_idades '!S17","v":0.22613065326633167},null,{"$f":"'Desempregados_idades '!U17/'Desempregados_idades '!Y17","v":9.1212458286985543E-2},{"$f":"'Desempregados_idades '!V17/'Desempregados_idades '!Y17","v":0.24026696329254726},{"$f":"'Desempregados_idades '!W17/'Desempregados_idades '!Y17","v":0.41379310344827586},{"$f":"'Desempregados_idades '!X17/'Desempregados_idades '!Y17","v":0.25472747497219134}]
[null,"Arroios",{"$f":"'Desempregados_idades '!C18/'Desempregados_idades '!G18","v":9.2600080873433077E-2},{"$f":"'Desempregados_idades '!D18/'Desempregados_idades '!G18","v":0.23331985442782047},{"$f":"'Desempregados_idades '!E18/'Desempregados_idades '!G18","v":0.49332794177112821},{"$f":"'Desempregados_idades '!F18/'Desempregados_idades '!G18","v":0.18075212292761828},null,{"$f":"'Desempregados_idades '!I18/'Desempregados_idades '!M18","v":7.2100313479623826E-2},{"$f":"'Desempregados_idades '!J18/'Desempregados_idades '!M18","v":0.21406180026869681},{"$f":"'Desempregados_idades '!K18/'Desempregados_idades '!M18","v":0.51365875503806535},{"$f":"'Desempregados_idades '!L18/'Desempregados_idades '!M18","v":0.20017913121361397},null,{"$f":"'Desempregados_idades '!O18/'Desempregados_idades '!S18","v":7.5104311543810851E-2},{"$f":"'Desempregados_idades '!P18/'Desempregados_idades '!S18","v":0.21511358368103847},{"$f":"'Desempregados_idades '!Q18/'Desempregados_idades '!S18","v":0.49930458970792768},{"$f":"'Desempregados_idades '!R18/'Desempregados_idades '!S18","v":0.21047751506722298},null,{"$f":"'Desempregados_idades '!U18/'Desempregados_idades '!Y18","v":6.782253952065273E-2},{"$f":"'Desempregados_idades '!V18/'Desempregados_idades '!Y18","v":0.20601733809280978},{"$f":"'Desempregados_idades '!W18/'Desempregados_idades '!Y18","v":0.49362570117287097},{"$f":"'Desempregados_idades '!X18/'Desempregados_idades '!Y18","v":0.23253442121366649}]
[null,"Avenidas Novas",{"$f":"'Desempregados_idades '!C19/'Desempregados_idades '!G19","v":0.1164021164021164},{"$f":"'Desempregados_idades '!D19/'Desempregados_idades '!G19","v":0.26014109347442682},{"$f":"'Desempregados_idades '!E19/'Desempregados_idades '!G19","v":0.42416225749559083},{"$f":"'Desempregados_idades '!F19/'Desempregados_idades '!G19","v":0.19929453262786595},null,{"$f":"'Desempregados_idades '!I19/'Desempregados_idades '!M19","v":9.8911968348170135E-2},{"$f":"'Desempregados_idades '!J19/'Desempregados_idades '!M19","v":0.21167161226508407},{"$f":"'Desempregados_idades '!K19/'Desempregados_idades '!M19","v":0.4638971315529179},{"$f":"'Desempregados_idades '!L19/'Desempregados_idades '!M19","v":0.22551928783382788},null,{"$f":"'Desempregados_idades '!O19/'Desempregados_idades '!S19","v":0.1143141153081511},{"$f":"'Desempregados_idades '!P19/'Desempregados_idades '!S19","v":0.22067594433399601},{"$f":"'Desempregados_idades '!Q19/'Desempregados_idades '!S19","v":0.44831013916500995},{"$f":"'Desempregados_idades '!R19/'Desempregados_idades '!S19","v":0.21669980119284293},null,{"$f":"'Desempregados_idades '!U19/'Desempregados_idades '!Y19","v":9.8654708520179366E-2},{"$f":"'Desempregados_idades '!V19/'Desempregados_idades '!Y19","v":0.22421524663677131},{"$f":"'Desempregados_idades '!W19/'Desempregados_idades '!Y19","v":0.4226457399103139},{"$f":"'Desempregados_idades '!X19/'Desempregados_idades '!Y19","v":0.25448430493273544}]
[null,"Beato",{"$f":"'Desempregados_idades '!C20/'Desempregados_idades '!G20","v":0.12588652482269502},{"$f":"'Desempregados_idades '!D20/'Desempregados_idades '!G20","v":0.20656028368794327},{"$f":"'Desempregados_idades '!E20/'Desempregados_idades '!G20","v":0.4725177304964539},{"$f":"'Desempregados_idades '!F20/'Desempregados_idades '!G20","v":0.19503546099290781},null,{"$f":"'Desempregados_idades '!I20/'Desempregados_idades '!M20","v":0.10734463276836158},{"$f":"'Desempregados_idades '!J20/'Desempregados_idades '!M20","v":0.19868173258003766},{"$f":"'Desempregados_idades '!K20/'Desempregados_idades '!M20","v":0.4792843691148776},{"$f":"'Desempregados_idades '!L20/'Desempregados_idades '!M20","v":0.21468926553672316},null,{"$f":"'Desempregados_idades '!O20/'Desempregados_idades '!S20","v":9.330628803245436E-2},{"$f":"'Desempregados_idades '!P20/'Desempregados_idades '!S20","v":0.18052738336713997},{"$f":"'Desempregados_idades '!Q20/'Desempregados_idades '!S20","v":0.50405679513184587},{"$f":"'Desempregados_idades '!R20/'Desempregados_idades '!S20","v":0.22210953346855983},null,{"$f":"'Desempregados_idades '!U20/'Desempregados_idades '!Y20","v":8.9366515837104074E-2},{"$f":"'Desempregados_idades '!V20/'Desempregados_idades '!Y20","v":0.17081447963800905},{"$f":"'Desempregados_idades '!W20/'Desempregados_idades '!Y20","v":0.51244343891402711},{"$f":"'Desempregados_idades '!X20/'Desempregados_idades '!Y20","v":0.22737556561085973}]
[null,"Belém",{"$f":"'Desempregados_idades '!C21/'Desempregados_idades '!G21","v":8.9552238805970144E-2},{"$f":"'Desempregados_idades '!D21/'Desempregados_idades '!G21","v":0.19776119402985073},{"$f":"'Desempregados_idades '!E21/'Desempregados_idades '!G21","v":0.54104477611940294},{"$f":"'Desempregados_idades '!F21/'Desempregados_idades '!G21","v":0.17164179104477612},null,{"$f":"'Desempregados_idades '!I21/'Desempregados_idades '!M21","v":8.3333333333333329E-2},{"$f":"'Desempregados_idades '!J21/'Desempregados_idades '!M21","v":0.17499999999999999},{"$f":"'Desempregados_idades '!K21/'Desempregados_idades '!M21","v":0.54583333333333328},{"$f":"'Desempregados_idades '!L21/'Desempregados_idades '!M21","v":0.19583333333333333},null,{"$f":"'Desempregados_idades '!O21/'Desempregados_idades '!S21","v":8.7398373983739841E-2},{"$f":"'Desempregados_idades '!P21/'Desempregados_idades '!S21","v":0.20121951219512196},{"$f":"'Desempregados_idades '!Q21/'Desempregados_idades '!S21","v":0.51829268292682928},{"$f":"'Desempregados_idades '!R21/'Desempregados_idades '!S21","v":0.19308943089430894},null,{"$f":"'Desempregados_idades '!U21/'Desempregados_idades '!Y21","v":7.4162679425837319E-2},{"$f":"'Desempregados_idades '!V21/'Desempregados_idades '!Y21","v":0.21531100478468901},{"$f":"'Desempregados_idades '!W21/'Desempregados_idades '!Y21","v":0.5},{"$f":"'Desempregados_idades '!X21/'Desempregados_idades '!Y21","v":0.21052631578947367}]
[null,"Benfica",{"$f":"'Desempregados_idades '!C22/'Desempregados_idades '!G22","v":0.10243055555555555},{"$f":"'Desempregados_idades '!D22/'Desempregados_idades '!G22","v":0.2282986111111111},{"$f":"'Desempregados_idades '!E22/'Desempregados_idades '!G22","v":0.4822048611111111},{"$f":"'Desempregados_idades '!F22/'Desempregados_idades '!G22","v":0.18706597222222221},null,{"$f":"'Desempregados_idades '!I22/'Desempregados_idades '!M22","v":8.9269195189639217E-2},{"$f":"'Desempregados_idades '!J22/'Desempregados_idades '!M22","v":0.20999074930619796},{"$f":"'Desempregados_idades '!K22/'Desempregados_idades '!M22","v":0.5},{"$f":"'Desempregados_idades '!L22/'Desempregados_idades '!M22","v":0.20074005550416282},null,{"$f":"'Desempregados_idades '!O22/'Desempregados_idades '!S22","v":0.10284573140289566},{"$f":"'Desempregados_idades '!P22/'Desempregados_idades '!S22","v":0.20768846729905141},{"$f":"'Desempregados_idades '!Q22/'Desempregados_idades '!S22","v":0.48277583624563153},{"$f":"'Desempregados_idades '!R22/'Desempregados_idades '!S22","v":0.20668996505242138},null,{"$f":"'Desempregados_idades '!U22/'Desempregados_idades '!Y22","v":9.1326530612244897E-2},{"$f":"'Desempregados_idades '!V22/'Desempregados_idades '!Y22","v":0.20765306122448979},{"$f":"'Desempregados_idades '!W22/'Desempregados_idades '!Y22","v":0.48469387755102039},{"$f":"'Desempregados_idades '!X22/'Desempregados_idades '!Y22","v":0.21632653061224491}]
[null,"Campo de Ourique",{"$f":"'Desempregados_idades '!C23/'Desempregados_idades '!G23","v":9.7426470588235295E-2},{"$f":"'Desempregados_idades '!D23/'Desempregados_idades '!G23","v":0.21691176470588236},{"$f":"'Desempregados_idades '!E23/'Desempregados_idades '!G23","v":0.47518382352941174},{"$f":"'Desempregados_idades '!F23/'Desempregados_idades '!G23","v":0.21047794117647059},null,{"$f":"'Desempregados_idades '!I23/'Desempregados_idades '!M23","v":8.624031007751938E-2},{"$f":"'Desempregados_idades '!J23/'Desempregados_idades '!M23","v":0.21124031007751937},{"$f":"'Desempregados_idades '!K23/'Desempregados_idades '!M23","v":0.47189922480620156},{"$f":"'Desempregados_idades '!L23/'Desempregados_idades '!M23","v":0.23062015503875968},null,{"$f":"'Desempregados_idades '!O23/'Desempregados_idades '!S23","v":7.7145612343297976E-2},{"$f":"'Desempregados_idades '!P23/'Desempregados_idades '!S23","v":0.19961427193828352},{"$f":"'Desempregados_idades '!Q23/'Desempregados_idades '!S23","v":0.48312439729990359},{"$f":"'Desempregados_idades '!R23/'Desempregados_idades '!S23","v":0.24011571841851495},null,{"$f":"'Desempregados_idades '!U23/'Desempregados_idades '!Y23","v":5.4979253112033194E-2},{"$f":"'Desempregados_idades '!V23/'Desempregados_idades '!Y23","v":0.19294605809128632},{"$f":"'Desempregados_idades '!W23/'Desempregados_idades '!Y23","v":0.49066390041493774},{"$f":"'Desempregados_idades '!X23/'Desempregados_idades '!Y23","v":0.26141078838174275}]
[null,"Campolide",{"$f":"'Desempregados_idades '!C24/'Desempregados_idades '!G24","v":0.10710382513661203},{"$f":"'Desempregados_idades '!D24/'Desempregados_idades '!G24","v":0.21530054644808744},{"$f":"'Desempregados_idades '!E24/'Desempregados_idades '!G24","v":0.49180327868852458},{"$f":"'Desempregados_idades '!F24/'Desempregados_idades '!G24","v":0.18579234972677597},null,{"$f":"'Desempregados_idades '!I24/'Desempregados_idades '!M24","v":0.10435931307793923},{"$f":"'Desempregados_idades '!J24/'Desempregados_idades '!M24","v":0.16248348745046234},{"$f":"'Desempregados_idades '!K24/'Desempregados_idades '!M24","v":0.51519154557463676},{"$f":"'Desempregados_idades '!L24/'Desempregados_idades '!M24","v":0.21796565389696168},null,{"$f":"'Desempregados_idades '!O24/'Desempregados_idades '!S24","v":9.5730918499353168E-2},{"$f":"'Desempregados_idades '!P24/'Desempregados_idades '!S24","v":0.18887451487710219},{"$f":"'Desempregados_idades '!Q24/'Desempregados_idades '!S24","v":0.50323415265200522},{"$f":"'Desempregados_idades '!R24/'Desempregados_idades '!S24","v":0.21216041397153945},null,{"$f":"'Desempregados_idades '!U24/'Desempregados_idades '!Y24","v":7.5471698113207544E-2},{"$f":"'Desempregados_idades '!V24/'Desempregados_idades '!Y24","v":0.16307277628032346},{"$f":"'Desempregados_idades '!W24/'Desempregados_idades '!Y24","v":0.52291105121293802},{"$f":"'Desempregados_idades '!X24/'Desempregados_idades '!Y24","v":0.23854447439353099}]
[null,"Carnide",{"$f":"'Desempregados_idades '!C25/'Desempregados_idades '!G25","v":0.14552845528455285},{"$f":"'Desempregados_idades '!D25/'Desempregados_idades '!G25","v":0.22764227642276422},{"$f":"'Desempregados_idades '!E25/'Desempregados_idades '!G25","v":0.43252032520325201},{"$f":"'Desempregados_idades '!F25/'Desempregados_idades '!G25","v":0.19430894308943089},null,{"$f":"'Desempregados_idades '!I25/'Desempregados_idades '!M25","v":0.13651877133105803},{"$f":"'Desempregados_idades '!J25/'Desempregados_idades '!M25","v":0.20733788395904437},{"$f":"'Desempregados_idades '!K25/'Desempregados_idades '!M25","v":0.45819112627986347},{"$f":"'Desempregados_idades '!L25/'Desempregados_idades '!M25","v":0.19795221843003413},null,{"$f":"'Desempregados_idades '!O25/'Desempregados_idades '!S25","v":0.13054830287206268},{"$f":"'Desempregados_idades '!P25/'Desempregados_idades '!S25","v":0.2175805047867711},{"$f":"'Desempregados_idades '!Q25/'Desempregados_idades '!S25","v":0.44473455178416016},{"$f":"'Desempregados_idades '!R25/'Desempregados_idades '!S25","v":0.20713664055700609},null,{"$f":"'Desempregados_idades '!U25/'Desempregados_idades '!Y25","v":0.12033582089552239},{"$f":"'Desempregados_idades '!V25/'Desempregados_idades '!Y25","v":0.19776119402985073},{"$f":"'Desempregados_idades '!W25/'Desempregados_idades '!Y25","v":0.45895522388059701},{"$f":"'Desempregados_idades '!X25/'Desempregados_idades '!Y25","v":0.22294776119402984}]
[null,"Estrela",{"$f":"'Desempregados_idades '!C26/'Desempregados_idades '!G26","v":8.7292817679558016E-2},{"$f":"'Desempregados_idades '!D26/'Desempregados_idades '!G26","v":0.19668508287292819},{"$f":"'Desempregados_idades '!E26/'Desempregados_idades '!G26","v":0.49060773480662984},{"$f":"'Desempregados_idades '!F26/'Desempregados_idades '!G26","v":0.22541436464088399},null,{"$f":"'Desempregados_idades '!I26/'Desempregados_idades '!M26","v":7.8199052132701424E-2},{"$f":"'Desempregados_idades '!J26/'Desempregados_idades '!M26","v":0.16706161137440759},{"$f":"'Desempregados_idades '!K26/'Desempregados_idades '!M26","v":0.52488151658767768},{"$f":"'Desempregados_idades '!L26/'Desempregados_idades '!M26","v":0.22985781990521326},null,{"$f":"'Desempregados_idades '!O26/'Desempregados_idades '!S26","v":9.1448931116389548E-2},{"$f":"'Desempregados_idades '!P26/'Desempregados_idades '!S26","v":0.18408551068883611},{"$f":"'Desempregados_idades '!Q26/'Desempregados_idades '!S26","v":0.49168646080760092},{"$f":"'Desempregados_idades '!R26/'Desempregados_idades '!S26","v":0.23277909738717339},null,{"$f":"'Desempregados_idades '!U26/'Desempregados_idades '!Y26","v":7.9407806191117092E-2},{"$f":"'Desempregados_idades '!V26/'Desempregados_idades '!Y26","v":0.19919246298788695},{"$f":"'Desempregados_idades '!W26/'Desempregados_idades '!Y26","v":0.46029609690444145},{"$f":"'Desempregados_idades '!X26/'Desempregados_idades '!Y26","v":0.2611036339165545}]
[null,"Lumiar",{"$f":"'Desempregados_idades '!C27/'Desempregados_idades '!G27","v":0.11434977578475336},{"$f":"'Desempregados_idades '!D27/'Desempregados_idades '!G27","v":0.25874439461883408},{"$f":"'Desempregados_idades '!E27/'Desempregados_idades '!G27","v":0.45201793721973094},{"$f":"'Desempregados_idades '!F27/'Desempregados_idades '!G27","v":0.17488789237668162},null,{"$f":"'Desempregados_idades '!I27/'Desempregados_idades '!M27","v":9.8577734183423249E-2},{"$f":"'Desempregados_idades '!J27/'Desempregados_idades '!M27","v":0.23688082393330065},{"$f":"'Desempregados_idades '!K27/'Desempregados_idades '!M27","v":0.4737616478666013},{"$f":"'Desempregados_idades '!L27/'Desempregados_idades '!M27","v":0.19077979401667483},null,{"$f":"'Desempregados_idades '!O27/'Desempregados_idades '!S27","v":0.10734177215189873},{"$f":"'Desempregados_idades '!P27/'Desempregados_idades '!S27","v":0.20911392405063292},{"$f":"'Desempregados_idades '!Q27/'Desempregados_idades '!S27","v":0.4941772151898734},{"$f":"'Desempregados_idades '!R27/'Desempregados_idades '!S27","v":0.18936708860759494},null,{"$f":"'Desempregados_idades '!U27/'Desempregados_idades '!Y27","v":9.1787439613526575E-2},{"$f":"'Desempregados_idades '!V27/'Desempregados_idades '!Y27","v":0.22544283413848631},{"$f":"'Desempregados_idades '!W27/'Desempregados_idades '!Y27","v":0.48309178743961351},{"$f":"'Desempregados_idades '!X27/'Desempregados_idades '!Y27","v":0.19967793880837359}]
[null,"Marvila",{"$f":"'Desempregados_idades '!C28/'Desempregados_idades '!G28","v":0.14362818590704649},{"$f":"'Desempregados_idades '!D28/'Desempregados_idades '!G28","v":0.21799100449775113},{"$f":"'Desempregados_idades '!E28/'Desempregados_idades '!G28","v":0.44767616191904047},{"$f":"'Desempregados_idades '!F28/'Desempregados_idades '!G28","v":0.19070464767616191},null,{"$f":"'Desempregados_idades '!I28/'Desempregados_idades '!M28","v":0.11871095034528116},{"$f":"'Desempregados_idades '!J28/'Desempregados_idades '!M28","v":0.20815521210128246},{"$f":"'Desempregados_idades '!K28/'Desempregados_idades '!M28","v":0.46859585662610981},{"$f":"'Desempregados_idades '!L28/'Desempregados_idades '!M28","v":0.20453798092732653},null,{"$f":"'Desempregados_idades '!O28/'Desempregados_idades '!S28","v":0.1269571136827774},{"$f":"'Desempregados_idades '!P28/'Desempregados_idades '!S28","v":0.20524166099387339},{"$f":"'Desempregados_idades '!Q28/'Desempregados_idades '!S28","v":0.4482641252552757},{"$f":"'Desempregados_idades '!R28/'Desempregados_idades '!S28","v":0.21953710006807353},null,{"$f":"'Desempregados_idades '!U28/'Desempregados_idades '!Y28","v":0.10415841584158415},{"$f":"'Desempregados_idades '!V28/'Desempregados_idades '!Y28","v":0.20198019801980199},{"$f":"'Desempregados_idades '!W28/'Desempregados_idades '!Y28","v":0.4510891089108911},{"$f":"'Desempregados_idades '!X28/'Desempregados_idades '!Y28","v":0.24277227722772277}]
[null,"Misericórdia",{"$f":"'Desempregados_idades '!C29/'Desempregados_idades '!G29","v":0.1},{"$f":"'Desempregados_idades '!D29/'Desempregados_idades '!G29","v":0.25054945054945055},{"$f":"'Desempregados_idades '!E29/'Desempregados_idades '!G29","v":0.45824175824175822},{"$f":"'Desempregados_idades '!F29/'Desempregados_idades '!G29","v":0.1912087912087912},null,{"$f":"'Desempregados_idades '!I29/'Desempregados_idades '!M29","v":8.353510895883777E-2},{"$f":"'Desempregados_idades '!J29/'Desempregados_idades '!M29","v":0.20217917675544794},{"$f":"'Desempregados_idades '!K29/'Desempregados_idades '!M29","v":0.50363196125907994},{"$f":"'Desempregados_idades '!L29/'Desempregados_idades '!M29","v":0.21065375302663439},null,{"$f":"'Desempregados_idades '!O29/'Desempregados_idades '!S29","v":6.3144329896907214E-2},{"$f":"'Desempregados_idades '!P29/'Desempregados_idades '!S29","v":0.22164948453608246},{"$f":"'Desempregados_idades '!Q29/'Desempregados_idades '!S29","v":0.49613402061855671},{"$f":"'Desempregados_idades '!R29/'Desempregados_idades '!S29","v":0.21907216494845361},null,{"$f":"'Desempregados_idades '!U29/'Desempregados_idades '!Y29","v":6.0308555399719493E-2},{"$f":"'Desempregados_idades '!V29/'Desempregados_idades '!Y29","v":0.2244039270687237},{"$f":"'Desempregados_idades '!W29/'Desempregados_idades '!Y29","v":0.4838709677419355},{"$f":"'Desempregados_idades '!X29/'Desempregados_idades '!Y29","v":0.23141654978962131}]
[null,"Olivais",{"$f":"'Desempregados_idades '!C30/'Desempregados_idades '!G30","v":0.24870466321243523},{"$f":"'Desempregados_idades '!D30/'Desempregados_idades '!G30","v":0.23834196891191708},{"$f":"'Desempregados_idades '!E30/'Desempregados_idades '!G30","v":0.41968911917098445},{"$f":"'Desempregados_idades '!F30/'Desempregados_idades '!G30","v":9.3264248704663211E-2},null,{"$f":"'Desempregados_idades '!I30/'Desempregados_idades '!M30","v":0.23323615160349853},{"$f":"'Desempregados_idades '!J30/'Desempregados_idades '!M30","v":0.23615160349854228},{"$f":"'Desempregados_idades '!K30/'Desempregados_idades '!M30","v":0.39067055393586003},{"$f":"'Desempregados_idades '!L30/'Desempregados_idades '!M30","v":0.13994169096209913},null,{"$f":"'Desempregados_idades '!O30/'Desempregados_idades '!S30","v":0.2264957264957265},{"$f":"'Desempregados_idades '!P30/'Desempregados_idades '!S30","v":0.23504273504273504},{"$f":"'Desempregados_idades '!Q30/'Desempregados_idades '!S30","v":0.40384615384615385},{"$f":"'Desempregados_idades '!R30/'Desempregados_idades '!S30","v":0.13461538461538461},null,{"$f":"'Desempregados_idades '!U30/'Desempregados_idades '!Y30","v":0.17122040072859745},{"$f":"'Desempregados_idades '!V30/'Desempregados_idades '!Y30","v":0.24954462659380691},{"$f":"'Desempregados_idades '!W30/'Desempregados_idades '!Y30","v":0.42805100182149364},{"$f":"'Desempregados_idades '!X30/'Desempregados_idades '!Y30","v":0.151183970856102}]
[null,"Parque das Nações",{"$f":"'Desempregados_idades '!C31/'Desempregados_idades '!G31","v":0.11790552911021604},{"$f":"'Desempregados_idades '!D31/'Desempregados_idades '!G31","v":0.21713658000732333},{"$f":"'Desempregados_idades '!E31/'Desempregados_idades '!G31","v":0.47381911387770048},{"$f":"'Desempregados_idades '!F31/'Desempregados_idades '!G31","v":0.19113877700476017},null,{"$f":"'Desempregados_idades '!I31/'Desempregados_idades '!M31","v":9.5374539500614003E-2},{"$f":"'Desempregados_idades '!J31/'Desempregados_idades '!M31","v":0.19729840360212852},{"$f":"'Desempregados_idades '!K31/'Desempregados_idades '!M31","v":0.50675399099467866},{"$f":"'Desempregados_idades '!L31/'Desempregados_idades '!M31","v":0.20057306590257878}," -",{"$f":"'Desempregados_idades '!O31/'Desempregados_idades '!S31","v":8.4649122807017543E-2},{"$f":"'Desempregados_idades '!P31/'Desempregados_idades '!S31","v":0.19473684210526315},{"$f":"'Desempregados_idades '!Q31/'Desempregados_idades '!S31","v":0.50701754385964914},{"$f":"'Desempregados_idades '!R31/'Desempregados_idades '!S31","v":0.21359649122807017}," -",{"$f":"'Desempregados_idades '!U31/'Desempregados_idades '!Y31","v":7.5533661740558297E-2},{"$f":"'Desempregados_idades '!V31/'Desempregados_idades '!Y31","v":0.18609742747673783},{"$f":"'Desempregados_idades '!W31/'Desempregados_idades '!Y31","v":0.49480021893814996},{"$f":"'Desempregados_idades '!X31/'Desempregados_idades '!Y31","v":0.2435686918445539}]
[null,"Penha de França",{"$f":"'Desempregados_idades '!C32/'Desempregados_idades '!G32","v":8.7394067796610173E-2},{"$f":"'Desempregados_idades '!D32/'Desempregados_idades '!G32","v":0.2478813559322034},{"$f":"'Desempregados_idades '!E32/'Desempregados_idades '!G32","v":0.47192796610169491},{"$f":"'Desempregados_idades '!F32/'Desempregados_idades '!G32","v":0.19279661016949154},null,{"$f":"'Desempregados_idades '!I32/'Desempregados_idades '!M32","v":8.0046403712296987E-2},{"$f":"'Desempregados_idades '!J32/'Desempregados_idades '!M32","v":0.22621809744779584},{"$f":"'Desempregados_idades '!K32/'Desempregados_idades '!M32","v":0.49129930394431554},{"$f":"'Desempregados_idades '!L32/'Desempregados_idades '!M32","v":0.20243619489559164},null,{"$f":"'Desempregados_idades '!O32/'Desempregados_idades '!S32","v":9.2549476135040748E-2},{"$f":"'Desempregados_idades '!P32/'Desempregados_idades '!S32","v":0.22351571594877764},{"$f":"'Desempregados_idades '!Q32/'Desempregados_idades '!S32","v":0.48894062863795112},{"$f":"'Desempregados_idades '!R32/'Desempregados_idades '!S32","v":0.19499417927823051},null,{"$f":"'Desempregados_idades '!U32/'Desempregados_idades '!Y32","v":8.8430851063829793E-2},{"$f":"'Desempregados_idades '!V32/'Desempregados_idades '!Y32","v":0.22074468085106383},{"$f":"'Desempregados_idades '!W32/'Desempregados_idades '!Y32","v":0.4853723404255319},{"$f":"'Desempregados_idades '!X32/'Desempregados_idades '!Y32","v":0.20545212765957446}]
[null,"Santa Clara",{"$f":"'Desempregados_idades '!C33/'Desempregados_idades '!G33","v":0.13533487297921479},{"$f":"'Desempregados_idades '!D33/'Desempregados_idades '!G33","v":0.25496535796766745},{"$f":"'Desempregados_idades '!E33/'Desempregados_idades '!G33","v":0.45542725173210163},{"$f":"'Desempregados_idades '!F33/'Desempregados_idades '!G33","v":0.15427251732101616},null,{"$f":"'Desempregados_idades '!I33/'Desempregados_idades '!M33","v":0.13225963884821865},{"$f":"'Desempregados_idades '!J33/'Desempregados_idades '!M33","v":0.23133235724743778},{"$f":"'Desempregados_idades '!K33/'Desempregados_idades '!M33","v":0.46900927281600779},{"$f":"'Desempregados_idades '!L33/'Desempregados_idades '!M33","v":0.16739873108833578},null,{"$f":"'Desempregados_idades '!O33/'Desempregados_idades '!S33","v":0.13474827245804541},{"$f":"'Desempregados_idades '!P33/'Desempregados_idades '!S33","v":0.23593287265547877},{"$f":"'Desempregados_idades '!Q33/'Desempregados_idades '!S33","v":0.45903257650542939},{"$f":"'Desempregados_idades '!R33/'Desempregados_idades '!S33","v":0.1702862783810464},null,{"$f":"'Desempregados_idades '!U33/'Desempregados_idades '!Y33","v":0.12933406714364337},{"$f":"'Desempregados_idades '!V33/'Desempregados_idades '!Y33","v":0.22729774353329665},{"$f":"'Desempregados_idades '!W33/'Desempregados_idades '!Y33","v":0.46395156851953773},{"$f":"'Desempregados_idades '!X33/'Desempregados_idades '!Y33","v":0.1794166208035223}]
[null,"Santa Maria Maior",{"$f":"'Desempregados_idades '!C34/'Desempregados_idades '!G34","v":9.5636025998142984E-2},{"$f":"'Desempregados_idades '!D34/'Desempregados_idades '!G34","v":0.23584029712163418},{"$f":"'Desempregados_idades '!E34/'Desempregados_idades '!G34","v":0.48467966573816157},{"$f":"'Desempregados_idades '!F34/'Desempregados_idades '!G34","v":0.18384401114206128},null,{"$f":"'Desempregados_idades '!I34/'Desempregados_idades '!M34","v":7.9281183932346719E-2},{"$f":"'Desempregados_idades '!J34/'Desempregados_idades '!M34","v":0.20401691331923891},{"$f":"'Desempregados_idades '!K34/'Desempregados_idades '!M34","v":0.52219873150105711},{"$f":"'Desempregados_idades '!L34/'Desempregados_idades '!M34","v":0.1945031712473573},null,{"$f":"'Desempregados_idades '!O34/'Desempregados_idades '!S34","v":6.8366164542294328E-2},{"$f":"'Desempregados_idades '!P34/'Desempregados_idades '!S34","v":0.1761297798377752},{"$f":"'Desempregados_idades '!Q34/'Desempregados_idades '!S34","v":0.54229432213209738},{"$f":"'Desempregados_idades '!R34/'Desempregados_idades '!S34","v":0.21320973348783315},null,{"$f":"'Desempregados_idades '!U34/'Desempregados_idades '!Y34","v":7.1989528795811525E-2},{"$f":"'Desempregados_idades '!V34/'Desempregados_idades '!Y34","v":0.17801047120418848},{"$f":"'Desempregados_idades '!W34/'Desempregados_idades '!Y34","v":0.53010471204188481},{"$f":"'Desempregados_idades '!X34/'Desempregados_idades '!Y34","v":0.21989528795811519}]
[null,"Santo António",{"$f":"'Desempregados_idades '!C35/'Desempregados_idades '!G35","v":7.1979434447300775E-2},{"$f":"'Desempregados_idades '!D35/'Desempregados_idades '!G35","v":0.2416452442159383},{"$f":"'Desempregados_idades '!E35/'Desempregados_idades '!G35","v":0.46915167095115679},{"$f":"'Desempregados_idades '!F35/'Desempregados_idades '!G35","v":0.21722365038560412},null,{"$f":"'Desempregados_idades '!I35/'Desempregados_idades '!M35","v":7.055630936227951E-2},{"$f":"'Desempregados_idades '!J35/'Desempregados_idades '!M35","v":0.21709633649932158},{"$f":"'Desempregados_idades '!K35/'Desempregados_idades '!M35","v":0.49118046132971505},{"$f":"'Desempregados_idades '!L35/'Desempregados_idades '!M35","v":0.22116689280868385},null,{"$f":"'Desempregados_idades '!O35/'Desempregados_idades '!S35","v":7.1135430916552667E-2},{"$f":"'Desempregados_idades '!P35/'Desempregados_idades '!S35","v":0.22161422708618331},{"$f":"'Desempregados_idades '!Q35/'Desempregados_idades '!S35","v":0.48974008207934339},{"$f":"'Desempregados_idades '!R35/'Desempregados_idades '!S35","v":0.21751025991792067},null,{"$f":"'Desempregados_idades '!U35/'Desempregados_idades '!Y35","v":7.2115384615384609E-2},{"$f":"'Desempregados_idades '!V35/'Desempregados_idades '!Y35","v":0.22275641025641027},{"$f":"'Desempregados_idades '!W35/'Desempregados_idades '!Y35","v":0.46634615384615385},{"$f":"'Desempregados_idades '!X35/'Desempregados_idades '!Y35","v":0.23878205128205129}]
[null,"São Domingos de Benfica",{"$f":"'Desempregados_idades '!C36/'Desempregados_idades '!G36","v":0.10041551246537396},{"$f":"'Desempregados_idades '!D36/'Desempregados_idades '!G36","v":0.22506925207756232},{"$f":"'Desempregados_idades '!E36/'Desempregados_idades '!G36","v":0.46883656509695293},{"$f":"'Desempregados_idades '!F36/'Desempregados_idades '!G36","v":0.20567867036011081},null,{"$f":"'Desempregados_idades '!I36/'Desempregados_idades '!M36","v":8.7289433384379791E-2},{"$f":"'Desempregados_idades '!J36/'Desempregados_idades '!M36","v":0.20520673813169985},{"$f":"'Desempregados_idades '!K36/'Desempregados_idades '!M36","v":0.48392036753445633},{"$f":"'Desempregados_idades '!L36/'Desempregados_idades '!M36","v":0.22358346094946402},null,{"$f":"'Desempregados_idades '!O36/'Desempregados_idades '!S36","v":9.6625766871165641E-2},{"$f":"'Desempregados_idades '!P36/'Desempregados_idades '!S36","v":0.21932515337423314},{"$f":"'Desempregados_idades '!Q36/'Desempregados_idades '!S36","v":0.45475460122699385},{"$f":"'Desempregados_idades '!R36/'Desempregados_idades '!S36","v":0.22929447852760737},null,{"$f":"'Desempregados_idades '!U36/'Desempregados_idades '!Y36","v":8.4227910817506191E-2},{"$f":"'Desempregados_idades '!V36/'Desempregados_idades '!Y36","v":0.22873658133773742},{"$f":"'Desempregados_idades '!W36/'Desempregados_idades '!Y36","v":0.45912469033856318},{"$f":"'Desempregados_idades '!X36/'Desempregados_idades '!Y36","v":0.22791081750619324}]
[null,"São Vicente",{"$f":"'Desempregados_idades '!C37/'Desempregados_idades '!G37","v":0.1074540174249758},{"$f":"'Desempregados_idades '!D37/'Desempregados_idades '!G37","v":0.23523717328170377},{"$f":"'Desempregados_idades '!E37/'Desempregados_idades '!G37","v":0.47144240077444338},{"$f":"'Desempregados_idades '!F37/'Desempregados_idades '!G37","v":0.18586640851887706},null,{"$f":"'Desempregados_idades '!I37/'Desempregados_idades '!M37","v":8.1138040042149626E-2},{"$f":"'Desempregados_idades '!J37/'Desempregados_idades '!M37","v":0.2065331928345627},{"$f":"'Desempregados_idades '!K37/'Desempregados_idades '!M37","v":0.50474183350895685},{"$f":"'Desempregados_idades '!L37/'Desempregados_idades '!M37","v":0.20758693361433087},null,{"$f":"'Desempregados_idades '!O37/'Desempregados_idades '!S37","v":7.9781420765027325E-2},{"$f":"'Desempregados_idades '!P37/'Desempregados_idades '!S37","v":0.20983606557377049},{"$f":"'Desempregados_idades '!Q37/'Desempregados_idades '!S37","v":0.50273224043715847},{"$f":"'Desempregados_idades '!R37/'Desempregados_idades '!S37","v":0.20765027322404372},null,{"$f":"'Desempregados_idades '!U37/'Desempregados_idades '!Y37","v":6.9708491761723695E-2},{"$f":"'Desempregados_idades '!V37/'Desempregados_idades '!Y37","v":0.21039290240811154},{"$f":"'Desempregados_idades '!W37/'Desempregados_idades '!Y37","v":0.49049429657794674},{"$f":"'Desempregados_idades '!X37/'Desempregados_idades '!Y37","v":0.229404309252218}]
[]
[null,"Fonte: Instituto de Emprego e Formação Profissional"]
[null,"Cálculos: OLCPL"]

{"sheet":"Desempregados_ escolaridade","index":6,"n_rows":42,"n_cols":33,"rows_kept":42,"cut":false,"hidden":false,"merged":[[41,2,41,16],[40,2,40,6],[39,2,39,6],[6,2,6,32],[7,2,7,8],[7,10,7,16],[7,18,7,24],[7,26,7,32]]}
[]
[]
[]
[]
["Q.5","Número de desempregados inscritos nos Centros de Emprego, escolaridade, 2014"]
[]
[null,null,"Número de desempregados inscritos nos Centros de Emprego, escolaridade 2014"]
[null,null,"1º TRIMESTRE",null,null,null,null,null,null,null,"2º TRIMESTRE",null,null,null,null,null,null,null,"3º TRIMESTRE",null,null,null,null,null,null,null,"4º TRIMESTRE",null,null,null,null,null,4]
[null,"Unidade: Nº","< 1º Ciclo EB","1º Ciclo EB","2º Ciclo EB","3º Ciclo EB","Secundário","Superior","Total",null,"< 1º Ciclo EB","1º Ciclo EB","2º Ciclo EB","3º Ciclo EB","Secundário","Superior","Total",null,"< 1º Ciclo EB","1º Ciclo EB","2º Ciclo EB","3º Ciclo EB","Secundário","Superior","Total",null,"< 1º Ciclo EB","1º Ciclo EB","2º Ciclo EB","3º Ciclo EB","Secundário","Superior","Total"]
[null,"Portugal Continental",36015,139252,104097,133291,154322,86524,653501,null,32958,128710,93072,117609,133310,75020,580679,null,32280,123727,88872,112991,137229,87741,582840,null,31988,122338,89852,111792,133526,74816,564312]
[null,"AML",9626,26300,24922,34833,44376,24455,164512,null,8876,24606,22674,31437,39654,21518,148765,null,8429,23498,21418,30066,40429,23930,147770,null,8285,22853,20882,28263,37674,20900,138857]
[null,"Distrito de Lisboa",6946,20864,18958,26248,34766,20018,127800,null,6393,19433,17303,23744,30698,17789,115360,null,6104,18443,16140,22070,30820,19458,113035,null,5755,17864,15520,20645,28415,16880,105079]
[null,"Concelho de Lisboa",3013,5499,4705,5570,7649,7514,33950,null,{"$f":"SUM(K14:K38)","v":2766},{"$f":"SUM(L14:L38)","v":5221},4393,5310,6807,6671,31168,null,2627,5016,4093,4897,6742,7048,{"$f":"SUM(S13:X13)","v":30423},null,2443,4819,3843,4271,5779,6179,27334]
[null,"Ajuda",110,208,130,179,209,145,981,null,109,198,152,174,193,120,946,null,112,201,135,175,199,143,{"$f":"SUM(S14:X14)","v":965},null,114,191,127,141,164,110,847]
[null,"Alcântara",48,118,136,144,230,176,852,null,40,109,123,156,190,153,771,null,29,117,106,133,194,172,{"$f":"SUM(S15:X15)","v":751},null,24,125,109,117,143,142,660]
[null,"Alvalade",61,127,124,212,399,521,1444,null,57,121,113,181,315,453,1240,null,59,128,104,180,304,447,1222,null,53,120,82,150,261,407,1073]
[null,"Areeiro",54,116,107,169,308,384,1138,null,50,106,96,159,261,343,1015,null,52,94,96,140,246,367,995,null,45,87,79,120,226,342,899]
[null,"Arroios",386,291,299,396,584,517,2473,null,318,273,280,373,540,449,2233,null,246,256,265,342,539,509,2157,null,217,268,267,322,465,422,1961]
[null,"Avenidas Novas",64,99,88,129,317,437,1134,null,72,87,88,112,268,384,1011,null,67,79,94,95,250,421,1006,null,59,81,83,91,221,357,892]
[null,"Beato",153,240,231,215,192,97,1128,null,134,232,222,202,178,94,1062,null,128,227,194,164,182,91,986,null,125,220,182,141,150,66,884]
[null,"Belém",1,24,41,56,162,252,536,null,5,24,37,64,139,211,480,null,7,24,35,67,140,219,492,null,6,27,39,54,110,182,418]
[null,"Benfica",135,350,279,384,584,572,2304,null,126,336,261,392,554,493,2162,null,117,315,222,337,530,482,2003,null,130,314,253,313,501,449,1960]
[null,"Campo de Ourique",39,138,129,195,304,283,1088,null,31,137,120,205,261,278,1032,null,35,128,117,187,283,287,1037,null,39,118,120,181,268,238,964]
[null,"Campolide",48,153,158,175,212,169,915,null,43,143,138,142,164,127,757,null,41,144,135,141,180,132,773,null,47,148,142,122,155,128,742]
[null,"Carnide",116,251,184,231,206,242,1230,null,112,235,173,242,188,222,1172,null,121,223,177,219,188,221,1149,null,113,228,158,197,167,209,1072]
[null,"Estrela",36,92,84,150,252,291,905,null,27,98,90,151,221,257,844,null,33,90,83,133,231,272,842,null,22,89,75,109,208,240,743]
[null,"Lumiar",148,317,206,279,463,817,2230,null,144,294,185,263,434,719,2039,null,139,295,186,235,375,745,1975,null,137,269,176,227,370,684,1863]
[null,"Marvila",357,962,669,599,526,222,3335,null,328,900,612,578,443,180,3041,null,333,828,565,565,443,204,2938,null,298,772,498,450,363,144,2525]
[null,"Misericórdia",79,130,133,141,227,200,910,null,75,123,116,142,212,158,826,null,64,109,111,124,200,168,776,null,55,109,109,106,177,157,713]
[null,"Olivais",12,31,25,36,48,41,193,null,21,58,54,57,83,70,343,null,22,63,76,81,117,109,468,null,28,80,78,94,135,134,549]
[null,"Parque das Nações",206,526,451,477,582,489,2731,null,201,490,414,405,495,438,2443,null,206,450,355,364,460,445,2280,null,178,386,283,285,348,347,1827]
[null,"Penha de França",193,274,275,351,443,352,1888,null,171,232,263,327,408,323,1724,null,152,224,245,309,433,355,1718,null,129,223,239,287,343,283,1504]
[null,"Santa Clara",405,523,409,331,321,176,2165,null,410,534,377,292,270,166,2049,null,401,530,353,274,310,158,2026,null,381,508,331,237,219,141,1817]
[null,"Santa Maria Maior",176,164,173,204,189,171,1077,null,140,151,149,194,182,130,946,null,121,154,128,155,171,134,863,null,107,130,122,141,150,114,764]
[null,"Santo António",67,90,95,118,198,210,778,null,49,78,81,111,203,215,737,null,44,81,74,105,211,216,731,null,46,78,67,96,154,183,624]
[null,"São Domingos de Benfica",27,110,122,194,426,565,1444,null,26,103,104,186,372,515,1306,null,27,95,105,188,325,564,1304,null,27,99,99,154,311,521,1211]
[null,"São Vicente",91,164,152,198,253,175,1033,null,77,157,142,197,225,151,949,null,71,157,127,180,220,160,915,null,62,145,122,130,166,164,789]
[null,"Freg. Não Codificada",1,1,5,7,14,10,38,null,"-",2,3,5,8,22,40,null,0,4,5,4,11,27,51,null,1,4,3,6,4,15,33]
[]
[null,"Fonte: Instituto de Emprego e Formação Profissional"]
[null,"Cálculos: OLCPL"]
[null,"Notas n.d.: não disponível (para valores =< 5, por razões de confidencialidade dados não disponibilizados pela fonte)"]

{"sheet":"Desempregados escolaridad %","index":7,"n_rows":42,"n_cols":29,"rows_kept":42,"cut":false,"hidden":false,"merged":[[8,23,8,28],[6,2,6,28],[7,2,7,28],[8,16,8,21],[40,2,40,6],[42,2,42,7],[8,2,8,7],[8,9,8,14]]}
[]
[]
[]
[]
["Q.6","Desempregados inscritos nos Centros de Emprego, escolaridade, 2014, (%)"]
[]
[null,null,"Desempregados inscritos nos Centros de Emprego, escolaridade"]
[null,null,"%"]
[null,null,"1º TRIMESTRE",null,null,null,null,null,null,"2º TRIMESTRE",null,null,null,null,null,null,"3º TRIMESTRE",null,null,null,null,null,null,"4º TRIMESTRE"]
[null,"Unidade: Nº e %","< 1º Ciclo EB","1º Ciclo EB","2º Ciclo EB","3º Ciclo EB","Secundário","Superior",null,"< 1º Ciclo EB","1º Ciclo EB","2º Ciclo EB","3º Ciclo EB","Secundário","Superior",null,"< 1º Ciclo EB","1º Ciclo EB","2º Ciclo EB","3º Ciclo EB","Secundário","Superior",null,"< 1º Ciclo EB","1º Ciclo EB","2º Ciclo EB","3º Ciclo EB","Secundário","Superior"]
[null,"Portugal Continental",{"$f":"'Desempregados_ escolaridade'!C10/'Desempregados_ escolaridade'!I10","v":5.5110856754618583E-2},{"$f":"'Desempregados_ escolaridade'!D10/'Desempregados_ escolaridade'!I10","v":0.21308613146728161},{"$f":"'Desempregados_ escolaridade'!E10/'Desempregados_ escolaridade'!I10","v":0.15929126351757686},{"$f":"'Desempregados_ escolaridade'!F10/'Desempregados_ escolaridade'!I10","v":0.20396449278577997},{"$f":"'Desempregados_ escolaridade'!G10/'Desempregados_ escolaridade'!I10","v":0.23614653994408577},{"$f":"'Desempregados_ escolaridade'!H10/'Desempregados_ escolaridade'!I10","v":0.13240071553065719},null,{"$f":"'Desempregados_ escolaridade'!K10/'Desempregados_ escolaridade'!Q10","v":5.6757692287821668E-2},{"$f":"'Desempregados_ escolaridade'!L10/'Desempregados_ escolaridade'!Q10","v":0.2216543047019093},{"$f":"'Desempregados_ escolaridade'!M10/'Desempregados_ escolaridade'!Q10","v":0.16028132582717819},{"$f":"'Desempregados_ escolaridade'!N10/'Desempregados_ escolaridade'!Q10","v":0.20253702992531158},{"$f":"'Desempregados_ escolaridade'!O10/'Desempregados_ escolaridade'!Q10","v":0.22957606526153004},{"$f":"'Desempregados_ escolaridade'!P10/'Desempregados_ escolaridade'!Q10","v":0.12919358199624922},null,{"$f":"'Desempregados_ escolaridade'!S10/'Desempregados_ escolaridade'!Y10","v":5.5383981881820053E-2},{"$f":"'Desempregados_ escolaridade'!T10/'Desempregados_ escolaridade'!Y10","v":0.21228295930272459},{"$f":"'Desempregados_ escolaridade'!U10/'Desempregados_ escolaridade'!Y10","v":0.15248095532221537},{"$f":"'Desempregados_ escolaridade'!V10/'Desempregados_ escolaridade'!Y10","v":0.19386280969048109},{"$f":"'Desempregados_ escolaridade'!W10/'Desempregados_ escolaridade'!Y10","v":0.23544883673049208},{"$f":"'Desempregados_ escolaridade'!X10/'Desempregados_ escolaridade'!Y10","v":0.15054045707226682},null,{"$f":"'Desempregados_ escolaridade'!AA10/'Desempregados_ escolaridade'!AG10","v":5.6684954422376276E-2},{"$f":"'Desempregados_ escolaridade'!AB10/'Desempregados_ escolaridade'!AG10","v":0.21679142034902679},{"$f":"'Desempregados_ escolaridade'!AC10/'Desempregados_ escolaridade'!AG10","v":0.15922397538950084},{"$f":"'Desempregados_ escolaridade'!AD10/'Desempregados_ escolaridade'!AG10","v":0.19810317696593374},{"$f":"'Desempregados_ escolaridade'!AE10/'Desempregados_ escolaridade'!AG10","v":0.23661733225591516},{"$f":"'Desempregados_ escolaridade'!AF10/'Desempregados_ escolaridade'!AG10","v":0.13257914061724721}]
[null,"AML",{"$f":"'Desempregados_ escolaridade'!C11/'Desempregados_ escolaridade'!I11","v":5.8512448939894962E-2},{"$f":"'Desempregados_ escolaridade'!D11/'Desempregados_ escolaridade'!I11","v":0.15986675744018675},{"$f":"'Desempregados_ escolaridade'!E11/'Desempregados_ escolaridade'!I11","v":0.15149046878039291},{"$f":"'Desempregados_ escolaridade'!F11/'Desempregados_ escolaridade'!I11","v":0.21173531414121766},{"$f":"'Desempregados_ escolaridade'!G11/'Desempregados_ escolaridade'!I11","v":0.26974324061466642},{"$f":"'Desempregados_ escolaridade'!H11/'Desempregados_ escolaridade'!I11","v":0.1486517700836413},null,{"$f":"'Desempregados_ escolaridade'!K11/'Desempregados_ escolaridade'!Q11","v":5.9664571639834636E-2},{"$f":"'Desempregados_ escolaridade'!L11/'Desempregados_ escolaridade'!Q11","v":0.16540180822101974},{"$f":"'Desempregados_ escolaridade'!M11/'Desempregados_ escolaridade'!Q11","v":0.15241488253285382},{"$f":"'Desempregados_ escolaridade'!N11/'Desempregados_ escolaridade'!Q11","v":0.21131986690417773},{"$f":"'Desempregados_ escolaridade'!O11/'Desempregados_ escolaridade'!Q11","v":0.26655463314623734},{"$f":"'Desempregados_ escolaridade'!P11/'Desempregados_ escolaridade'!Q11","v":0.14464423755587671},null,{"$f":"'Desempregados_ escolaridade'!S11/'Desempregados_ escolaridade'!Y11","v":5.704134804087433E-2},{"$f":"'Desempregados_ escolaridade'!T11/'Desempregados_ escolaridade'!Y11","v":0.15901739189280639},{"$f":"'Desempregados_ escolaridade'!U11/'Desempregados_ escolaridade'!Y11","v":0.14494146308452324},{"$f":"'Desempregados_ escolaridade'!V11/'Desempregados_ escolaridade'!Y11","v":0.20346484401434661},{"$f":"'Desempregados_ escolaridade'!W11/'Desempregados_ escolaridade'!Y11","v":0.27359409893753805},{"$f":"'Desempregados_ escolaridade'!X11/'Desempregados_ escolaridade'!Y11","v":0.16194085402991135},null,{"$f":"'Desempregados_ escolaridade'!AA11/'Desempregados_ escolaridade'!AG11","v":5.9665699244546545E-2},{"$f":"'Desempregados_ escolaridade'!AB11/'Desempregados_ escolaridade'!AG11","v":0.16457938742735331},{"$f":"'Desempregados_ escolaridade'!AC11/'Desempregados_ escolaridade'!AG11","v":0.15038492837955594},{"$f":"'Desempregados_ escolaridade'!AD11/'Desempregados_ escolaridade'!AG11","v":0.20354033286042475},{"$f":"'Desempregados_ escolaridade'!AE11/'Desempregados_ escolaridade'!AG11","v":0.27131509394556991},{"$f":"'Desempregados_ escolaridade'!AF11/'Desempregados_ escolaridade'!AG11","v":0.15051455814254952}]
[null,"Distrito de Lisboa",{"$f":"'Desempregados_ escolaridade'!C12/'Desempregados_ escolaridade'!I12","v":5.4350547730829424E-2},{"$f":"'Desempregados_ escolaridade'!D12/'Desempregados_ escolaridade'!I12","v":0.16325508607198749},{"$f":"'Desempregados_ escolaridade'!E12/'Desempregados_ escolaridade'!I12","v":0.14834115805946793},{"$f":"'Desempregados_ escolaridade'!F12/'Desempregados_ escolaridade'!I12","v":0.20538341158059467},{"$f":"'Desempregados_ escolaridade'!G12/'Desempregados_ escolaridade'!I12","v":0.27203442879499218},{"$f":"'Desempregados_ escolaridade'!H12/'Desempregados_ escolaridade'!I12","v":0.15663536776212833},null,{"$f":"'Desempregados_ escolaridade'!K12/'Desempregados_ escolaridade'!Q12","v":5.5417822468793343E-2},{"$f":"'Desempregados_ escolaridade'!L12/'Desempregados_ escolaridade'!Q12","v":0.16845527045769765},{"$f":"'Desempregados_ escolaridade'!M12/'Desempregados_ escolaridade'!Q12","v":0.14999133148404992},{"$f":"'Desempregados_ escolaridade'!N12/'Desempregados_ escolaridade'!Q12","v":0.2058252427184466},{"$f":"'Desempregados_ escolaridade'!O12/'Desempregados_ escolaridade'!Q12","v":0.26610610263522883},{"$f":"'Desempregados_ escolaridade'!P12/'Desempregados_ escolaridade'!Q12","v":0.15420423023578364},null,{"$f":"'Desempregados_ escolaridade'!S12/'Desempregados_ escolaridade'!Y12","v":5.4000973149909322E-2},{"$f":"'Desempregados_ escolaridade'!T12/'Desempregados_ escolaridade'!Y12","v":0.16316185252355464},{"$f":"'Desempregados_ escolaridade'!U12/'Desempregados_ escolaridade'!Y12","v":0.14278763214933426},{"$f":"'Desempregados_ escolaridade'!V12/'Desempregados_ escolaridade'!Y12","v":0.19524925907904631},{"$f":"'Desempregados_ escolaridade'!W12/'Desempregados_ escolaridade'!Y12","v":0.2726589109567833},{"$f":"'Desempregados_ escolaridade'!X12/'Desempregados_ escolaridade'!Y12","v":0.17214137214137215},null,{"$f":"'Desempregados_ escolaridade'!AA12/'Desempregados_ escolaridade'!AG12","v":5.4768317170890472E-2},{"$f":"'Desempregados_ escolaridade'!AB12/'Desempregados_ escolaridade'!AG12","v":0.1700054244901455},{"$f":"'Desempregados_ escolaridade'!AC12/'Desempregados_ escolaridade'!AG12","v":0.14769839834790968},{"$f":"'Desempregados_ escolaridade'!AD12/'Desempregados_ escolaridade'!AG12","v":0.19647122641060535},{"$f":"'Desempregados_ escolaridade'!AE12/'Desempregados_ escolaridade'!AG12","v":0.27041559207834104},{"$f":"'Desempregados_ escolaridade'!AF12/'Desempregados_ escolaridade'!AG12","v":0.16064104150210795}]
[null,"Concelho de Lisboa",{"$f":"'Desempregados_ escolaridade'!C13/'Desempregados_ escolaridade'!I13","v":8.8748159057437409E-2},{"$f":"'Desempregados_ escolaridade'!D13/'Desempregados_ escolaridade'!I13","v":0.16197349042709869},{"$f":"'Desempregados_ escolaridade'!E13/'Desempregados_ escolaridade'!I13","v":0.13858615611192932},{"$f":"'Desempregados_ escolaridade'!F13/'Desempregados_ escolaridade'!I13","v":0.16406480117820324},{"$f":"'Desempregados_ escolaridade'!G13/'Desempregados_ escolaridade'!I13","v":0.22530191458026511},{"$f":"'Desempregados_ escolaridade'!H13/'Desempregados_ escolaridade'!I13","v":0.22132547864506627},null,{"$f":"'Desempregados_ escolaridade'!K13/'Desempregados_ escolaridade'!Q13","v":8.8744866529774133E-2},{"$f":"'Desempregados_ escolaridade'!L13/'Desempregados_ escolaridade'!Q13","v":0.16751155030800821},{"$f":"'Desempregados_ escolaridade'!M13/'Desempregados_ escolaridade'!Q13","v":0.14094584188911705},{"$f":"'Desempregados_ escolaridade'!N13/'Desempregados_ escolaridade'!Q13","v":0.17036704312114989},{"$f":"'Desempregados_ escolaridade'!O13/'Desempregados_ escolaridade'!Q13","v":0.21839707392197125},{"$f":"'Desempregados_ escolaridade'!P13/'Desempregados_ escolaridade'!Q13","v":0.21403362422997946},null,{"$f":"'Desempregados_ escolaridade'!S13/'Desempregados_ escolaridade'!Y13","v":8.6349143739933604E-2},{"$f":"'Desempregados_ escolaridade'!T13/'Desempregados_ escolaridade'!Y13","v":0.16487525885021201},{"$f":"'Desempregados_ escolaridade'!U13/'Desempregados_ escolaridade'!Y13","v":0.13453637050915426},{"$f":"'Desempregados_ escolaridade'!V13/'Desempregados_ escolaridade'!Y13","v":0.16096374453538442},{"$f":"'Desempregados_ escolaridade'!W13/'Desempregados_ escolaridade'!Y13","v":0.2216086513493081},{"$f":"'Desempregados_ escolaridade'!X13/'Desempregados_ escolaridade'!Y13","v":0.23166683101600763},null,{"$f":"'Desempregados_ escolaridade'!AA13/'Desempregados_ escolaridade'!AG13","v":8.9375868881246795E-2},{"$f":"'Desempregados_ escolaridade'!AB13/'Desempregados_ escolaridade'!AG13","v":0.17630057803468208},{"$f":"'Desempregados_ escolaridade'!AC13/'Desempregados_ escolaridade'!AG13","v":0.14059413185044267},{"$f":"'Desempregados_ escolaridade'!AD13/'Desempregados_ escolaridade'!AG13","v":0.15625228652959683},{"$f":"'Desempregados_ escolaridade'!AE13/'Desempregados_ escolaridade'!AG13","v":0.21142167264213069},{"$f":"'Desempregados_ escolaridade'!AF13/'Desempregados_ escolaridade'!AG13","v":0.22605546206190094}]
[null,"Ajuda",{"$f":"'Desempregados_ escolaridade'!C14/'Desempregados_ escolaridade'!I14","v":0.11213047910295616},{"$f":"'Desempregados_ escolaridade'!D14/'Desempregados_ escolaridade'!I14","v":0.21202854230377166},{"$f":"'Desempregados_ escolaridade'!E14/'Desempregados_ escolaridade'!I14","v":0.1325178389398573},{"$f":"'Desempregados_ escolaridade'!F14/'Desempregados_ escolaridade'!I14","v":0.18246687054026503},{"$f":"'Desempregados_ escolaridade'!G14/'Desempregados_ escolaridade'!I14","v":0.2130479102956167},{"$f":"'Desempregados_ escolaridade'!H14/'Desempregados_ escolaridade'!I14","v":0.14780835881753313},null,{"$f":"'Desempregados_ escolaridade'!K14/'Desempregados_ escolaridade'!Q14","v":0.11522198731501057},{"$f":"'Desempregados_ escolaridade'!L14/'Desempregados_ escolaridade'!Q14","v":0.20930232558139536},{"$f":"'Desempregados_ escolaridade'!M14/'Desempregados_ escolaridade'!Q14","v":0.16067653276955601},{"$f":"'Desempregados_ escolaridade'!N14/'Desempregados_ escolaridade'!Q14","v":0.1839323467230444},{"$f":"'Desempregados_ escolaridade'!O14/'Desempregados_ escolaridade'!Q14","v":0.20401691331923891},{"$f":"'Desempregados_ escolaridade'!P14/'Desempregados_ escolaridade'!Q14","v":0.12684989429175475},null,{"$f":"'Desempregados_ escolaridade'!S14/'Desempregados_ escolaridade'!Y14","v":0.11606217616580311},{"$f":"'Desempregados_ escolaridade'!T14/'Desempregados_ escolaridade'!Y14","v":0.20829015544041452},{"$f":"'Desempregados_ escolaridade'!U14/'Desempregados_ escolaridade'!Y14","v":0.13989637305699482},{"$f":"'Desempregados_ escolaridade'!V14/'Desempregados_ escolaridade'!Y14","v":0.18134715025906736},{"$f":"'Desempregados_ escolaridade'!W14/'Desempregados_ escolaridade'!Y14","v":0.20621761658031088},{"$f":"'Desempregados_ escolaridade'!X14/'Desempregados_ escolaridade'!Y14","v":0.14818652849740932},null,{"$f":"'Desempregados_ escolaridade'!AA14/'Desempregados_ escolaridade'!AG14","v":0.13459268004722549},{"$f":"'Desempregados_ escolaridade'!AB14/'Desempregados_ escolaridade'!AG14","v":0.22550177095631641},{"$f":"'Desempregados_ escolaridade'!AC14/'Desempregados_ escolaridade'!AG14","v":0.14994096812278632},{"$f":"'Desempregados_ escolaridade'!AD14/'Desempregados_ escolaridade'!AG14","v":0.16646989374262103},{"$f":"'Desempregados_ escolaridade'!AE14/'Desempregados_ escolaridade'!AG14","v":0.1936245572609209},{"$f":"'Desempregados_ escolaridade'!AF14/'Desempregados_ escolaridade'!AG14","v":0.12987012987012986}]
[null,"Alcântara",{"$f":"'Desempregados_ escolaridade'!C15/'Desempregados_ escolaridade'!I15","v":5.6338028169014086E-2},{"$f":"'Desempregados_ escolaridade'!D15/'Desempregados_ escolaridade'!I15","v":0.13849765258215962},{"$f":"'Desempregados_ escolaridade'!E15/'Desempregados_ escolaridade'!I15","v":0.15962441314553991},{"$f":"'Desempregados_ escolaridade'!F15/'Desempregados_ escolaridade'!I15","v":0.16901408450704225},{"$f":"'Desempregados_ escolaridade'!G15/'Desempregados_ escolaridade'!I15","v":0.2699530516431925},{"$f":"'Desempregados_ escolaridade'!H15/'Desempregados_ escolaridade'!I15","v":0.20657276995305165},null,{"$f":"'Desempregados_ escolaridade'!K15/'Desempregados_ escolaridade'!Q15","v":5.1880674448767837E-2},{"$f":"'Desempregados_ escolaridade'!L15/'Desempregados_ escolaridade'!Q15","v":0.14137483787289234},{"$f":"'Desempregados_ escolaridade'!M15/'Desempregados_ escolaridade'!Q15","v":0.15953307392996108},{"$f":"'Desempregados_ escolaridade'!N15/'Desempregados_ escolaridade'!Q15","v":0.20233463035019456},{"$f":"'Desempregados_ escolaridade'!O15/'Desempregados_ escolaridade'!Q15","v":0.24643320363164722},{"$f":"'Desempregados_ escolaridade'!P15/'Desempregados_ escolaridade'!Q15","v":0.19844357976653695},null,{"$f":"'Desempregados_ escolaridade'!S15/'Desempregados_ escolaridade'!Y15","v":3.8615179760319571E-2},{"$f":"'Desempregados_ escolaridade'!T15/'Desempregados_ escolaridade'!Y15","v":0.15579227696404793},{"$f":"'Desempregados_ escolaridade'!U15/'Desempregados_ escolaridade'!Y15","v":0.1411451398135819},{"$f":"'Desempregados_ escolaridade'!V15/'Desempregados_ escolaridade'!Y15","v":0.17709720372836218},{"$f":"'Desempregados_ escolaridade'!W15/'Desempregados_ escolaridade'!Y15","v":0.25832223701731027},{"$f":"'Desempregados_ escolaridade'!X15/'Desempregados_ escolaridade'!Y15","v":0.22902796271637815},null,{"$f":"'Desempregados_ escolaridade'!AA15/'Desempregados_ escolaridade'!AG15","v":3.6363636363636362E-2},{"$f":"'Desempregados_ escolaridade'!AB15/'Desempregados_ escolaridade'!AG15","v":0.18939393939393939},{"$f":"'Desempregados_ escolaridade'!AC15/'Desempregados_ escolaridade'!AG15","v":0.16515151515151516},{"$f":"'Desempregados_ escolaridade'!AD15/'Desempregados_ escolaridade'!AG15","v":0.17727272727272728},{"$f":"'Desempregados_ escolaridade'!AE15/'Desempregados_ escolaridade'!AG15","v":0.21666666666666667},{"$f":"'Desempregados_ escolaridade'!AF15/'Desempregados_ escolaridade'!AG15","v":0.21515151515151515}]
[null,"Alvalade",{"$f":"'Desempregados_ escolaridade'!C16/'Desempregados_ escolaridade'!I16","v":4.224376731301939E-2},{"$f":"'Desempregados_ escolaridade'!D16/'Desempregados_ escolaridade'!I16","v":8.7950138504155131E-2},{"$f":"'Desempregados_ escolaridade'!E16/'Desempregados_ escolaridade'!I16","v":8.5872576177285317E-2},{"$f":"'Desempregados_ escolaridade'!F16/'Desempregados_ escolaridade'!I16","v":0.14681440443213298},{"$f":"'Desempregados_ escolaridade'!G16/'Desempregados_ escolaridade'!I16","v":0.27631578947368424},{"$f":"'Desempregados_ escolaridade'!H16/'Desempregados_ escolaridade'!I16","v":0.36080332409972299},null,{"$f":"'Desempregados_ escolaridade'!K16/'Desempregados_ escolaridade'!Q16","v":4.596774193548387E-2},{"$f":"'Desempregados_ escolaridade'!L16/'Desempregados_ escolaridade'!Q16","v":9.7580645161290322E-2},{"$f":"'Desempregados_ escolaridade'!M16/'Desempregados_ escolaridade'!Q16","v":9.1129032258064513E-2},{"$f":"'Desempregados_ escolaridade'!N16/'Desempregados_ escolaridade'!Q16","v":0.14596774193548387},{"$f":"'Desempregados_ escolaridade'!O16/'Desempregados_ escolaridade'!Q16","v":0.25403225806451613},{"$f":"'Desempregados_ escolaridade'!P16/'Desempregados_ escolaridade'!Q16","v":0.36532258064516127},null,{"$f":"'Desempregados_ escolaridade'!S16/'Desempregados_ escolaridade'!Y16","v":4.8281505728314238E-2},{"$f":"'Desempregados_ escolaridade'!T16/'Desempregados_ escolaridade'!Y16","v":0.10474631751227496},{"$f":"'Desempregados_ escolaridade'!U16/'Desempregados_ escolaridade'!Y16","v":8.5106382978723402E-2},{"$f":"'Desempregados_ escolaridade'!V16/'Desempregados_ escolaridade'!Y16","v":0.14729950900163666},{"$f":"'Desempregados_ escolaridade'!W16/'Desempregados_ escolaridade'!Y16","v":0.24877250409165302},{"$f":"'Desempregados_ escolaridade'!X16/'Desempregados_ escolaridade'!Y16","v":0.36579378068739771},null,{"$f":"'Desempregados_ escolaridade'!AA16/'Desempregados_ escolaridade'!AG16","v":4.9394221808014914E-2},{"$f":"'Desempregados_ escolaridade'!AB16/'Desempregados_ escolaridade'!AG16","v":0.11183597390493942},{"$f":"'Desempregados_ escolaridade'!AC16/'Desempregados_ escolaridade'!AG16","v":7.6421248835041936E-2},{"$f":"'Desempregados_ escolaridade'!AD16/'Desempregados_ escolaridade'!AG16","v":0.13979496738117428},{"$f":"'Desempregados_ escolaridade'!AE16/'Desempregados_ escolaridade'!AG16","v":0.24324324324324326},{"$f":"'Desempregados_ escolaridade'!AF16/'Desempregados_ escolaridade'!AG16","v":0.37931034482758619}]
[null,"Areeiro",{"$f":"'Desempregados_ escolaridade'!C17/'Desempregados_ escolaridade'!I17","v":4.7451669595782071E-2},{"$f":"'Desempregados_ escolaridade'!D17/'Desempregados_ escolaridade'!I17","v":0.10193321616871705},{"$f":"'Desempregados_ escolaridade'!E17/'Desempregados_ escolaridade'!I17","v":9.4024604569420037E-2},{"$f":"'Desempregados_ escolaridade'!F17/'Desempregados_ escolaridade'!I17","v":0.14850615114235502},{"$f":"'Desempregados_ escolaridade'!G17/'Desempregados_ escolaridade'!I17","v":0.27065026362038663},{"$f":"'Desempregados_ escolaridade'!H17/'Desempregados_ escolaridade'!I17","v":0.3374340949033392},null,{"$f":"'Desempregados_ escolaridade'!K17/'Desempregados_ escolaridade'!Q17","v":4.9261083743842367E-2},{"$f":"'Desempregados_ escolaridade'!L17/'Desempregados_ escolaridade'!Q17","v":0.10443349753694581},{"$f":"'Desempregados_ escolaridade'!M17/'Desempregados_ escolaridade'!Q17","v":9.4581280788177347E-2},{"$f":"'Desempregados_ escolaridade'!N17/'Desempregados_ escolaridade'!Q17","v":0.15665024630541871},{"$f":"'Desempregados_ escolaridade'!O17/'Desempregados_ escolaridade'!Q17","v":0.25714285714285712},{"$f":"'Desempregados_ escolaridade'!P17/'Desempregados_ escolaridade'!Q17","v":0.33793103448275863},null,{"$f":"'Desempregados_ escolaridade'!S17/'Desempregados_ escolaridade'!Y17","v":5.2261306532663317E-2},{"$f":"'Desempregados_ escolaridade'!T17/'Desempregados_ escolaridade'!Y17","v":9.4472361809045224E-2},{"$f":"'Desempregados_ escolaridade'!U17/'Desempregados_ escolaridade'!Y17","v":9.6482412060301503E-2},{"$f":"'Desempregados_ escolaridade'!V17/'Desempregados_ escolaridade'!Y17","v":0.1407035175879397},{"$f":"'Desempregados_ escolaridade'!W17/'Desempregados_ escolaridade'!Y17","v":0.24723618090452262},{"$f":"'Desempregados_ escolaridade'!X17/'Desempregados_ escolaridade'!Y17","v":0.36884422110552761},null,{"$f":"'Desempregados_ escolaridade'!AA17/'Desempregados_ escolaridade'!AG17","v":5.0055617352614018E-2},{"$f":"'Desempregados_ escolaridade'!AB17/'Desempregados_ escolaridade'!AG17","v":9.6774193548387094E-2},{"$f":"'Desempregados_ escolaridade'!AC17/'Desempregados_ escolaridade'!AG17","v":8.7875417130144601E-2},{"$f":"'Desempregados_ escolaridade'!AD17/'Desempregados_ escolaridade'!AG17","v":0.13348164627363737},{"$f":"'Desempregados_ escolaridade'!AE17/'Desempregados_ escolaridade'!AG17","v":0.25139043381535037},{"$f":"'Desempregados_ escolaridade'!AF17/'Desempregados_ escolaridade'!AG17","v":0.38042269187986649}]
[null,"Arroios",{"$f":"'Desempregados_ escolaridade'!C18/'Desempregados_ escolaridade'!I18","v":0.15608572583906186},{"$f":"'Desempregados_ escolaridade'!D18/'Desempregados_ escolaridade'!I18","v":0.11767084512737566},{"$f":"'Desempregados_ escolaridade'!E18/'Desempregados_ escolaridade'!I18","v":0.12090578245046502},{"$f":"'Desempregados_ escolaridade'!F18/'Desempregados_ escolaridade'!I18","v":0.16012939749292357},{"$f":"'Desempregados_ escolaridade'!G18/'Desempregados_ escolaridade'!I18","v":0.23615042458552366},{"$f":"'Desempregados_ escolaridade'!H18/'Desempregados_ escolaridade'!I18","v":0.20905782450465021},null,{"$f":"'Desempregados_ escolaridade'!K18/'Desempregados_ escolaridade'!Q18","v":0.14240931482310792},{"$f":"'Desempregados_ escolaridade'!L18/'Desempregados_ escolaridade'!Q18","v":0.12225705329153605},{"$f":"'Desempregados_ escolaridade'!M18/'Desempregados_ escolaridade'!Q18","v":0.12539184952978055},{"$f":"'Desempregados_ escolaridade'!N18/'Desempregados_ escolaridade'!Q18","v":0.1670398566950291},{"$f":"'Desempregados_ escolaridade'!O18/'Desempregados_ escolaridade'!Q18","v":0.24182713837886252},{"$f":"'Desempregados_ escolaridade'!P18/'Desempregados_ escolaridade'!Q18","v":0.20107478728168382},null,{"$f":"'Desempregados_ escolaridade'!S18/'Desempregados_ escolaridade'!Y18","v":0.11404728789986092},{"$f":"'Desempregados_ escolaridade'!T18/'Desempregados_ escolaridade'!Y18","v":0.1186833565136764},{"$f":"'Desempregados_ escolaridade'!U18/'Desempregados_ escolaridade'!Y18","v":0.12285581826611033},{"$f":"'Desempregados_ escolaridade'!V18/'Desempregados_ escolaridade'!Y18","v":0.15855354659248957},{"$f":"'Desempregados_ escolaridade'!W18/'Desempregados_ escolaridade'!Y18","v":0.2498840982846546},{"$f":"'Desempregados_ escolaridade'!X18/'Desempregados_ escolaridade'!Y18","v":0.23597589244320816},null,{"$f":"'Desempregados_ escolaridade'!AA18/'Desempregados_ escolaridade'!AG18","v":0.11065782763895972},{"$f":"'Desempregados_ escolaridade'!AB18/'Desempregados_ escolaridade'!AG18","v":0.1366649668536461},{"$f":"'Desempregados_ escolaridade'!AC18/'Desempregados_ escolaridade'!AG18","v":0.13615502294747578},{"$f":"'Desempregados_ escolaridade'!AD18/'Desempregados_ escolaridade'!AG18","v":0.16420193778684344},{"$f":"'Desempregados_ escolaridade'!AE18/'Desempregados_ escolaridade'!AG18","v":0.23712391636919938},{"$f":"'Desempregados_ escolaridade'!AF18/'Desempregados_ escolaridade'!AG18","v":0.21519632840387556}]
[null,"Avenidas Novas",{"$f":"'Desempregados_ escolaridade'!C19/'Desempregados_ escolaridade'!I19","v":5.6437389770723101E-2},{"$f":"'Desempregados_ escolaridade'!D19/'Desempregados_ escolaridade'!I19","v":8.7301587301587297E-2},{"$f":"'Desempregados_ escolaridade'!E19/'Desempregados_ escolaridade'!I19","v":7.7601410934744264E-2},{"$f":"'Desempregados_ escolaridade'!F19/'Desempregados_ escolaridade'!I19","v":0.11375661375661375},{"$f":"'Desempregados_ escolaridade'!G19/'Desempregados_ escolaridade'!I19","v":0.27954144620811289},{"$f":"'Desempregados_ escolaridade'!H19/'Desempregados_ escolaridade'!I19","v":0.3853615520282187},null,{"$f":"'Desempregados_ escolaridade'!K19/'Desempregados_ escolaridade'!Q19","v":7.1216617210682495E-2},{"$f":"'Desempregados_ escolaridade'!L19/'Desempregados_ escolaridade'!Q19","v":8.6053412462908013E-2},{"$f":"'Desempregados_ escolaridade'!M19/'Desempregados_ escolaridade'!Q19","v":8.7042532146389712E-2},{"$f":"'Desempregados_ escolaridade'!N19/'Desempregados_ escolaridade'!Q19","v":0.11078140454995054},{"$f":"'Desempregados_ escolaridade'!O19/'Desempregados_ escolaridade'!Q19","v":0.26508407517309596},{"$f":"'Desempregados_ escolaridade'!P19/'Desempregados_ escolaridade'!Q19","v":0.37982195845697331},null,{"$f":"'Desempregados_ escolaridade'!S19/'Desempregados_ escolaridade'!Y19","v":6.6600397614314119E-2},{"$f":"'Desempregados_ escolaridade'!T19/'Desempregados_ escolaridade'!Y19","v":7.8528827037773363E-2},{"$f":"'Desempregados_ escolaridade'!U19/'Desempregados_ escolaridade'!Y19","v":9.3439363817097415E-2},{"$f":"'Desempregados_ escolaridade'!V19/'Desempregados_ escolaridade'!Y19","v":9.4433399602385684E-2},{"$f":"'Desempregados_ escolaridade'!W19/'Desempregados_ escolaridade'!Y19","v":0.2485089463220676},{"$f":"'Desempregados_ escolaridade'!X19/'Desempregados_ escolaridade'!Y19","v":0.41848906560636184},null,{"$f":"'Desempregados_ escolaridade'!AA19/'Desempregados_ escolaridade'!AG19","v":6.614349775784753E-2},{"$f":"'Desempregados_ escolaridade'!AB19/'Desempregados_ escolaridade'!AG19","v":9.0807174887892375E-2},{"$f":"'Desempregados_ escolaridade'!AC19/'Desempregados_ escolaridade'!AG19","v":9.3049327354260095E-2},{"$f":"'Desempregados_ escolaridade'!AD19/'Desempregados_ escolaridade'!AG19","v":0.10201793721973094},{"$f":"'Desempregados_ escolaridade'!AE19/'Desempregados_ escolaridade'!AG19","v":0.24775784753363228},{"$f":"'Desempregados_ escolaridade'!AF19/'Desempregados_ escolaridade'!AG19","v":0.40022421524663676}]
[null,"Beato",{"$f":"'Desempregados_ escolaridade'!C20/'Desempregados_ escolaridade'!I20","v":0.13563829787234041},{"$f":"'Desempregados_ escolaridade'!D20/'Desempregados_ escolaridade'!I20","v":0.21276595744680851},{"$f":"'Desempregados_ escolaridade'!E20/'Desempregados_ escolaridade'!I20","v":0.2047872340425532},{"$f":"'Desempregados_ escolaridade'!F20/'Desempregados_ escolaridade'!I20","v":0.19060283687943264},{"$f":"'Desempregados_ escolaridade'!G20/'Desempregados_ escolaridade'!I20","v":0.1702127659574468},{"$f":"'Desempregados_ escolaridade'!H20/'Desempregados_ escolaridade'!I20","v":8.5992907801418439E-2},null,{"$f":"'Desempregados_ escolaridade'!K20/'Desempregados_ escolaridade'!Q20","v":0.12617702448210924},{"$f":"'Desempregados_ escolaridade'!L20/'Desempregados_ escolaridade'!Q20","v":0.2184557438794727},{"$f":"'Desempregados_ escolaridade'!M20/'Desempregados_ escolaridade'!Q20","v":0.20903954802259886},{"$f":"'Desempregados_ escolaridade'!N20/'Desempregados_ escolaridade'!Q20","v":0.19020715630885121},{"$f":"'Desempregados_ escolaridade'!O20/'Desempregados_ escolaridade'!Q20","v":0.16760828625235405},{"$f":"'Desempregados_ escolaridade'!P20/'Desempregados_ escolaridade'!Q20","v":8.851224105461393E-2},null,{"$f":"'Desempregados_ escolaridade'!S20/'Desempregados_ escolaridade'!Y20","v":0.12981744421906694},{"$f":"'Desempregados_ escolaridade'!T20/'Desempregados_ escolaridade'!Y20","v":0.23022312373225151},{"$f":"'Desempregados_ escolaridade'!U20/'Desempregados_ escolaridade'!Y20","v":0.19675456389452334},{"$f":"'Desempregados_ escolaridade'!V20/'Desempregados_ escolaridade'!Y20","v":0.16632860040567951},{"$f":"'Desempregados_ escolaridade'!W20/'Desempregados_ escolaridade'!Y20","v":0.18458417849898581},{"$f":"'Desempregados_ escolaridade'!X20/'Desempregados_ escolaridade'!Y20","v":9.2292089249492906E-2},null,{"$f":"'Desempregados_ escolaridade'!AA20/'Desempregados_ escolaridade'!AG20","v":0.14140271493212669},{"$f":"'Desempregados_ escolaridade'!AB20/'Desempregados_ escolaridade'!AG20","v":0.24886877828054299},{"$f":"'Desempregados_ escolaridade'!AC20/'Desempregados_ escolaridade'!AG20","v":0.20588235294117646},{"$f":"'Desempregados_ escolaridade'!AD20/'Desempregados_ escolaridade'!AG20","v":0.1595022624434389},{"$f":"'Desempregados_ escolaridade'!AE20/'Desempregados_ escolaridade'!AG20","v":0.16968325791855204},{"$f":"'Desempregados_ escolaridade'!AF20/'Desempregados_ escolaridade'!AG20","v":7.4660633484162894E-2}]
[null,"Belém",{"$f":"'Desempregados_ escolaridade'!C21/'Desempregados_ escolaridade'!I21","v":1.8656716417910447E-3},{"$f":"'Desempregados_ escolaridade'!D21/'Desempregados_ escolaridade'!I21","v":4.4776119402985072E-2},{"$f":"'Desempregados_ escolaridade'!E21/'Desempregados_ escolaridade'!I21","v":7.6492537313432835E-2},{"$f":"'Desempregados_ escolaridade'!F21/'Desempregados_ escolaridade'!I21","v":0.1044776119402985},{"$f":"'Desempregados_ escolaridade'!G21/'Desempregados_ escolaridade'!I21","v":0.30223880597014924},{"$f":"'Desempregados_ escolaridade'!H21/'Desempregados_ escolaridade'!I21","v":0.47014925373134331},null,{"$f":"'Desempregados_ escolaridade'!K21/'Desempregados_ escolaridade'!Q21","v":1.0416666666666666E-2},{"$f":"'Desempregados_ escolaridade'!L21/'Desempregados_ escolaridade'!Q21","v":0.05},{"$f":"'Desempregados_ escolaridade'!M21/'Desempregados_ escolaridade'!Q21","v":7.7083333333333337E-2},{"$f":"'Desempregados_ escolaridade'!N21/'Desempregados_ escolaridade'!Q21","v":0.13333333333333333},{"$f":"'Desempregados_ escolaridade'!O21/'Desempregados_ escolaridade'!Q21","v":0.28958333333333336},{"$f":"'Desempregados_ escolaridade'!P21/'Desempregados_ escolaridade'!Q21","v":0.43958333333333333},null,{"$f":"'Desempregados_ escolaridade'!S21/'Desempregados_ escolaridade'!Y21","v":1.4227642276422764E-2},{"$f":"'Desempregados_ escolaridade'!T21/'Desempregados_ escolaridade'!Y21","v":4.878048780487805E-2},{"$f":"'Desempregados_ escolaridade'!U21/'Desempregados_ escolaridade'!Y21","v":7.113821138211382E-2},{"$f":"'Desempregados_ escolaridade'!V21/'Desempregados_ escolaridade'!Y21","v":0.13617886178861788},{"$f":"'Desempregados_ escolaridade'!W21/'Desempregados_ escolaridade'!Y21","v":0.28455284552845528},{"$f":"'Desempregados_ escolaridade'!X21/'Desempregados_ escolaridade'!Y21","v":0.4451219512195122},null,{"$f":"'Desempregados_ escolaridade'!AA21/'Desempregados_ escolaridade'!AG21","v":1.4354066985645933E-2},{"$f":"'Desempregados_ escolaridade'!AB21/'Desempregados_ escolaridade'!AG21","v":6.4593301435406703E-2},{"$f":"'Desempregados_ escolaridade'!AC21/'Desempregados_ escolaridade'!AG21","v":9.3301435406698566E-2},{"$f":"'Desempregados_ escolaridade'!AD21/'Desempregados_ escolaridade'!AG21","v":0.12918660287081341},{"$f":"'Desempregados_ escolaridade'!AE21/'Desempregados_ escolaridade'!AG21","v":0.26315789473684209},{"$f":"'Desempregados_ escolaridade'!AF21/'Desempregados_ escolaridade'!AG21","v":0.4354066985645933}]
[null,"Benfica",{"$f":"'Desempregados_ escolaridade'!C22/'Desempregados_ escolaridade'!I22","v":5.859375E-2},{"$f":"'Desempregados_ escolaridade'!D22/'Desempregados_ escolaridade'!I22","v":0.15190972222222221},{"$f":"'Desempregados_ escolaridade'!E22/'Desempregados_ escolaridade'!I22","v":0.12109375},{"$f":"'Desempregados_ escolaridade'!F22/'Desempregados_ escolaridade'!I22","v":0.16666666666666666},{"$f":"'Desempregados_ escolaridade'!G22/'Desempregados_ escolaridade'!I22","v":0.25347222222222221},{"$f":"'Desempregados_ escolaridade'!H22/'Desempregados_ escolaridade'!I22","v":0.2482638888888889},null,{"$f":"'Desempregados_ escolaridade'!K22/'Desempregados_ escolaridade'!Q22","v":5.8279370952821465E-2},{"$f":"'Desempregados_ escolaridade'!L22/'Desempregados_ escolaridade'!Q22","v":0.15541165587419056},{"$f":"'Desempregados_ escolaridade'!M22/'Desempregados_ escolaridade'!Q22","v":0.12072155411655874},{"$f":"'Desempregados_ escolaridade'!N22/'Desempregados_ escolaridade'!Q22","v":0.18131359851988899},{"$f":"'Desempregados_ escolaridade'!O22/'Desempregados_ escolaridade'!Q22","v":0.25624421831637373},{"$f":"'Desempregados_ escolaridade'!P22/'Desempregados_ escolaridade'!Q22","v":0.22802960222016652},null,{"$f":"'Desempregados_ escolaridade'!S22/'Desempregados_ escolaridade'!Y22","v":5.8412381427858213E-2},{"$f":"'Desempregados_ escolaridade'!T22/'Desempregados_ escolaridade'!Y22","v":0.15726410384423364},{"$f":"'Desempregados_ escolaridade'!U22/'Desempregados_ escolaridade'!Y22","v":0.1108337493759361},{"$f":"'Desempregados_ escolaridade'!V22/'Desempregados_ escolaridade'!Y22","v":0.16824762855716424},{"$f":"'Desempregados_ escolaridade'!W22/'Desempregados_ escolaridade'!Y22","v":0.26460309535696458},{"$f":"'Desempregados_ escolaridade'!X22/'Desempregados_ escolaridade'!Y22","v":0.24063904143784323},null,{"$f":"'Desempregados_ escolaridade'!AA22/'Desempregados_ escolaridade'!AG22","v":6.6326530612244902E-2},{"$f":"'Desempregados_ escolaridade'!AB22/'Desempregados_ escolaridade'!AG22","v":0.16020408163265307},{"$f":"'Desempregados_ escolaridade'!AC22/'Desempregados_ escolaridade'!AG22","v":0.12908163265306122},{"$f":"'Desempregados_ escolaridade'!AD22/'Desempregados_ escolaridade'!AG22","v":0.15969387755102041},{"$f":"'Desempregados_ escolaridade'!AE22/'Desempregados_ escolaridade'!AG22","v":0.2556122448979592},{"$f":"'Desempregados_ escolaridade'!AF22/'Desempregados_ escolaridade'!AG22","v":0.22908163265306122}]
[null,"Campo de Ourique",{"$f":"'Desempregados_ escolaridade'!C23/'Desempregados_ escolaridade'!I23","v":3.5845588235294115E-2},{"$f":"'Desempregados_ escolaridade'!D23/'Desempregados_ escolaridade'!I23","v":0.12683823529411764},{"$f":"'Desempregados_ escolaridade'!E23/'Desempregados_ escolaridade'!I23","v":0.11856617647058823},{"$f":"'Desempregados_ escolaridade'!F23/'Desempregados_ escolaridade'!I23","v":0.17922794117647059},{"$f":"'Desempregados_ escolaridade'!G23/'Desempregados_ escolaridade'!I23","v":0.27941176470588236},{"$f":"'Desempregados_ escolaridade'!H23/'Desempregados_ escolaridade'!I23","v":0.26011029411764708},null,{"$f":"'Desempregados_ escolaridade'!K23/'Desempregados_ escolaridade'!Q23","v":3.0038759689922482E-2},{"$f":"'Desempregados_ escolaridade'!L23/'Desempregados_ escolaridade'!Q23","v":0.13275193798449614},{"$f":"'Desempregados_ escolaridade'!M23/'Desempregados_ escolaridade'!Q23","v":0.11627906976744186},{"$f":"'Desempregados_ escolaridade'!N23/'Desempregados_ escolaridade'!Q23","v":0.19864341085271317},{"$f":"'Desempregados_ escolaridade'!O23/'Desempregados_ escolaridade'!Q23","v":0.25290697674418605},{"$f":"'Desempregados_ escolaridade'!P23/'Desempregados_ escolaridade'!Q23","v":0.26937984496124029},null,{"$f":"'Desempregados_ escolaridade'!S23/'Desempregados_ escolaridade'!Y23","v":3.3751205400192864E-2},{"$f":"'Desempregados_ escolaridade'!T23/'Desempregados_ escolaridade'!Y23","v":0.12343297974927676},{"$f":"'Desempregados_ escolaridade'!U23/'Desempregados_ escolaridade'!Y23","v":0.11282545805207329},{"$f":"'Desempregados_ escolaridade'!V23/'Desempregados_ escolaridade'!Y23","v":0.18032786885245902},{"$f":"'Desempregados_ escolaridade'!W23/'Desempregados_ escolaridade'!Y23","v":0.2729026036644166},{"$f":"'Desempregados_ escolaridade'!X23/'Desempregados_ escolaridade'!Y23","v":0.27675988428158149},null,{"$f":"'Desempregados_ escolaridade'!AA23/'Desempregados_ escolaridade'!AG23","v":4.0456431535269712E-2},{"$f":"'Desempregados_ escolaridade'!AB23/'Desempregados_ escolaridade'!AG23","v":0.12240663900414937},{"$f":"'Desempregados_ escolaridade'!AC23/'Desempregados_ escolaridade'!AG23","v":0.12448132780082988},{"$f":"'Desempregados_ escolaridade'!AD23/'Desempregados_ escolaridade'!AG23","v":0.18775933609958506},{"$f":"'Desempregados_ escolaridade'!AE23/'Desempregados_ escolaridade'!AG23","v":0.27800829875518673},{"$f":"'Desempregados_ escolaridade'!AF23/'Desempregados_ escolaridade'!AG23","v":0.24688796680497926}]
[null,"Campolide",{"$f":"'Desempregados_ escolaridade'!C24/'Desempregados_ escolaridade'!I24","v":5.2459016393442623E-2},{"$f":"'Desempregados_ escolaridade'!D24/'Desempregados_ escolaridade'!I24","v":0.16721311475409836},{"$f":"'Desempregados_ escolaridade'!E24/'Desempregados_ escolaridade'!I24","v":0.17267759562841531},{"$f":"'Desempregados_ escolaridade'!F24/'Desempregados_ escolaridade'!I24","v":0.19125683060109289},{"$f":"'Desempregados_ escolaridade'!G24/'Desempregados_ escolaridade'!I24","v":0.23169398907103825},{"$f":"'Desempregados_ escolaridade'!H24/'Desempregados_ escolaridade'!I24","v":0.18469945355191256},null,{"$f":"'Desempregados_ escolaridade'!K24/'Desempregados_ escolaridade'!Q24","v":5.6803170409511231E-2},{"$f":"'Desempregados_ escolaridade'!L24/'Desempregados_ escolaridade'!Q24","v":0.18890356671070013},{"$f":"'Desempregados_ escolaridade'!M24/'Desempregados_ escolaridade'!Q24","v":0.18229854689564068},{"$f":"'Desempregados_ escolaridade'!N24/'Desempregados_ escolaridade'!Q24","v":0.18758256274768825},{"$f":"'Desempregados_ escolaridade'!O24/'Desempregados_ escolaridade'!Q24","v":0.2166446499339498},{"$f":"'Desempregados_ escolaridade'!P24/'Desempregados_ escolaridade'!Q24","v":0.16776750330250992},null,{"$f":"'Desempregados_ escolaridade'!S24/'Desempregados_ escolaridade'!Y24","v":5.3040103492884863E-2},{"$f":"'Desempregados_ escolaridade'!T24/'Desempregados_ escolaridade'!Y24","v":0.18628719275549807},{"$f":"'Desempregados_ escolaridade'!U24/'Desempregados_ escolaridade'!Y24","v":0.17464424320827943},{"$f":"'Desempregados_ escolaridade'!V24/'Desempregados_ escolaridade'!Y24","v":0.18240620957309184},{"$f":"'Desempregados_ escolaridade'!W24/'Desempregados_ escolaridade'!Y24","v":0.23285899094437257},{"$f":"'Desempregados_ escolaridade'!X24/'Desempregados_ escolaridade'!Y24","v":0.17076326002587322},null,{"$f":"'Desempregados_ escolaridade'!AA24/'Desempregados_ escolaridade'!AG24","v":6.3342318059299185E-2},{"$f":"'Desempregados_ escolaridade'!AB24/'Desempregados_ escolaridade'!AG24","v":0.19946091644204852},{"$f":"'Desempregados_ escolaridade'!AC24/'Desempregados_ escolaridade'!AG24","v":0.19137466307277629},{"$f":"'Desempregados_ escolaridade'!AD24/'Desempregados_ escolaridade'!AG24","v":0.16442048517520216},{"$f":"'Desempregados_ escolaridade'!AE24/'Desempregados_ escolaridade'!AG24","v":0.20889487870619947},{"$f":"'Desempregados_ escolaridade'!AF24/'Desempregados_ escolaridade'!AG24","v":0.1725067385444744}]
[null,"Carnide",{"$f":"'Desempregados_ escolaridade'!C25/'Desempregados_ escolaridade'!I25","v":9.4308943089430899E-2},{"$f":"'Desempregados_ escolaridade'!D25/'Desempregados_ escolaridade'!I25","v":0.20406504065040651},{"$f":"'Desempregados_ escolaridade'!E25/'Desempregados_ escolaridade'!I25","v":0.14959349593495935},{"$f":"'Desempregados_ escolaridade'!F25/'Desempregados_ escolaridade'!I25","v":0.18780487804878049},{"$f":"'Desempregados_ escolaridade'!G25/'Desempregados_ escolaridade'!I25","v":0.16747967479674797},{"$f":"'Desempregados_ escolaridade'!H25/'Desempregados_ escolaridade'!I25","v":0.1967479674796748},null,{"$f":"'Desempregados_ escolaridade'!K25/'Desempregados_ escolaridade'!Q25","v":9.556313993174062E-2},{"$f":"'Desempregados_ escolaridade'!L25/'Desempregados_ escolaridade'!Q25","v":0.20051194539249148},{"$f":"'Desempregados_ escolaridade'!M25/'Desempregados_ escolaridade'!Q25","v":0.14761092150170649},{"$f":"'Desempregados_ escolaridade'!N25/'Desempregados_ escolaridade'!Q25","v":0.20648464163822525},{"$f":"'Desempregados_ escolaridade'!O25/'Desempregados_ escolaridade'!Q25","v":0.16040955631399317},{"$f":"'Desempregados_ escolaridade'!P25/'Desempregados_ escolaridade'!Q25","v":0.18941979522184299},null,{"$f":"'Desempregados_ escolaridade'!S25/'Desempregados_ escolaridade'!Y25","v":0.10530896431679722},{"$f":"'Desempregados_ escolaridade'!T25/'Desempregados_ escolaridade'!Y25","v":0.19408181026979981},{"$f":"'Desempregados_ escolaridade'!U25/'Desempregados_ escolaridade'!Y25","v":0.15404699738903394},{"$f":"'Desempregados_ escolaridade'!V25/'Desempregados_ escolaridade'!Y25","v":0.1906005221932115},{"$f":"'Desempregados_ escolaridade'!W25/'Desempregados_ escolaridade'!Y25","v":0.16362053959965187},{"$f":"'Desempregados_ escolaridade'!X25/'Desempregados_ escolaridade'!Y25","v":0.19234116623150566},null,{"$f":"'Desempregados_ escolaridade'!AA25/'Desempregados_ escolaridade'!AG25","v":0.10541044776119403},{"$f":"'Desempregados_ escolaridade'!AB25/'Desempregados_ escolaridade'!AG25","v":0.21268656716417911},{"$f":"'Desempregados_ escolaridade'!AC25/'Desempregados_ escolaridade'!AG25","v":0.14738805970149255},{"$f":"'Desempregados_ escolaridade'!AD25/'Desempregados_ escolaridade'!AG25","v":0.1837686567164179},{"$f":"'Desempregados_ escolaridade'!AE25/'Desempregados_ escolaridade'!AG25","v":0.15578358208955223},{"$f":"'Desempregados_ escolaridade'!AF25/'Desempregados_ escolaridade'!AG25","v":0.19496268656716417}]
[null,"Estrela",{"$f":"'Desempregados_ escolaridade'!C26/'Desempregados_ escolaridade'!I26","v":3.9779005524861875E-2},{"$f":"'Desempregados_ escolaridade'!D26/'Desempregados_ escolaridade'!I26","v":0.10165745856353592},{"$f":"'Desempregados_ escolaridade'!E26/'Desempregados_ escolaridade'!I26","v":9.2817679558011054E-2},{"$f":"'Desempregados_ escolaridade'!F26/'Desempregados_ escolaridade'!I26","v":0.16574585635359115},{"$f":"'Desempregados_ escolaridade'!G26/'Desempregados_ escolaridade'!I26","v":0.27845303867403315},{"$f":"'Desempregados_ escolaridade'!H26/'Desempregados_ escolaridade'!I26","v":0.32154696132596683},null,{"$f":"'Desempregados_ escolaridade'!K26/'Desempregados_ escolaridade'!Q26","v":3.1990521327014215E-2},{"$f":"'Desempregados_ escolaridade'!L26/'Desempregados_ escolaridade'!Q26","v":0.11611374407582939},{"$f":"'Desempregados_ escolaridade'!M26/'Desempregados_ escolaridade'!Q26","v":0.1066350710900474},{"$f":"'Desempregados_ escolaridade'!N26/'Desempregados_ escolaridade'!Q26","v":0.17890995260663506},{"$f":"'Desempregados_ escolaridade'!O26/'Desempregados_ escolaridade'!Q26","v":0.2618483412322275},{"$f":"'Desempregados_ escolaridade'!P26/'Desempregados_ escolaridade'!Q26","v":0.30450236966824645},null,{"$f":"'Desempregados_ escolaridade'!S26/'Desempregados_ escolaridade'!Y26","v":3.9192399049881234E-2},{"$f":"'Desempregados_ escolaridade'!T26/'Desempregados_ escolaridade'!Y26","v":0.10688836104513064},{"$f":"'Desempregados_ escolaridade'!U26/'Desempregados_ escolaridade'!Y26","v":9.8574821852731587E-2},{"$f":"'Desempregados_ escolaridade'!V26/'Desempregados_ escolaridade'!Y26","v":0.15795724465558195},{"$f":"'Desempregados_ escolaridade'!W26/'Desempregados_ escolaridade'!Y26","v":0.27434679334916867},{"$f":"'Desempregados_ escolaridade'!X26/'Desempregados_ escolaridade'!Y26","v":0.32304038004750596},null,{"$f":"'Desempregados_ escolaridade'!AA26/'Desempregados_ escolaridade'!AG26","v":2.9609690444145357E-2},{"$f":"'Desempregados_ escolaridade'!AB26/'Desempregados_ escolaridade'!AG26","v":0.11978465679676985},{"$f":"'Desempregados_ escolaridade'!AC26/'Desempregados_ escolaridade'!AG26","v":0.1009421265141319},{"$f":"'Desempregados_ escolaridade'!AD26/'Desempregados_ escolaridade'!AG26","v":0.14670255720053835},{"$f":"'Desempregados_ escolaridade'!AE26/'Desempregados_ escolaridade'!AG26","v":0.27994616419919244},{"$f":"'Desempregados_ escolaridade'!AF26/'Desempregados_ escolaridade'!AG26","v":0.32301480484522205}]
[null,"Lumiar",{"$f":"'Desempregados_ escolaridade'!C27/'Desempregados_ escolaridade'!I27","v":6.6367713004484311E-2},{"$f":"'Desempregados_ escolaridade'!D27/'Desempregados_ escolaridade'!I27","v":0.142152466367713},{"$f":"'Desempregados_ escolaridade'!E27/'Desempregados_ escolaridade'!I27","v":9.2376681614349782E-2},{"$f":"'Desempregados_ escolaridade'!F27/'Desempregados_ escolaridade'!I27","v":0.1251121076233184},{"$f":"'Desempregados_ escolaridade'!G27/'Desempregados_ escolaridade'!I27","v":0.20762331838565024},{"$f":"'Desempregados_ escolaridade'!H27/'Desempregados_ escolaridade'!I27","v":0.36636771300448429},null,{"$f":"'Desempregados_ escolaridade'!K27/'Desempregados_ escolaridade'!Q27","v":7.0622854340362917E-2},{"$f":"'Desempregados_ escolaridade'!L27/'Desempregados_ escolaridade'!Q27","v":0.1441883276115743},{"$f":"'Desempregados_ escolaridade'!M27/'Desempregados_ escolaridade'!Q27","v":9.0730750367827365E-2},{"$f":"'Desempregados_ escolaridade'!N27/'Desempregados_ escolaridade'!Q27","v":0.12898479646885727},{"$f":"'Desempregados_ escolaridade'!O27/'Desempregados_ escolaridade'!Q27","v":0.21284943599803827},{"$f":"'Desempregados_ escolaridade'!P27/'Desempregados_ escolaridade'!Q27","v":0.3526238352133399},null,{"$f":"'Desempregados_ escolaridade'!S27/'Desempregados_ escolaridade'!Y27","v":7.0379746835443041E-2},{"$f":"'Desempregados_ escolaridade'!T27/'Desempregados_ escolaridade'!Y27","v":0.14936708860759493},{"$f":"'Desempregados_ escolaridade'!U27/'Desempregados_ escolaridade'!Y27","v":9.4177215189873417E-2},{"$f":"'Desempregados_ escolaridade'!V27/'Desempregados_ escolaridade'!Y27","v":0.11898734177215189},{"$f":"'Desempregados_ escolaridade'!W27/'Desempregados_ escolaridade'!Y27","v":0.189873417721519},{"$f":"'Desempregados_ escolaridade'!X27/'Desempregados_ escolaridade'!Y27","v":0.37721518987341773},null,{"$f":"'Desempregados_ escolaridade'!AA27/'Desempregados_ escolaridade'!AG27","v":7.3537305421363386E-2},{"$f":"'Desempregados_ escolaridade'!AB27/'Desempregados_ escolaridade'!AG27","v":0.14439076757917338},{"$f":"'Desempregados_ escolaridade'!AC27/'Desempregados_ escolaridade'!AG27","v":9.4471282877079982E-2},{"$f":"'Desempregados_ escolaridade'!AD27/'Desempregados_ escolaridade'!AG27","v":0.12184648416532474},{"$f":"'Desempregados_ escolaridade'!AE27/'Desempregados_ escolaridade'!AG27","v":0.19860440150295222},{"$f":"'Desempregados_ escolaridade'!AF27/'Desempregados_ escolaridade'!AG27","v":0.3671497584541063}]
[null,"Marvila",{"$f":"'Desempregados_ escolaridade'!C28/'Desempregados_ escolaridade'!I28","v":0.10704647676161919},{"$f":"'Desempregados_ escolaridade'!D28/'Desempregados_ escolaridade'!I28","v":0.28845577211394302},{"$f":"'Desempregados_ escolaridade'!E28/'Desempregados_ escolaridade'!I28","v":0.20059970014992504},{"$f":"'Desempregados_ escolaridade'!F28/'Desempregados_ escolaridade'!I28","v":0.17961019490254873},{"$f":"'Desempregados_ escolaridade'!G28/'Desempregados_ escolaridade'!I28","v":0.15772113943028485},{"$f":"'Desempregados_ escolaridade'!H28/'Desempregados_ escolaridade'!I28","v":6.6566716641679166E-2},null,{"$f":"'Desempregados_ escolaridade'!K28/'Desempregados_ escolaridade'!Q28","v":0.10785925682341335},{"$f":"'Desempregados_ escolaridade'!L28/'Desempregados_ escolaridade'!Q28","v":0.29595527786912201},{"$f":"'Desempregados_ escolaridade'!M28/'Desempregados_ escolaridade'!Q28","v":0.20124958895100295},{"$f":"'Desempregados_ escolaridade'!N28/'Desempregados_ escolaridade'!Q28","v":0.1900690562315028},{"$f":"'Desempregados_ escolaridade'!O28/'Desempregados_ escolaridade'!Q28","v":0.14567576455113448},{"$f":"'Desempregados_ escolaridade'!P28/'Desempregados_ escolaridade'!Q28","v":5.9191055573824397E-2},null,{"$f":"'Desempregados_ escolaridade'!S28/'Desempregados_ escolaridade'!Y28","v":0.11334240980258679},{"$f":"'Desempregados_ escolaridade'!T28/'Desempregados_ escolaridade'!Y28","v":0.28182437031994556},{"$f":"'Desempregados_ escolaridade'!U28/'Desempregados_ escolaridade'!Y28","v":0.19230769230769232},{"$f":"'Desempregados_ escolaridade'!V28/'Desempregados_ escolaridade'!Y28","v":0.19230769230769232},{"$f":"'Desempregados_ escolaridade'!W28/'Desempregados_ escolaridade'!Y28","v":0.15078284547311097},{"$f":"'Desempregados_ escolaridade'!X28/'Desempregados_ escolaridade'!Y28","v":6.9434989788972085E-2},null,{"$f":"'Desempregados_ escolaridade'!AA28/'Desempregados_ escolaridade'!AG28","v":0.11801980198019801},{"$f":"'Desempregados_ escolaridade'!AB28/'Desempregados_ escolaridade'!AG28","v":0.30574257425742574},{"$f":"'Desempregados_ escolaridade'!AC28/'Desempregados_ escolaridade'!AG28","v":0.19722772277227724},{"$f":"'Desempregados_ escolaridade'!AD28/'Desempregados_ escolaridade'!AG28","v":0.17821782178217821},{"$f":"'Desempregados_ escolaridade'!AE28/'Desempregados_ escolaridade'!AG28","v":0.14376237623762375},{"$f":"'Desempregados_ escolaridade'!AF28/'Desempregados_ escolaridade'!AG28","v":5.7029702970297032E-2}]
[null,"Misericórdia",{"$f":"'Desempregados_ escolaridade'!C29/'Desempregados_ escolaridade'!I29","v":8.681318681318681E-2},{"$f":"'Desempregados_ escolaridade'!D29/'Desempregados_ escolaridade'!I29","v":0.14285714285714285},{"$f":"'Desempregados_ escolaridade'!E29/'Desempregados_ escolaridade'!I29","v":0.14615384615384616},{"$f":"'Desempregados_ escolaridade'!F29/'Desempregados_ escolaridade'!I29","v":0.15494505494505495},{"$f":"'Desempregados_ escolaridade'!G29/'Desempregados_ escolaridade'!I29","v":0.24945054945054945},{"$f":"'Desempregados_ escolaridade'!H29/'Desempregados_ escolaridade'!I29","v":0.21978021978021978},null,{"$f":"'Desempregados_ escolaridade'!K29/'Desempregados_ escolaridade'!Q29","v":9.0799031476997583E-2},{"$f":"'Desempregados_ escolaridade'!L29/'Desempregados_ escolaridade'!Q29","v":0.14891041162227603},{"$f":"'Desempregados_ escolaridade'!M29/'Desempregados_ escolaridade'!Q29","v":0.14043583535108958},{"$f":"'Desempregados_ escolaridade'!N29/'Desempregados_ escolaridade'!Q29","v":0.17191283292978207},{"$f":"'Desempregados_ escolaridade'!O29/'Desempregados_ escolaridade'!Q29","v":0.2566585956416465},{"$f":"'Desempregados_ escolaridade'!P29/'Desempregados_ escolaridade'!Q29","v":0.19128329297820823},null,{"$f":"'Desempregados_ escolaridade'!S29/'Desempregados_ escolaridade'!Y29","v":8.247422680412371E-2},{"$f":"'Desempregados_ escolaridade'!T29/'Desempregados_ escolaridade'!Y29","v":0.1404639175257732},{"$f":"'Desempregados_ escolaridade'!U29/'Desempregados_ escolaridade'!Y29","v":0.14304123711340205},{"$f":"'Desempregados_ escolaridade'!V29/'Desempregados_ escolaridade'!Y29","v":0.15979381443298968},{"$f":"'Desempregados_ escolaridade'!W29/'Desempregados_ escolaridade'!Y29","v":0.25773195876288657},{"$f":"'Desempregados_ escolaridade'!X29/'Desempregados_ escolaridade'!Y29","v":0.21649484536082475},null,{"$f":"'Desempregados_ escolaridade'!AA29/'Desempregados_ escolaridade'!AG29","v":7.7138849929873771E-2},{"$f":"'Desempregados_ escolaridade'!AB29/'Desempregados_ escolaridade'!AG29","v":0.15287517531556802},{"$f":"'Desempregados_ escolaridade'!AC29/'Desempregados_ escolaridade'!AG29","v":0.15287517531556802},{"$f":"'Desempregados_ escolaridade'!AD29/'Desempregados_ escolaridade'!AG29","v":0.14866760168302945},{"$f":"'Desempregados_ escolaridade'!AE29/'Desempregados_ escolaridade'!AG29","v":0.24824684431977559},{"$f":"'Desempregados_ escolaridade'!AF29/'Desempregados_ escolaridade'!AG29","v":0.22019635343618513}]
[null,"Olivais",{"$f":"'Desempregados_ escolaridade'!C30/'Desempregados_ escolaridade'!I30","v":6.2176165803108807E-2},{"$f":"'Desempregados_ escolaridade'!D30/'Desempregados_ escolaridade'!I30","v":0.16062176165803108},{"$f":"'Desempregados_ escolaridade'!E30/'Desempregados_ escolaridade'!I30","v":0.12953367875647667},{"$f":"'Desempregados_ escolaridade'!F30/'Desempregados_ escolaridade'!I30","v":0.18652849740932642},{"$f":"'Desempregados_ escolaridade'!G30/'Desempregados_ escolaridade'!I30","v":0.24870466321243523},{"$f":"'Desempregados_ escolaridade'!H30/'Desempregados_ escolaridade'!I30","v":0.21243523316062177},null,{"$f":"'Desempregados_ escolaridade'!K30/'Desempregados_ escolaridade'!Q30","v":6.1224489795918366E-2},{"$f":"'Desempregados_ escolaridade'!L30/'Desempregados_ escolaridade'!Q30","v":0.16909620991253643},{"$f":"'Desempregados_ escolaridade'!M30/'Desempregados_ escolaridade'!Q30","v":0.15743440233236153},{"$f":"'Desempregados_ escolaridade'!N30/'Desempregados_ escolaridade'!Q30","v":0.16618075801749271},{"$f":"'Desempregados_ escolaridade'!O30/'Desempregados_ escolaridade'!Q30","v":0.24198250728862974},{"$f":"'Desempregados_ escolaridade'!P30/'Desempregados_ escolaridade'!Q30","v":0.20408163265306123},null,{"$f":"'Desempregados_ escolaridade'!S30/'Desempregados_ escolaridade'!Y30","v":4.7008547008547008E-2},{"$f":"'Desempregados_ escolaridade'!T30/'Desempregados_ escolaridade'!Y30","v":0.13461538461538461},{"$f":"'Desempregados_ escolaridade'!U30/'Desempregados_ escolaridade'!Y30","v":0.1623931623931624},{"$f":"'Desempregados_ escolaridade'!V30/'Desempregados_ escolaridade'!Y30","v":0.17307692307692307},{"$f":"'Desempregados_ escolaridade'!W30/'Desempregados_ escolaridade'!Y30","v":0.25},{"$f":"'Desempregados_ escolaridade'!X30/'Desempregados_ escolaridade'!Y30","v":0.23290598290598291},null,{"$f":"'Desempregados_ escolaridade'!AA30/'Desempregados_ escolaridade'!AG30","v":5.1001821493624776E-2},{"$f":"'Desempregados_ escolaridade'!AB30/'Desempregados_ escolaridade'!AG30","v":0.14571948998178508},{"$f":"'Desempregados_ escolaridade'!AC30/'Desempregados_ escolaridade'!AG30","v":0.14207650273224043},{"$f":"'Desempregados_ escolaridade'!AD30/'Desempregados_ escolaridade'!AG30","v":0.17122040072859745},{"$f":"'Desempregados_ escolaridade'!AE30/'Desempregados_ escolaridade'!AG30","v":0.24590163934426229},{"$f":"'Desempregados_ escolaridade'!AF30/'Desempregados_ escolaridade'!AG30","v":0.24408014571948999}]
[null,"Parque das Nações",{"$f":"'Desempregados_ escolaridade'!C31/'Desempregados_ escolaridade'!I31","v":7.5430245331380444E-2},{"$f":"'Desempregados_ escolaridade'!D31/'Desempregados_ escolaridade'!I31","v":0.19260344196265106},{"$f":"'Desempregados_ escolaridade'!E31/'Desempregados_ escolaridade'!I31","v":0.16514097400219699},{"$f":"'Desempregados_ escolaridade'!F31/'Desempregados_ escolaridade'!I31","v":0.17466129622848772},{"$f":"'Desempregados_ escolaridade'!G31/'Desempregados_ escolaridade'!I31","v":0.21310875137312341},{"$f":"'Desempregados_ escolaridade'!H31/'Desempregados_ escolaridade'!I31","v":0.17905529110216037},null,{"$f":"'Desempregados_ escolaridade'!K31/'Desempregados_ escolaridade'!Q31","v":8.2275890298812937E-2},{"$f":"'Desempregados_ escolaridade'!L31/'Desempregados_ escolaridade'!Q31","v":0.20057306590257878},{"$f":"'Desempregados_ escolaridade'!M31/'Desempregados_ escolaridade'!Q31","v":0.16946377404830126},{"$f":"'Desempregados_ escolaridade'!N31/'Desempregados_ escolaridade'!Q31","v":0.16577977896029472},{"$f":"'Desempregados_ escolaridade'!O31/'Desempregados_ escolaridade'!Q31","v":0.20261972984036022},{"$f":"'Desempregados_ escolaridade'!P31/'Desempregados_ escolaridade'!Q31","v":0.17928776094965207},null,{"$f":"'Desempregados_ escolaridade'!S31/'Desempregados_ escolaridade'!Y31","v":9.0350877192982459E-2},{"$f":"'Desempregados_ escolaridade'!T31/'Desempregados_ escolaridade'!Y31","v":0.19736842105263158},{"$f":"'Desempregados_ escolaridade'!U31/'Desempregados_ escolaridade'!Y31","v":0.15570175438596492},{"$f":"'Desempregados_ escolaridade'!V31/'Desempregados_ escolaridade'!Y31","v":0.15964912280701754},{"$f":"'Desempregados_ escolaridade'!W31/'Desempregados_ escolaridade'!Y31","v":0.20175438596491227},{"$f":"'Desempregados_ escolaridade'!X31/'Desempregados_ escolaridade'!Y31","v":0.19517543859649122},null,{"$f":"'Desempregados_ escolaridade'!AA31/'Desempregados_ escolaridade'!AG31","v":9.7427476737821567E-2},{"$f":"'Desempregados_ escolaridade'!AB31/'Desempregados_ escolaridade'!AG31","v":0.2112753147235906},{"$f":"'Desempregados_ escolaridade'!AC31/'Desempregados_ escolaridade'!AG31","v":0.15489874110563764},{"$f":"'Desempregados_ escolaridade'!AD31/'Desempregados_ escolaridade'!AG31","v":0.15599343185550082},{"$f":"'Desempregados_ escolaridade'!AE31/'Desempregados_ escolaridade'!AG31","v":0.19047619047619047},{"$f":"'Desempregados_ escolaridade'!AF31/'Desempregados_ escolaridade'!AG31","v":0.1899288451012589}]
[null,"Penha de França",{"$f":"'Desempregados_ escolaridade'!C32/'Desempregados_ escolaridade'!I32","v":0.10222457627118645},{"$f":"'Desempregados_ escolaridade'!D32/'Desempregados_ escolaridade'!I32","v":0.1451271186440678},{"$f":"'Desempregados_ escolaridade'!E32/'Desempregados_ escolaridade'!I32","v":0.14565677966101695},{"$f":"'Desempregados_ escolaridade'!F32/'Desempregados_ escolaridade'!I32","v":0.18591101694915255},{"$f":"'Desempregados_ escolaridade'!G32/'Desempregados_ escolaridade'!I32","v":0.23463983050847459},{"$f":"'Desempregados_ escolaridade'!H32/'Desempregados_ escolaridade'!I32","v":0.1864406779661017},null,{"$f":"'Desempregados_ escolaridade'!K32/'Desempregados_ escolaridade'!Q32","v":9.9187935034802791E-2},{"$f":"'Desempregados_ escolaridade'!L32/'Desempregados_ escolaridade'!Q32","v":0.13457076566125289},{"$f":"'Desempregados_ escolaridade'!M32/'Desempregados_ escolaridade'!Q32","v":0.15255220417633411},{"$f":"'Desempregados_ escolaridade'!N32/'Desempregados_ escolaridade'!Q32","v":0.18967517401392112},{"$f":"'Desempregados_ escolaridade'!O32/'Desempregados_ escolaridade'!Q32","v":0.23665893271461716},{"$f":"'Desempregados_ escolaridade'!P32/'Desempregados_ escolaridade'!Q32","v":0.18735498839907191},null,{"$f":"'Desempregados_ escolaridade'!S32/'Desempregados_ escolaridade'!Y32","v":8.8474970896391156E-2},{"$f":"'Desempregados_ escolaridade'!T32/'Desempregados_ escolaridade'!Y32","v":0.13038416763678695},{"$f":"'Desempregados_ escolaridade'!U32/'Desempregados_ escolaridade'!Y32","v":0.14260768335273574},{"$f":"'Desempregados_ escolaridade'!V32/'Desempregados_ escolaridade'!Y32","v":0.179860302677532},{"$f":"'Desempregados_ escolaridade'!W32/'Desempregados_ escolaridade'!Y32","v":0.2520372526193248},{"$f":"'Desempregados_ escolaridade'!X32/'Desempregados_ escolaridade'!Y32","v":0.20663562281722933},null,{"$f":"'Desempregados_ escolaridade'!AA32/'Desempregados_ escolaridade'!AG32","v":8.5771276595744683E-2},{"$f":"'Desempregados_ escolaridade'!AB32/'Desempregados_ escolaridade'!AG32","v":0.14827127659574468},{"$f":"'Desempregados_ escolaridade'!AC32/'Desempregados_ escolaridade'!AG32","v":0.1589095744680851},{"$f":"'Desempregados_ escolaridade'!AD32/'Desempregados_ escolaridade'!AG32","v":0.19082446808510639},{"$f":"'Desempregados_ escolaridade'!AE32/'Desempregados_ escolaridade'!AG32","v":0.22805851063829788},{"$f":"'Desempregados_ escolaridade'!AF32/'Desempregados_ escolaridade'!AG32","v":0.18816489361702127}]
[null,"Santa Clara",{"$f":"'Desempregados_ escolaridade'!C33/'Desempregados_ escolaridade'!I33","v":0.18706697459584296},{"$f":"'Desempregados_ escolaridade'!D33/'Desempregados_ escolaridade'!I33","v":0.24157043879907622},{"$f":"'Desempregados_ escolaridade'!E33/'Desempregados_ escolaridade'!I33","v":0.18891454965357968},{"$f":"'Desempregados_ escolaridade'!F33/'Desempregados_ escolaridade'!I33","v":0.15288683602771364},{"$f":"'Desempregados_ escolaridade'!G33/'Desempregados_ escolaridade'!I33","v":0.14826789838337182},{"$f":"'Desempregados_ escolaridade'!H33/'Desempregados_ escolaridade'!I33","v":8.129330254041571E-2},null,{"$f":"'Desempregados_ escolaridade'!K33/'Desempregados_ escolaridade'!Q33","v":0.20009760858955589},{"$f":"'Desempregados_ escolaridade'!L33/'Desempregados_ escolaridade'!Q33","v":0.26061493411420206},{"$f":"'Desempregados_ escolaridade'!M33/'Desempregados_ escolaridade'!Q33","v":0.18399219131283553},{"$f":"'Desempregados_ escolaridade'!N33/'Desempregados_ escolaridade'!Q33","v":0.14250854075158614},{"$f":"'Desempregados_ escolaridade'!O33/'Desempregados_ escolaridade'!Q33","v":0.13177159590043924},{"$f":"'Desempregados_ escolaridade'!P33/'Desempregados_ escolaridade'!Q33","v":8.1015129331381164E-2},null,{"$f":"'Desempregados_ escolaridade'!S33/'Desempregados_ escolaridade'!Y33","v":0.19792694965449162},{"$f":"'Desempregados_ escolaridade'!T33/'Desempregados_ escolaridade'!Y33","v":0.26159921026653504},{"$f":"'Desempregados_ escolaridade'!U33/'Desempregados_ escolaridade'!Y33","v":0.17423494570582429},{"$f":"'Desempregados_ escolaridade'!V33/'Desempregados_ escolaridade'!Y33","v":0.13524185587364265},{"$f":"'Desempregados_ escolaridade'!W33/'Desempregados_ escolaridade'!Y33","v":0.15301085883514315},{"$f":"'Desempregados_ escolaridade'!X33/'Desempregados_ escolaridade'!Y33","v":7.7986179664363275E-2},null,{"$f":"'Desempregados_ escolaridade'!AA33/'Desempregados_ escolaridade'!AG33","v":0.20968629609246009},{"$f":"'Desempregados_ escolaridade'!AB33/'Desempregados_ escolaridade'!AG33","v":0.27958172812328014},{"$f":"'Desempregados_ escolaridade'!AC33/'Desempregados_ escolaridade'!AG33","v":0.18216840946615301},{"$f":"'Desempregados_ escolaridade'!AD33/'Desempregados_ escolaridade'!AG33","v":0.13043478260869565},{"$f":"'Desempregados_ escolaridade'!AE33/'Desempregados_ escolaridade'!AG33","v":0.12052834342322509},{"$f":"'Desempregados_ escolaridade'!AF33/'Desempregados_ escolaridade'!AG33","v":7.7600440286186026E-2}]
[null,"Santa Maria Maior",{"$f":"'Desempregados_ escolaridade'!C34/'Desempregados_ escolaridade'!I34","v":0.16341689879294335},{"$f":"'Desempregados_ escolaridade'!D34/'Desempregados_ escolaridade'!I34","v":0.15227483751160631},{"$f":"'Desempregados_ escolaridade'!E34/'Desempregados_ escolaridade'!I34","v":0.16063138347260911},{"$f":"'Desempregados_ escolaridade'!F34/'Desempregados_ escolaridade'!I34","v":0.1894150417827298},{"$f":"'Desempregados_ escolaridade'!G34/'Desempregados_ escolaridade'!I34","v":0.17548746518105848},{"$f":"'Desempregados_ escolaridade'!H34/'Desempregados_ escolaridade'!I34","v":0.15877437325905291},null,{"$f":"'Desempregados_ escolaridade'!K34/'Desempregados_ escolaridade'!Q34","v":0.14799154334038056},{"$f":"'Desempregados_ escolaridade'!L34/'Desempregados_ escolaridade'!Q34","v":0.15961945031712474},{"$f":"'Desempregados_ escolaridade'!M34/'Desempregados_ escolaridade'!Q34","v":0.15750528541226216},{"$f":"'Desempregados_ escolaridade'!N34/'Desempregados_ escolaridade'!Q34","v":0.20507399577167018},{"$f":"'Desempregados_ escolaridade'!O34/'Desempregados_ escolaridade'!Q34","v":0.19238900634249473},{"$f":"'Desempregados_ escolaridade'!P34/'Desempregados_ escolaridade'!Q34","v":0.13742071881606766},null,{"$f":"'Desempregados_ escolaridade'!S34/'Desempregados_ escolaridade'!Y34","v":0.14020857473928158},{"$f":"'Desempregados_ escolaridade'!T34/'Desempregados_ escolaridade'!Y34","v":0.17844727694090382},{"$f":"'Desempregados_ escolaridade'!U34/'Desempregados_ escolaridade'!Y34","v":0.14831981460023175},{"$f":"'Desempregados_ escolaridade'!V34/'Desempregados_ escolaridade'!Y34","v":0.17960602549246812},{"$f":"'Desempregados_ escolaridade'!W34/'Desempregados_ escolaridade'!Y34","v":0.1981460023174971},{"$f":"'Desempregados_ escolaridade'!X34/'Desempregados_ escolaridade'!Y34","v":0.1552723059096176},null,{"$f":"'Desempregados_ escolaridade'!AA34/'Desempregados_ escolaridade'!AG34","v":0.1400523560209424},{"$f":"'Desempregados_ escolaridade'!AB34/'Desempregados_ escolaridade'!AG34","v":0.17015706806282724},{"$f":"'Desempregados_ escolaridade'!AC34/'Desempregados_ escolaridade'!AG34","v":0.15968586387434555},{"$f":"'Desempregados_ escolaridade'!AD34/'Desempregados_ escolaridade'!AG34","v":0.18455497382198952},{"$f":"'Desempregados_ escolaridade'!AE34/'Desempregados_ escolaridade'!AG34","v":0.19633507853403143},{"$f":"'Desempregados_ escolaridade'!AF34/'Desempregados_ escolaridade'!AG34","v":0.14921465968586387}]
[null,"Santo António",{"$f":"'Desempregados_ escolaridade'!C35/'Desempregados_ escolaridade'!I35","v":8.611825192802057E-2},{"$f":"'Desempregados_ escolaridade'!D35/'Desempregados_ escolaridade'!I35","v":0.11568123393316196},{"$f":"'Desempregados_ escolaridade'!E35/'Desempregados_ escolaridade'!I35","v":0.12210796915167095},{"$f":"'Desempregados_ escolaridade'!F35/'Desempregados_ escolaridade'!I35","v":0.15167095115681234},{"$f":"'Desempregados_ escolaridade'!G35/'Desempregados_ escolaridade'!I35","v":0.25449871465295631},{"$f":"'Desempregados_ escolaridade'!H35/'Desempregados_ escolaridade'!I35","v":0.26992287917737789},null,{"$f":"'Desempregados_ escolaridade'!K35/'Desempregados_ escolaridade'!Q35","v":6.6485753052917235E-2},{"$f":"'Desempregados_ escolaridade'!L35/'Desempregados_ escolaridade'!Q35","v":0.10583446404341927},{"$f":"'Desempregados_ escolaridade'!M35/'Desempregados_ escolaridade'!Q35","v":0.10990502035278155},{"$f":"'Desempregados_ escolaridade'!N35/'Desempregados_ escolaridade'!Q35","v":0.15061058344640435},{"$f":"'Desempregados_ escolaridade'!O35/'Desempregados_ escolaridade'!Q35","v":0.27544097693351427},{"$f":"'Desempregados_ escolaridade'!P35/'Desempregados_ escolaridade'!Q35","v":0.29172320217096337},null,{"$f":"'Desempregados_ escolaridade'!S35/'Desempregados_ escolaridade'!Y35","v":6.0191518467852256E-2},{"$f":"'Desempregados_ escolaridade'!T35/'Desempregados_ escolaridade'!Y35","v":0.11080711354309165},{"$f":"'Desempregados_ escolaridade'!U35/'Desempregados_ escolaridade'!Y35","v":0.10123119015047879},{"$f":"'Desempregados_ escolaridade'!V35/'Desempregados_ escolaridade'!Y35","v":0.1436388508891929},{"$f":"'Desempregados_ escolaridade'!W35/'Desempregados_ escolaridade'!Y35","v":0.28864569083447333},{"$f":"'Desempregados_ escolaridade'!X35/'Desempregados_ escolaridade'!Y35","v":0.29548563611491108},null,{"$f":"'Desempregados_ escolaridade'!AA35/'Desempregados_ escolaridade'!AG35","v":7.371794871794872E-2},{"$f":"'Desempregados_ escolaridade'!AB35/'Desempregados_ escolaridade'!AG35","v":0.125},{"$f":"'Desempregados_ escolaridade'!AC35/'Desempregados_ escolaridade'!AG35","v":0.10737179487179487},{"$f":"'Desempregados_ escolaridade'!AD35/'Desempregados_ escolaridade'!AG35","v":0.15384615384615385},{"$f":"'Desempregados_ escolaridade'!AE35/'Desempregados_ escolaridade'!AG35","v":0.24679487179487181},{"$f":"'Desempregados_ escolaridade'!AF35/'Desempregados_ escolaridade'!AG35","v":0.29326923076923078}]
[null,"São Domingos de Benfica",{"$f":"'Desempregados_ escolaridade'!C36/'Desempregados_ escolaridade'!I36","v":1.8698060941828253E-2},{"$f":"'Desempregados_ escolaridade'!D36/'Desempregados_ escolaridade'!I36","v":7.6177285318559551E-2},{"$f":"'Desempregados_ escolaridade'!E36/'Desempregados_ escolaridade'!I36","v":8.4487534626038779E-2},{"$f":"'Desempregados_ escolaridade'!F36/'Desempregados_ escolaridade'!I36","v":0.13434903047091412},{"$f":"'Desempregados_ escolaridade'!G36/'Desempregados_ escolaridade'!I36","v":0.29501385041551248},{"$f":"'Desempregados_ escolaridade'!H36/'Desempregados_ escolaridade'!I36","v":0.3912742382271468},null,{"$f":"'Desempregados_ escolaridade'!K36/'Desempregados_ escolaridade'!Q36","v":1.9908116385911178E-2},{"$f":"'Desempregados_ escolaridade'!L36/'Desempregados_ escolaridade'!Q36","v":7.8866768759571215E-2},{"$f":"'Desempregados_ escolaridade'!M36/'Desempregados_ escolaridade'!Q36","v":7.9632465543644712E-2},{"$f":"'Desempregados_ escolaridade'!N36/'Desempregados_ escolaridade'!Q36","v":0.14241960183767227},{"$f":"'Desempregados_ escolaridade'!O36/'Desempregados_ escolaridade'!Q36","v":0.28483920367534454},{"$f":"'Desempregados_ escolaridade'!P36/'Desempregados_ escolaridade'!Q36","v":0.39433384379785608},null,{"$f":"'Desempregados_ escolaridade'!S36/'Desempregados_ escolaridade'!Y36","v":2.0705521472392636E-2},{"$f":"'Desempregados_ escolaridade'!T36/'Desempregados_ escolaridade'!Y36","v":7.2852760736196315E-2},{"$f":"'Desempregados_ escolaridade'!U36/'Desempregados_ escolaridade'!Y36","v":8.052147239263803E-2},{"$f":"'Desempregados_ escolaridade'!V36/'Desempregados_ escolaridade'!Y36","v":0.14417177914110429},{"$f":"'Desempregados_ escolaridade'!W36/'Desempregados_ escolaridade'!Y36","v":0.24923312883435583},{"$f":"'Desempregados_ escolaridade'!X36/'Desempregados_ escolaridade'!Y36","v":0.43251533742331288},null,{"$f":"'Desempregados_ escolaridade'!AA36/'Desempregados_ escolaridade'!AG36","v":2.2295623451692816E-2},{"$f":"'Desempregados_ escolaridade'!AB36/'Desempregados_ escolaridade'!AG36","v":8.1750619322873655E-2},{"$f":"'Desempregados_ escolaridade'!AC36/'Desempregados_ escolaridade'!AG36","v":8.1750619322873655E-2},{"$f":"'Desempregados_ escolaridade'!AD36/'Desempregados_ escolaridade'!AG36","v":0.12716763005780346},{"$f":"'Desempregados_ escolaridade'!AE36/'Desempregados_ escolaridade'!AG36","v":0.25681255161023947},{"$f":"'Desempregados_ escolaridade'!AF36/'Desempregados_ escolaridade'!AG36","v":0.43022295623451695}]
[null,"São Vicente",{"$f":"'Desempregados_ escolaridade'!C37/'Desempregados_ escolaridade'!I37","v":8.8092933204259441E-2},{"$f":"'Desempregados_ escolaridade'!D37/'Desempregados_ escolaridade'!I37","v":0.15876089060987417},{"$f":"'Desempregados_ escolaridade'!E37/'Desempregados_ escolaridade'!I37","v":0.14714424007744434},{"$f":"'Desempregados_ escolaridade'!F37/'Desempregados_ escolaridade'!I37","v":0.19167473378509198},{"$f":"'Desempregados_ escolaridade'!G37/'Desempregados_ escolaridade'!I37","v":0.24491771539206195},{"$f":"'Desempregados_ escolaridade'!H37/'Desempregados_ escolaridade'!I37","v":0.16940948693126814},null,{"$f":"'Desempregados_ escolaridade'!K37/'Desempregados_ escolaridade'!Q37","v":8.1138040042149626E-2},{"$f":"'Desempregados_ escolaridade'!L37/'Desempregados_ escolaridade'!Q37","v":0.1654373024236038},{"$f":"'Desempregados_ escolaridade'!M37/'Desempregados_ escolaridade'!Q37","v":0.14963119072708114},{"$f":"'Desempregados_ escolaridade'!N37/'Desempregados_ escolaridade'!Q37","v":0.20758693361433087},{"$f":"'Desempregados_ escolaridade'!O37/'Desempregados_ escolaridade'!Q37","v":0.23709167544783982},{"$f":"'Desempregados_ escolaridade'!P37/'Desempregados_ escolaridade'!Q37","v":0.15911485774499473},null,{"$f":"'Desempregados_ escolaridade'!S37/'Desempregados_ escolaridade'!Y37","v":7.7595628415300544E-2},{"$f":"'Desempregados_ escolaridade'!T37/'Desempregados_ escolaridade'!Y37","v":0.17158469945355193},{"$f":"'Desempregados_ escolaridade'!U37/'Desempregados_ escolaridade'!Y37","v":0.13879781420765028},{"$f":"'Desempregados_ escolaridade'!V37/'Desempregados_ escolaridade'!Y37","v":0.19672131147540983},{"$f":"'Desempregados_ escolaridade'!W37/'Desempregados_ escolaridade'!Y37","v":0.24043715846994534},{"$f":"'Desempregados_ escolaridade'!X37/'Desempregados_ escolaridade'!Y37","v":0.17486338797814208},null,{"$f":"'Desempregados_ escolaridade'!AA37/'Desempregados_ escolaridade'!AG37","v":7.8580481622306714E-2},{"$f":"'Desempregados_ escolaridade'!AB37/'Desempregados_ escolaridade'!AG37","v":0.18377693282636248},{"$f":"'Desempregados_ escolaridade'!AC37/'Desempregados_ escolaridade'!AG37","v":0.15462610899873258},{"$f":"'Desempregados_ escolaridade'!AD37/'Desempregados_ escolaridade'!AG37","v":0.16476552598225602},{"$f":"'Desempregados_ escolaridade'!AE37/'Desempregados_ escolaridade'!AG37","v":0.21039290240811154},{"$f":"'Desempregados_ escolaridade'!AF37/'Desempregados_ escolaridade'!AG37","v":0.20785804816223066}]
[null,"Freg. Não Codificada",{"$f":"'Desempregados_ escolaridade'!C38/'Desempregados_ escolaridade'!I38","v":2.6315789473684209E-2},{"$f":"'Desempregados_ escolaridade'!D38/'Desempregados_ escolaridade'!I38","v":2.6315789473684209E-2},{"$f":"'Desempregados_ escolaridade'!E38/'Desempregados_ escolaridade'!I38","v":0.13157894736842105},{"$f":"'Desempregados_ escolaridade'!F38/'Desempregados_ escolaridade'!I38","v":0.18421052631578946},{"$f":"'Desempregados_ escolaridade'!G38/'Desempregados_ escolaridade'!I38","v":0.36842105263157893},{"$f":"'Desempregados_ escolaridade'!H38/'Desempregados_ escolaridade'!I38","v":0.26315789473684209},null,"-",{"$f":"'Desempregados_ escolaridade'!L38/'Desempregados_ escolaridade'!Q38","v":0.05},{"$f":"'Desempregados_ escolaridade'!M38/'Desempregados_ escolaridade'!Q38","v":7.4999999999999997E-2},{"$f":"'Desempregados_ escolaridade'!N38/'Desempregados_ escolaridade'!Q38","v":0.125},{"$f":"'Desempregados_ escolaridade'!O38/'Desempregados_ escolaridade'!Q38","v":0.2},{"$f":"'Desempregados_ escolaridade'!P38/'Desempregados_ escolaridade'!Q38","v":0.55000000000000004},null,{"$f":"'Desempregados_ escolaridade'!S38/'Desempregados_ escolaridade'!Y38","v":0},{"$f":"'Desempregados_ escolaridade'!T38/'Desempregados_ escolaridade'!Y38","v":7.8431372549019607E-2},{"$f":"'Desempregados_ escolaridade'!U38/'Desempregados_ escolaridade'!Y38","v":9.8039215686274508E-2},{"$f":"'Desempregados_ escolaridade'!V38/'Desempregados_ escolaridade'!Y38","v":7.8431372549019607E-2},{"$f":"'Desempregados_ escolaridade'!W38/'Desempregados_ escolaridade'!Y38","v":0.21568627450980393},{"$f":"'Desempregados_ escolaridade'!X38/'Desempregados_ escolaridade'!Y38","v":0.52941176470588236},null,{"$f":"'Desempregados_ escolaridade'!AA38/'Desempregados_ escolaridade'!AG38","v":3.0303030303030304E-2},{"$f":"'Desempregados_ escolaridade'!AB38/'Desempregados_ escolaridade'!AG38","v":0.12121212121212122},{"$f":"'Desempregados_ escolaridade'!AC38/'Desempregados_ escolaridade'!AG38","v":9.0909090909090912E-2},{"$f":"'Desempregados_ escolaridade'!AD38/'Desempregados_ escolaridade'!AG38","v":0.18181818181818182},{"$f":"'Desempregados_ escolaridade'!AE38/'Desempregados_ escolaridade'!AG38","v":0.12121212121212122},{"$f":"'Desempregados_ escolaridade'!AF38/'Desempregados_ escolaridade'!AG38","v":0.45454545454545453}]
[]
[null,"Fonte: Instituto de Emprego e Formação Profissional"]
[null,"Cálculos: OLCPL"]

{"sheet":"DLD Genero ","index":8,"n_rows":42,"n_cols":17,"rows_kept":42,"cut":false,"hidden":false,"merged":[[40,2,40,6],[39,2,39,8],[6,2,6,16],[7,2,7,4],[7,6,7,8],[7,10,7,12],[7,14,7,16]]}
[]
[]
[]
[]
["Q.7","Número de desempregados de longa duração inscritos nos Centros de Emprego, género, 2014"]
[]
[null,null,"Número de desempregados de longa duração inscritos nos Centros de Emprego, género 2014"]
[null,null,"1º TRIMESTRE",null,null,null,"2º TRIMESTRE",null,2,null,"3º TRIMESTRE",null,null,null,"4º TRIMESTRE",null,4]
[null,"Unidade: Nº","Fem","Masc","Total",null,"Fem","Masc","Total",null,"Fem","Masc","Total",null,"Fem","Masc","Total"]
[null,"Portugal Continental",162589,153691,316280,null,151542,143173,294715,null,155281,140161,295442,null,145282,133036,{"$f":"SUM(O10+P10)","v":278318}]
[null,"AML",36003,38621,74624,null,6738,8066,14804,null,34966,35204,70170,null,31335,32204,63539]
[null,"Distrito de Lisboa",27690,30566,58256,null,26235,28738,{"$f":"SUM(G12:H12)","v":54973},null,27458,26451,53909,null,23236,24784,48020]
[null,"Concelho de Lisboa",7167,8611,15778,null,{"$f":"SUM(G14:G38)","v":6738},{"$f":"SUM(H14:H38)","v":8066},14804,null,6905,7885,14790,null,5943,7107,13050]
[null,"Ajuda",244,254,498,null,238,229,467,null,244,236,480,null,204,211,415]
[null,"Alcântara",173,208,381,null,170,191,361,null,168,190,358,null,133,155,288]
[null,"Alvalade",355,347,702,null,298,337,635,null,301,326,627,null,245,257,502]
[null,"Areeiro",290,256,546,null,262,242,504,null,258,229,487,null,225,214,439]
[null,"Arroios",432,623,1055,null,381,597,978,null,374,599,973,null,313,526,839]
[null,"Avenidas Novas",282,236,518,null,246,225,471,null,245,223,468,null,191,203,394]
[null,"Beato",198,300,498,null,177,293,470,null,186,289,475,null,167,244,411]
[null,"Belém",143,134,277,null,121,114,235,null,126,116,242,null,99,96,195]
[null,"Benfica",513,582,1095,null,511,528,1039,null,493,493,986,null,489,464,953]
[null,"Campo de Ourique",269,253,522,null,238,235,473,null,260,232,492,null,245,227,472]
[null,"Campolide",177,213,390,null,153,180,333,null,151,171,322,null,150,195,345]
[null,"Carnide",253,296,549,null,265,304,569,null,266,293,559,null,242,299,541]
[null,"Estrela",212,213,425,null,201,205,406,null,210,195,405,null,169,176,345]
[null,"Lumiar",459,506,965,null,462,476,938,null,453,465,918,null,416,481,897]
[null,"Marvila",658,970,1628,null,643,899,1542,null,690,894,1584,null,587,792,1379]
[null,"Misericórdia",171,231,402,null,147,218,365,null,156,206,362,null,124,175,299]
[null,"Olivais",12,6,18,null,33,19,52,null,38,30,68,null,47,45,92]
[null,"Parque das Nações",638,809,1447,null,607,778,1385,null,619,750,1369,null,496,630,1126]
[null,"Penha de França",405,484,889,null,365,453,818,null,376,427,803,null,293,363,656]
[null,"Santa Clara",412,615,1027,null,394,587,981,null,421,588,1009,null,396,532,928]
[null,"Santa Maria Maior",172,266,438,null,161,243,404,null,171,236,407,null,135,208,343]
[null,"Santo António",148,184,332,null,146,161,307,null,150,155,305,null,111,129,240]
[null,"São Domingos de Benfica",339,340,679,null,313,306,619,null,334,317,651,null,292,294,586]
[null,"São Vicente",207,278,485,null,194,240,434,null,197,218,415,null,165,186,351]
[null,"Freg. Não Codificada",5,7,12,null,12,6,18,null,18,7,25,null,9,5,14]
[]
[null,"Fonte: Instituto de Emprego e Formação Profissional"]
[null,"Cálculos: OLCPL"]
[null,"Notas n.d.: não disponível (para valores =< 5, por razões de confidencialidade dados não disponibilizados pela fonte)"]

{"sheet":"DLD Genero %","index":9,"n_rows":42,"n_cols":13,"rows_kept":42,"cut":false,"hidden":false,"merged":[[8,11,8,12],[6,2,6,12],[7,2,7,12],[8,5,8,6],[42,2,42,14],[40,2,40,3],[41,2,41,3],[8,2,8,3],[8,8,8,9]]}
[]
[]
[]
[]
["Q.8","Desempregados de longa duração inscritos nos Centros de Emprego, género, 2014 (%)"]
[]
[null,null,"Desempregados de longa duração inscritos nos Centros de Emprego, Género "]
[null,null,"%"]
[null,null,"1º TRIMESTRE",null,null,"2º TRIMESTRE",null,null,"3º TRIMESTRE",null,null,"4º TRIMESTRE"]
[null,"Unidade: Nº e %","Fem","Masc",null,"Fem","Masc","Fem","Fem","Masc",null,"Fem","Masc"]
[null,"Portugal Continental",{"$f":"'DLD Genero '!C10/'DLD Genero '!E10","v":0.51406664980397121},{"$f":"'DLD Genero '!D10/'DLD Genero '!E10","v":0.48593335019602885},null,{"$f":"'DLD Genero '!G10/'DLD Genero '!I10","v":0.51419846292180582},{"$f":"'DLD Genero '!H10/'DLD Genero '!I10","v":0.48580153707819418},null,{"$f":"'DLD Genero '!K10/'DLD Genero '!M10","v":0.52558877884660948},{"$f":"'DLD Genero '!L10/'DLD Genero '!M10","v":0.47441122115339052},null,{"$f":"'DLD Genero '!O10/'DLD Genero '!Q10","v":0.52200001437204924},{"$f":"'DLD Genero '!P10/'DLD Genero '!Q10","v":0.47799998562795076}]
[null,"AML",{"$f":"'DLD Genero '!C11/'DLD Genero '!E11","v":0.48245872641509435},{"$f":"'DLD Genero '!D11/'DLD Genero '!E11","v":0.51754127358490565},null,{"$f":"'DLD Genero '!G11/'DLD Genero '!I11","v":0.45514725749797352},{"$f":"'DLD Genero '!H11/'DLD Genero '!I11","v":0.54485274250202653},null,{"$f":"'DLD Genero '!K11/'DLD Genero '!M11","v":0.4983041185691891},{"$f":"'DLD Genero '!L11/'DLD Genero '!M11","v":0.5016958814308109},null,{"$f":"'DLD Genero '!O11/'DLD Genero '!Q11","v":0.49316168022789153},{"$f":"'DLD Genero '!P11/'DLD Genero '!Q11","v":0.50683831977210847}]
[null,"Distrito de Lisboa",{"$f":"'DLD Genero '!C12/'DLD Genero '!E12","v":0.47531584729469928},{"$f":"'DLD Genero '!D12/'DLD Genero '!E12","v":0.52468415270530078},null,{"$f":"'DLD Genero '!G12/'DLD Genero '!I12","v":0.47723427864588069},{"$f":"'DLD Genero '!H12/'DLD Genero '!I12","v":0.52276572135411925},null,{"$f":"'DLD Genero '!K12/'DLD Genero '!M12","v":0.50933981338922996},{"$f":"'DLD Genero '!L12/'DLD Genero '!M12","v":0.49066018661076999},null,{"$f":"'DLD Genero '!O12/'DLD Genero '!Q12","v":0.48388171595168677},{"$f":"'DLD Genero '!P12/'DLD Genero '!Q12","v":0.51611828404831317}]
[null,"Concelho de Lisboa",{"$f":"'DLD Genero '!C13/'DLD Genero '!E13","v":0.45424008112561792},{"$f":"'DLD Genero '!D13/'DLD Genero '!E13","v":0.54575991887438202},null,{"$f":"'DLD Genero '!G13/'DLD Genero '!I13","v":0.45514725749797352},{"$f":"'DLD Genero '!H13/'DLD Genero '!I13","v":0.54485274250202653},null,{"$f":"'DLD Genero '!K13/'DLD Genero '!M13","v":0.46686950642325897},{"$f":"'DLD Genero '!L13/'DLD Genero '!M13","v":0.53313049357674103},null,{"$f":"'DLD Genero '!O13/'DLD Genero '!Q13","v":0.4554022988505747},{"$f":"'DLD Genero '!P13/'DLD Genero '!Q13","v":0.5445977011494253}]
[null,"Ajuda",{"$f":"'DLD Genero '!C14/'DLD Genero '!E14","v":0.48995983935742971},{"$f":"'DLD Genero '!D14/'DLD Genero '!E14","v":0.51004016064257029},null,{"$f":"'DLD Genero '!G14/'DLD Genero '!I14","v":0.50963597430406848},{"$f":"'DLD Genero '!H14/'DLD Genero '!I14","v":0.49036402569593146},null,{"$f":"'DLD Genero '!K14/'DLD Genero '!M14","v":0.5083333333333333},{"$f":"'DLD Genero '!L14/'DLD Genero '!M14","v":0.49166666666666664},null,{"$f":"'DLD Genero '!O14/'DLD Genero '!Q14","v":0.49156626506024098},{"$f":"'DLD Genero '!P14/'DLD Genero '!Q14","v":0.50843373493975907}]
[null,"Alcântara",{"$f":"'DLD Genero '!C15/'DLD Genero '!E15","v":0.45406824146981628},{"$f":"'DLD Genero '!D15/'DLD Genero '!E15","v":0.54593175853018372},null,{"$f":"'DLD Genero '!G15/'DLD Genero '!I15","v":0.47091412742382271},{"$f":"'DLD Genero '!H15/'DLD Genero '!I15","v":0.52908587257617734},null,{"$f":"'DLD Genero '!K15/'DLD Genero '!M15","v":0.46927374301675978},{"$f":"'DLD Genero '!L15/'DLD Genero '!M15","v":0.53072625698324027},null,{"$f":"'DLD Genero '!O15/'DLD Genero '!Q15","v":0.46180555555555558},{"$f":"'DLD Genero '!P15/'DLD Genero '!Q15","v":0.53819444444444442}]
[null,"Alvalade",{"$f":"'DLD Genero '!C16/'DLD Genero '!E16","v":0.50569800569800571},{"$f":"'DLD Genero '!D16/'DLD Genero '!E16","v":0.49430199430199429},null,{"$f":"'DLD Genero '!G16/'DLD Genero '!I16","v":0.46929133858267719},{"$f":"'DLD Genero '!H16/'DLD Genero '!I16","v":0.53070866141732287},null,{"$f":"'DLD Genero '!K16/'DLD Genero '!M16","v":0.48006379585326953},{"$f":"'DLD Genero '!L16/'DLD Genero '!M16","v":0.51993620414673047},null,{"$f":"'DLD Genero '!O16/'DLD Genero '!Q16","v":0.48804780876494025},{"$f":"'DLD Genero '!P16/'DLD Genero '!Q16","v":0.51195219123505975}]
[null,"Areeiro",{"$f":"'DLD Genero '!C17/'DLD Genero '!E17","v":0.53113553113553114},{"$f":"'DLD Genero '!D17/'DLD Genero '!E17","v":0.46886446886446886},null,{"$f":"'DLD Genero '!G17/'DLD Genero '!I17","v":0.51984126984126988},{"$f":"'DLD Genero '!H17/'DLD Genero '!I17","v":0.48015873015873017},null,{"$f":"'DLD Genero '!K17/'DLD Genero '!M17","v":0.52977412731006157},{"$f":"'DLD Genero '!L17/'DLD Genero '!M17","v":0.47022587268993837},null,{"$f":"'DLD Genero '!O17/'DLD Genero '!Q17","v":0.51252847380410027},{"$f":"'DLD Genero '!P17/'DLD Genero '!Q17","v":0.48747152619589978}]
[null,"Arroios",{"$f":"'DLD Genero '!C18/'DLD Genero '!E18","v":0.409478672985782},{"$f":"'DLD Genero '!D18/'DLD Genero '!E18","v":0.590521327014218},null,{"$f":"'DLD Genero '!G18/'DLD Genero '!I18","v":0.38957055214723929},{"$f":"'DLD Genero '!H18/'DLD Genero '!I18","v":0.61042944785276076},null,{"$f":"'DLD Genero '!K18/'DLD Genero '!M18","v":0.38437821171634123},{"$f":"'DLD Genero '!L18/'DLD Genero '!M18","v":0.61562178828365877},null,{"$f":"'DLD Genero '!O18/'DLD Genero '!Q18","v":0.37306317044100118},{"$f":"'DLD Genero '!P18/'DLD Genero '!Q18","v":0.62693682955899876}]
[null,"Avenidas Novas",{"$f":"'DLD Genero '!C19/'DLD Genero '!E19","v":0.54440154440154442},{"$f":"'DLD Genero '!D19/'DLD Genero '!E19","v":0.45559845559845558},null,{"$f":"'DLD Genero '!G19/'DLD Genero '!I19","v":0.52229299363057324},{"$f":"'DLD Genero '!H19/'DLD Genero '!I19","v":0.47770700636942676},null,{"$f":"'DLD Genero '!K19/'DLD Genero '!M19","v":0.52350427350427353},{"$f":"'DLD Genero '!L19/'DLD Genero '!M19","v":0.47649572649572647},null,{"$f":"'DLD Genero '!O19/'DLD Genero '!Q19","v":0.48477157360406092},{"$f":"'DLD Genero '!P19/'DLD Genero '!Q19","v":0.51522842639593913}]
[null,"Beato",{"$f":"'DLD Genero '!C20/'DLD Genero '!E20","v":0.39759036144578314},{"$f":"'DLD Genero '!D20/'DLD Genero '!E20","v":0.60240963855421692},null,{"$f":"'DLD Genero '!G20/'DLD Genero '!I20","v":0.37659574468085105},{"$f":"'DLD Genero '!H20/'DLD Genero '!I20","v":0.62340425531914889},null,{"$f":"'DLD Genero '!K20/'DLD Genero '!M20","v":0.39157894736842103},{"$f":"'DLD Genero '!L20/'DLD Genero '!M20","v":0.60842105263157897},null,{"$f":"'DLD Genero '!O20/'DLD Genero '!Q20","v":0.40632603406326034},{"$f":"'DLD Genero '!P20/'DLD Genero '!Q20","v":0.59367396593673971}]
[null,"Belém",{"$f":"'DLD Genero '!C21/'DLD Genero '!E21","v":0.51624548736462095},{"$f":"'DLD Genero '!D21/'DLD Genero '!E21","v":0.48375451263537905},null,{"$f":"'DLD Genero '!G21/'DLD Genero '!I21","v":0.51489361702127656},{"$f":"'DLD Genero '!H21/'DLD Genero '!I21","v":0.48510638297872338},null,{"$f":"'DLD Genero '!K21/'DLD Genero '!M21","v":0.52066115702479343},{"$f":"'DLD Genero '!L21/'DLD Genero '!M21","v":0.47933884297520662},null,{"$f":"'DLD Genero '!O21/'DLD Genero '!Q21","v":0.50769230769230766},{"$f":"'DLD Genero '!P21/'DLD Genero '!Q21","v":0.49230769230769234}]
[null,"Benfica",{"$f":"'DLD Genero '!C22/'DLD Genero '!E22","v":0.46849315068493153},{"$f":"'DLD Genero '!D22/'DLD Genero '!E22","v":0.53150684931506853},null,{"$f":"'DLD Genero '!G22/'DLD Genero '!I22","v":0.49181905678537052},{"$f":"'DLD Genero '!H22/'DLD Genero '!I22","v":0.50818094321462948},null,{"$f":"'DLD Genero '!K22/'DLD Genero '!M22","v":0.5},{"$f":"'DLD Genero '!L22/'DLD Genero '!M22","v":0.5},null,{"$f":"'DLD Genero '!O22/'DLD Genero '!Q22","v":0.51311647429171037},{"$f":"'DLD Genero '!P22/'DLD Genero '!Q22","v":0.48688352570828963}]
[null,"Campo de Ourique",{"$f":"'DLD Genero '!C23/'DLD Genero '!E23","v":0.51532567049808431},{"$f":"'DLD Genero '!D23/'DLD Genero '!E23","v":0.48467432950191569},null,{"$f":"'DLD Genero '!G23/'DLD Genero '!I23","v":0.5031712473572939},{"$f":"'DLD Genero '!H23/'DLD Genero '!I23","v":0.49682875264270615},null,{"$f":"'DLD Genero '!K23/'DLD Genero '!M23","v":0.52845528455284552},{"$f":"'DLD Genero '!L23/'DLD Genero '!M23","v":0.47154471544715448},null,{"$f":"'DLD Genero '!O23/'DLD Genero '!Q23","v":0.51906779661016944},{"$f":"'DLD Genero '!P23/'DLD Genero '!Q23","v":0.4809322033898305}]
[null,"Campolide",{"$f":"'DLD Genero '!C24/'DLD Genero '!E24","v":0.45384615384615384},{"$f":"'DLD Genero '!D24/'DLD Genero '!E24","v":0.5461538461538461},null,{"$f":"'DLD Genero '!G24/'DLD Genero '!I24","v":0.45945945945945948},{"$f":"'DLD Genero '!H24/'DLD Genero '!I24","v":0.54054054054054057},null,{"$f":"'DLD Genero '!K24/'DLD Genero '!M24","v":0.46894409937888198},{"$f":"'DLD Genero '!L24/'DLD Genero '!M24","v":0.53105590062111796},null,{"$f":"'DLD Genero '!O24/'DLD Genero '!Q24","v":0.43478260869565216},{"$f":"'DLD Genero '!P24/'DLD Genero '!Q24","v":0.56521739130434778}]
[null,"Carnide",{"$f":"'DLD Genero '!C25/'DLD Genero '!E25","v":0.46083788706739526},{"$f":"'DLD Genero '!D25/'DLD Genero '!E25","v":0.53916211293260474},null,{"$f":"'DLD Genero '!G25/'DLD Genero '!I25","v":0.46572934973637964},{"$f":"'DLD Genero '!H25/'DLD Genero '!I25","v":0.53427065026362042},null,{"$f":"'DLD Genero '!K25/'DLD Genero '!M25","v":0.47584973166368516},{"$f":"'DLD Genero '!L25/'DLD Genero '!M25","v":0.52415026833631484},null,{"$f":"'DLD Genero '!O25/'DLD Genero '!Q25","v":0.44731977818853974},{"$f":"'DLD Genero '!P25/'DLD Genero '!Q25","v":0.55268022181146026}]
[null,"Estrela",{"$f":"'DLD Genero '!C26/'DLD Genero '!E26","v":0.49882352941176472},{"$f":"'DLD Genero '!D26/'DLD Genero '!E26","v":0.50117647058823533},null,{"$f":"'DLD Genero '!G26/'DLD Genero '!I26","v":0.49507389162561577},{"$f":"'DLD Genero '!H26/'DLD Genero '!I26","v":0.50492610837438423},null,{"$f":"'DLD Genero '!K26/'DLD Genero '!M26","v":0.51851851851851849},{"$f":"'DLD Genero '!L26/'DLD Genero '!M26","v":0.48148148148148145},null,{"$f":"'DLD Genero '!O26/'DLD Genero '!Q26","v":0.48985507246376814},{"$f":"'DLD Genero '!P26/'DLD Genero '!Q26","v":0.51014492753623186}]
[null,"Lumiar",{"$f":"'DLD Genero '!C27/'DLD Genero '!E27","v":0.47564766839378236},{"$f":"'DLD Genero '!D27/'DLD Genero '!E27","v":0.52435233160621764},null,{"$f":"'DLD Genero '!G27/'DLD Genero '!I27","v":0.4925373134328358},{"$f":"'DLD Genero '!H27/'DLD Genero '!I27","v":0.5074626865671642},null,{"$f":"'DLD Genero '!K27/'DLD Genero '!M27","v":0.49346405228758172},{"$f":"'DLD Genero '!L27/'DLD Genero '!M27","v":0.50653594771241828},null,{"$f":"'DLD Genero '!O27/'DLD Genero '!Q27","v":0.46376811594202899},{"$f":"'DLD Genero '!P27/'DLD Genero '!Q27","v":0.53623188405797106}]
[null,"Marvila",{"$f":"'DLD Genero '!C28/'DLD Genero '!E28","v":0.40417690417690416},{"$f":"'DLD Genero '!D28/'DLD Genero '!E28","v":0.59582309582309578},null,{"$f":"'DLD Genero '!G28/'DLD Genero '!I28","v":0.41699092088197148},{"$f":"'DLD Genero '!H28/'DLD Genero '!I28","v":0.58300907911802857},null,{"$f":"'DLD Genero '!K28/'DLD Genero '!M28","v":0.43560606060606061},{"$f":"'DLD Genero '!L28/'DLD Genero '!M28","v":0.56439393939393945},null,{"$f":"'DLD Genero '!O28/'DLD Genero '!Q28","v":0.42567077592458302},{"$f":"'DLD Genero '!P28/'DLD Genero '!Q28","v":0.57432922407541698}]
[null,"Misericórdia",{"$f":"'DLD Genero '!C29/'DLD Genero '!E29","v":0.42537313432835822},{"$f":"'DLD Genero '!D29/'DLD Genero '!E29","v":0.57462686567164178},null,{"$f":"'DLD Genero '!G29/'DLD Genero '!I29","v":0.40273972602739727},{"$f":"'DLD Genero '!H29/'DLD Genero '!I29","v":0.59726027397260273},null,{"$f":"'DLD Genero '!K29/'DLD Genero '!M29","v":0.43093922651933703},{"$f":"'DLD Genero '!L29/'DLD Genero '!M29","v":0.56906077348066297},null,{"$f":"'DLD Genero '!O29/'DLD Genero '!Q29","v":0.41471571906354515},{"$f":"'DLD Genero '!P29/'DLD Genero '!Q29","v":0.5852842809364549}]
[null,"Olivais",{"$f":"'DLD Genero '!C30/'DLD Genero '!E30","v":0.66666666666666663},{"$f":"'DLD Genero '!D30/'DLD Genero '!E30","v":0.33333333333333331},null,{"$f":"'DLD Genero '!G30/'DLD Genero '!I30","v":0.63461538461538458},{"$f":"'DLD Genero '!H30/'DLD Genero '!I30","v":0.36538461538461536},null,{"$f":"'DLD Genero '!K30/'DLD Genero '!M30","v":0.55882352941176472},{"$f":"'DLD Genero '!L30/'DLD Genero '!M30","v":0.44117647058823528},null,{"$f":"'DLD Genero '!O30/'DLD Genero '!Q30","v":0.51086956521739135},{"$f":"'DLD Genero '!P30/'DLD Genero '!Q30","v":0.4891304347826087}]
[null,"Parque das Nações",{"$f":"'DLD Genero '!C31/'DLD Genero '!E31","v":0.44091223220456116},{"$f":"'DLD Genero '!D31/'DLD Genero '!E31","v":0.55908776779543878},null,{"$f":"'DLD Genero '!G31/'DLD Genero '!I31","v":0.43826714801444044},{"$f":"'DLD Genero '!H31/'DLD Genero '!I31","v":0.56173285198555956},null,{"$f":"'DLD Genero '!K31/'DLD Genero '!M31","v":0.45215485756026297},{"$f":"'DLD Genero '!L31/'DLD Genero '!M31","v":0.54784514243973703},null,{"$f":"'DLD Genero '!O31/'DLD Genero '!Q31","v":0.4404973357015986},{"$f":"'DLD Genero '!P31/'DLD Genero '!Q31","v":0.55950266429840145}]
[null,"Penha de França",{"$f":"'DLD Genero '!C32/'DLD Genero '!E32","v":0.45556805399325084},{"$f":"'DLD Genero '!D32/'DLD Genero '!E32","v":0.54443194600674916},null,{"$f":"'DLD Genero '!G32/'DLD Genero '!I32","v":0.44621026894865523},{"$f":"'DLD Genero '!H32/'DLD Genero '!I32","v":0.55378973105134477},null,{"$f":"'DLD Genero '!K32/'DLD Genero '!M32","v":0.46824408468244083},{"$f":"'DLD Genero '!L32/'DLD Genero '!M32","v":0.53175591531755917},null,{"$f":"'DLD Genero '!O32/'DLD Genero '!Q32","v":0.44664634146341464},{"$f":"'DLD Genero '!P32/'DLD Genero '!Q32","v":0.55335365853658536}]
[null,"Santa Clara",{"$f":"'DLD Genero '!C33/'DLD Genero '!E33","v":0.40116845180136318},{"$f":"'DLD Genero '!D33/'DLD Genero '!E33","v":0.59883154819863682},null,{"$f":"'DLD Genero '!G33/'DLD Genero '!I33","v":0.40163098878695208},{"$f":"'DLD Genero '!H33/'DLD Genero '!I33","v":0.59836901121304786},null,{"$f":"'DLD Genero '!K33/'DLD Genero '!M33","v":0.4172447968285431},{"$f":"'DLD Genero '!L33/'DLD Genero '!M33","v":0.5827552031714569},null,{"$f":"'DLD Genero '!O33/'DLD Genero '!Q33","v":0.42672413793103448},{"$f":"'DLD Genero '!P33/'DLD Genero '!Q33","v":0.57327586206896552}]
[null,"Santa Maria Maior",{"$f":"'DLD Genero '!C34/'DLD Genero '!E34","v":0.39269406392694062},{"$f":"'DLD Genero '!D34/'DLD Genero '!E34","v":0.60730593607305938},null,{"$f":"'DLD Genero '!G34/'DLD Genero '!I34","v":0.39851485148514854},{"$f":"'DLD Genero '!H34/'DLD Genero '!I34","v":0.60148514851485146},null,{"$f":"'DLD Genero '!K34/'DLD Genero '!M34","v":0.42014742014742013},{"$f":"'DLD Genero '!L34/'DLD Genero '!M34","v":0.57985257985257987},null,{"$f":"'DLD Genero '!O34/'DLD Genero '!Q34","v":0.39358600583090381},{"$f":"'DLD Genero '!P34/'DLD Genero '!Q34","v":0.60641399416909625}]
[null,"Santo António",{"$f":"'DLD Genero '!C35/'DLD Genero '!E35","v":0.44578313253012047},{"$f":"'DLD Genero '!D35/'DLD Genero '!E35","v":0.55421686746987953},null,{"$f":"'DLD Genero '!G35/'DLD Genero '!I35","v":0.47557003257328989},{"$f":"'DLD Genero '!H35/'DLD Genero '!I35","v":0.52442996742671011},null,{"$f":"'DLD Genero '!K35/'DLD Genero '!M35","v":0.49180327868852458},{"$f":"'DLD Genero '!L35/'DLD Genero '!M35","v":0.50819672131147542},null,{"$f":"'DLD Genero '!O35/'DLD Genero '!Q35","v":0.46250000000000002},{"$f":"'DLD Genero '!P35/'DLD Genero '!Q35","v":0.53749999999999998}]
[null,"São Domingos de Benfica",{"$f":"'DLD Genero '!C36/'DLD Genero '!E36","v":0.49926362297496318},{"$f":"'DLD Genero '!D36/'DLD Genero '!E36","v":0.50073637702503682},null,{"$f":"'DLD Genero '!G36/'DLD Genero '!I36","v":0.50565428109854604},{"$f":"'DLD Genero '!H36/'DLD Genero '!I36","v":0.49434571890145396},null,{"$f":"'DLD Genero '!K36/'DLD Genero '!M36","v":0.51305683563748083},{"$f":"'DLD Genero '!L36/'DLD Genero '!M36","v":0.48694316436251922},null,{"$f":"'DLD Genero '!O36/'DLD Genero '!Q36","v":0.49829351535836175},{"$f":"'DLD Genero '!P36/'DLD Genero '!Q36","v":0.50170648464163825}]
[null,"São Vicente",{"$f":"'DLD Genero '!C37/'DLD Genero '!E37","v":0.42680412371134019},{"$f":"'DLD Genero '!D37/'DLD Genero '!E37","v":0.57319587628865976},null,{"$f":"'DLD Genero '!G37/'DLD Genero '!I37","v":0.44700460829493088},{"$f":"'DLD Genero '!H37/'DLD Genero '!I37","v":0.55299539170506917},null,{"$f":"'DLD Genero '!K37/'DLD Genero '!M37","v":0.47469879518072289},{"$f":"'DLD Genero '!L37/'DLD Genero '!M37","v":0.52530120481927711},null,{"$f":"'DLD Genero '!O37/'DLD Genero '!Q37","v":0.47008547008547008},{"$f":"'DLD Genero '!P37/'DLD Genero '!Q37","v":0.52991452991452992}]
[null,"Freg. Não Codificada",{"$f":"'DLD Genero '!C38/'DLD Genero '!E38","v":0.41666666666666669},{"$f":"'DLD Genero '!D38/'DLD Genero '!E38","v":0.58333333333333337},null,{"$f":"'DLD Genero '!G38/'DLD Genero '!I38","v":0.66666666666666663},{"$f":"'DLD Genero '!H38/'DLD Genero '!I38","v":0.33333333333333331},null,{"$f":"'DLD Genero '!K38/'DLD Genero '!M38","v":0.72},{"$f":"'DLD Genero '!L38/'DLD Genero '!M38","v":0.28000000000000003},null,{"$f":"'DLD Genero '!O38/'DLD Genero '!Q38","v":0.6428571428571429},{"$f":"'DLD Genero '!P38/'DLD Genero '!Q38","v":0.35714285714285715}]
[]
[null,"Fonte: Instituto de Emprego e Formação Profissional"]
[null,"Cálculos: OLCPL"]

{"sheet":"DLD Idades ","index":10,"n_rows":42,"n_cols":25,"rows_kept":42,"cut":false,"hidden":false,"merged":[[44,2,44,16],[43,2,43,6],[42,2,42,6],[42,7,42,10],[42,12,42,14],[6,2,6,24],[7,2,7,6],[7,8,7,12],[7,14,7,18],[7,20,7,24]]}
[]
[]
[]
[]
["Q.9","Número de desempregados de longa duração inscritos nos Centros de Emprego, idade, 2014"]
[]
[null,null,"Número de desempregados de longa duração inscritos nos Centros de Emprego, idade"]
[null,null,"1º TRIMESTRE",null,null,null,null,null,"2º TRIMESTRE",null,null,null,null,null,"3º TRIMESTRE",null,null,null,null,null,"4º TRIMESTRE"]
[null,"Unidade: Nº","< 25 Anos","25 - 34 Anos","35 - 54 Anos","55 Anos e +","Total",null,"< 25 Anos","25 - 34 Anos","35 - 54 Anos","55 Anos e +","Total",null,"< 25 Anos","25 - 34 Anos","35 - 54 Anos","55 Anos e +","Total",null,"< 25 Anos","25 - 34 Anos","35 - 54 Anos","55 Anos e +","Total"]
[null,"Portugal Continental",17299,48321,161651,89009,316280,null,13485,40895,152197,88138,294715,null,15178,41507,150317,88440,295442,null,15662,38619,137784,86253,278318]
[null,"AML",2771,10797,40457,20599,74624,null,2184,9051,38551,20786,70572,null,2357,8908,37765,21140,70170,null,2261,8107,33221,19950,63539]
[null,"Distrito de Lisboa",2085,8327,31630,16214,58256,null,1622,6841,30058,16452,{"$f":"SUM(I12:L12)","v":54973},null,1757,6641,28950,16561,53909,null,1673,5808,25070,15469,48020]
[null,"Concelho de Lisboa",595,2446,8488,4249,15778,null,{"$f":"SUM(I14:I38)","v":524},{"$f":"SUM(J14:J38)","v":2029},8028,4223,14804,null,547,1981,7941,4321,14790,null,494,1721,6596,4239,13050]
[null,"Ajuda",24,89,276,109,498,null,26,81,250,110,467,null,22,83,263,112,{"$f":"SUM(O14:R14)","v":480},null,17,75,218,105,415]
[null,"Alcântara",12,50,215,104,381,null,6,42,209,104,361,null,11,45,204,98,{"$f":"SUM(O15:R15)","v":358},null,6,32,148,102,288]
[null,"Alvalade",23,108,406,165,702,null,19,81,379,156,635,null,24,76,357,170,627,null,16,61,258,167,502]
[null,"Areeiro",16,70,285,175,546,null,19,62,254,169,504,null,18,61,252,156,487,null,18,68,194,159,439]
[null,"Arroios",29,154,606,266,1055,null,16,141,554,267,978,null,13,119,540,301,973,null,18,95,427,299,839]
[null,"Avenidas Novas",13,78,269,158,518,null,12,56,245,158,471,null,14,56,245,153,468,null,13,48,174,159,394]
[null,"Beato",31,64,269,134,498,null,17,53,261,139,470,null,16,52,258,149,475,null,16,41,212,142,411]
[null,"Belém",1,40,163,73,277,null,1,27,139,68,235,null,2,29,143,68,242,null,1,25,108,61,195]
[null,"Benfica",34,159,609,293,1095,null,35,120,589,295,1039,null,39,126,528,293,986,null,32,118,495,308,953]
[null,"Campo de Ourique",12,74,277,159,522,null,4,63,246,160,473,null,11,45,272,164,492,null,4,37,255,176,472]
[null,"Campolide",8,52,216,114,390,null,9,37,182,105,333,null,9,32,169,112,322,null,10,25,186,124,345]
[null,"Carnide",46,82,276,145,549,null,41,76,301,151,569,null,36,78,284,161,559,null,36,73,273,159,541]
[null,"Estrela",9,56,230,130,425,null,10,44,217,135,406,null,9,40,213,143,405,null,10,35,155,145,345]
[null,"Lumiar",22,152,531,260,965,null,20,141,515,262,938,null,31,123,520,244,918,null,27,132,493,245,897]
[null,"Marvila",94,274,843,417,1628,null,87,233,791,431,1542,null,92,243,784,465,1584,null,83,190,656,450,1379]
[null,"Misericórdia",8,66,216,112,402,null,5,46,201,113,365,null,3,41,201,117,362,null,4,35,150,110,299]
[null,"Olivais",3,1,12,2,18,null,5,8,28,11,52,null,7,14,37,10,68,null,9,19,49,15,92]
[null,"Parque das Nações",69,245,764,369,1447,null,74,210,753,348,1385,null,72,194,745,358,1369,null,67,157,554,348,1126]
[null,"Penha de França",27,142,468,252,889,null,18,122,444,234,818,null,17,115,441,230,803,null,17,102,332,205,656]
[null,"Santa Clara",61,214,512,240,1027,null,56,187,497,241,981,null,57,202,506,244,1009,null,55,187,452,234,928]
[null,"Santa Maria Maior",15,59,248,116,438,null,12,46,232,114,404,null,8,34,241,124,407,null,6,25,194,118,343]
[null,"Santo António",6,42,171,113,332,null,4,30,162,111,307,null,5,32,162,106,305,null,7,27,108,98,240]
[null,"São Domingos de Benfica",11,95,365,208,679,null,14,69,328,208,619,null,21,87,328,215,651,null,12,73,303,198,586]
[null,"São Vicente",19,78,254,134,485,null,13,52,238,131,434,null,10,48,231,126,415,null,9,38,194,110,351]
[null,"Freg. Não Codificada",2,2,7,1,12,null,1,2,13,2,18,null,"-",6,17,2,25,null,1,3,8,2,14]
[]
[null,"Fonte: Instituto de Emprego e Formação Profissional"]
[null,"Cálculos: OLCPL"]
[null,"Notas n.d.: não disponível (para valores =< 5, por razões de confidencialidade dados não disponibilizados pela fonte)"]

{"sheet":"DLD idades %","index":11,"n_rows":41,"n_cols":21,"rows_kept":41,"cut":false,"hidden":false,"merged":[[8,17,8,20],[6,2,6,20],[7,2,7,20],[8,12,8,15],[8,7,8,10],[66,2,66,5],[8,2,8,5],[42,2,42,5],[43,2,43,5],[44,2,44,10]]}
[]
[]
[]
[]
["Q.10","Desempregados de longa duração inscritos nos Centros de Emprego, idade (%)"]
[]
[null,null,"Desempregados de longa duração inscritos nos Centros de Emprego, Idades "]
[null,null,"%"]
[null,null,"1º TRIMESTRE",null,null,null,null,"2º TRIMESTRE",null,null,null,null,"3º TRIMESTRE",null,null,null,null,"4º TRIMESTRE"]
[null,"Unidade: Nº e %","< 25 Anos","25 - 34 Anos","35 - 54 Anos","55 Anos e +",null,"< 25 Anos","25 - 34 Anos","35 - 54 Anos","55 Anos e +",null,"< 25 Anos","25 - 34 Anos","35 - 54 Anos","55 Anos e +",null,"< 25 Anos","25 - 34 Anos","35 - 54 Anos","55 Anos e +"]
[null,"Portugal Continental",{"$f":"'DLD Idades '!C10/'DLD Idades '!G10","v":5.4695206778803594E-2},{"$f":"'DLD Idades '!D10/'DLD Idades '!G10","v":0.15277918300240292},{"$f":"'DLD Idades '!E10/'DLD Idades '!G10","v":0.51110092323257872},{"$f":"'DLD Idades '!F10/'DLD Idades '!G10","v":0.28142468698621476},null,{"$f":"'DLD Idades '!I10/'DLD Idades '!M10","v":4.575606942300188E-2},{"$f":"'DLD Idades '!J10/'DLD Idades '!M10","v":0.13876117605143953},{"$f":"'DLD Idades '!K10/'DLD Idades '!M10","v":0.51642094905247438},{"$f":"'DLD Idades '!L10/'DLD Idades '!M10","v":0.29906180547308414},null,{"$f":"'DLD Idades '!O10/'DLD Idades '!S10","v":5.1373873721407247E-2},{"$f":"'DLD Idades '!P10/'DLD Idades '!S10","v":0.14049119624156348},{"$f":"'DLD Idades '!Q10/'DLD Idades '!S10","v":0.50878683464097862},{"$f":"'DLD Idades '!R10/'DLD Idades '!S10","v":0.29934809539605067},null,{"$f":"'DLD Idades '!U10/'DLD Idades '!Y10","v":5.6273758793897628E-2},{"$f":"'DLD Idades '!V10/'DLD Idades '!Y10","v":0.13875854238676621},{"$f":"'DLD Idades '!W10/'DLD Idades '!Y10","v":0.49505960807421728},{"$f":"'DLD Idades '!X10/'DLD Idades '!Y10","v":0.30990809074511888}]
[null,"AML",{"$f":"'DLD Idades '!C11/'DLD Idades '!G11","v":3.7132825900514581E-2},{"$f":"'DLD Idades '!D11/'DLD Idades '!G11","v":0.14468535591766724},{"$f":"'DLD Idades '!E11/'DLD Idades '!G11","v":0.54214461835334482},{"$f":"'DLD Idades '!F11/'DLD Idades '!G11","v":0.27603719982847341},null,{"$f":"'DLD Idades '!I11/'DLD Idades '!M11","v":3.0947117837102533E-2},{"$f":"'DLD Idades '!J11/'DLD Idades '!M11","v":0.12825199795953068},{"$f":"'DLD Idades '!K11/'DLD Idades '!M11","v":0.54626480757240836},{"$f":"'DLD Idades '!L11/'DLD Idades '!M11","v":0.29453607663095843},null,{"$f":"'DLD Idades '!O11/'DLD Idades '!S11","v":3.3589853213624059E-2},{"$f":"'DLD Idades '!P11/'DLD Idades '!S11","v":0.12694883853498645},{"$f":"'DLD Idades '!Q11/'DLD Idades '!S11","v":0.53819295995439642},{"$f":"'DLD Idades '!R11/'DLD Idades '!S11","v":0.301268348296993},null,{"$f":"'DLD Idades '!U11/'DLD Idades '!Y11","v":3.5584444199625427E-2},{"$f":"'DLD Idades '!V11/'DLD Idades '!Y11","v":0.12759092840617572},{"$f":"'DLD Idades '!W11/'DLD Idades '!Y11","v":0.52284423739750385},{"$f":"'DLD Idades '!X11/'DLD Idades '!Y11","v":0.31398038999669492}]
[null,"Distrito de Lisboa",{"$f":"'DLD Idades '!C12/'DLD Idades '!G12","v":3.5790304861301837E-2},{"$f":"'DLD Idades '!D12/'DLD Idades '!G12","v":0.14293806646525681},{"$f":"'DLD Idades '!E12/'DLD Idades '!G12","v":0.54294836583356221},{"$f":"'DLD Idades '!F12/'DLD Idades '!G12","v":0.27832326283987913},null,{"$f":"'DLD Idades '!I12/'DLD Idades '!M12","v":2.9505393556836991E-2},{"$f":"'DLD Idades '!J12/'DLD Idades '!M12","v":0.1244429083368199},{"$f":"'DLD Idades '!K12/'DLD Idades '!M12","v":0.5467775089589435},{"$f":"'DLD Idades '!L12/'DLD Idades '!M12","v":0.29927418914739962},null,{"$f":"'DLD Idades '!O12/'DLD Idades '!S12","v":3.259196052607171E-2},{"$f":"'DLD Idades '!P12/'DLD Idades '!S12","v":0.12318907789051921},{"$f":"'DLD Idades '!Q12/'DLD Idades '!S12","v":0.5370160826578122},{"$f":"'DLD Idades '!R12/'DLD Idades '!S12","v":0.30720287892559683},null,{"$f":"'DLD Idades '!U12/'DLD Idades '!Y12","v":3.4839650145772595E-2},{"$f":"'DLD Idades '!V12/'DLD Idades '!Y12","v":0.12094960433152853},{"$f":"'DLD Idades '!W12/'DLD Idades '!Y12","v":0.52207413577675965},{"$f":"'DLD Idades '!X12/'DLD Idades '!Y12","v":0.32213660974593922}]
[null,"Concelho de Lisboa",{"$f":"'DLD Idades '!C13/'DLD Idades '!G13","v":3.7710736468500441E-2},{"$f":"'DLD Idades '!D13/'DLD Idades '!G13","v":0.15502598554949931},{"$f":"'DLD Idades '!E13/'DLD Idades '!G13","v":0.53796425402459125},{"$f":"'DLD Idades '!F13/'DLD Idades '!G13","v":0.26929902395740907},null,{"$f":"'DLD Idades '!I13/'DLD Idades '!M13","v":3.5395838962442583E-2},{"$f":"'DLD Idades '!J13/'DLD Idades '!M13","v":0.13705755201296946},{"$f":"'DLD Idades '!K13/'DLD Idades '!M13","v":0.54228586868413942},{"$f":"'DLD Idades '!L13/'DLD Idades '!M13","v":0.28526074034044852},null,{"$f":"'DLD Idades '!O13/'DLD Idades '!S13","v":3.698444895199459E-2},{"$f":"'DLD Idades '!P13/'DLD Idades '!S13","v":0.1339418526031102},{"$f":"'DLD Idades '!Q13/'DLD Idades '!S13","v":0.5369168356997972},{"$f":"'DLD Idades '!R13/'DLD Idades '!S13","v":0.29215686274509806},null,{"$f":"'DLD Idades '!U13/'DLD Idades '!Y13","v":3.7854406130268199E-2},{"$f":"'DLD Idades '!V13/'DLD Idades '!Y13","v":0.13187739463601533},{"$f":"'DLD Idades '!W13/'DLD Idades '!Y13","v":0.50544061302681997},{"$f":"'DLD Idades '!X13/'DLD Idades '!Y13","v":0.32482758620689656}]
[null,"Ajuda",{"$f":"'DLD Idades '!C14/'DLD Idades '!G14","v":4.8192771084337352E-2},{"$f":"'DLD Idades '!D14/'DLD Idades '!G14","v":0.17871485943775101},{"$f":"'DLD Idades '!E14/'DLD Idades '!G14","v":0.55421686746987953},{"$f":"'DLD Idades '!F14/'DLD Idades '!G14","v":0.21887550200803213},null,{"$f":"'DLD Idades '!I14/'DLD Idades '!M14","v":5.5674518201284794E-2},{"$f":"'DLD Idades '!J14/'DLD Idades '!M14","v":0.17344753747323341},{"$f":"'DLD Idades '!K14/'DLD Idades '!M14","v":0.53533190578158463},{"$f":"'DLD Idades '!L14/'DLD Idades '!M14","v":0.23554603854389722},null,{"$f":"'DLD Idades '!O14/'DLD Idades '!S14","v":4.583333333333333E-2},{"$f":"'DLD Idades '!P14/'DLD Idades '!S14","v":0.17291666666666666},{"$f":"'DLD Idades '!Q14/'DLD Idades '!S14","v":0.54791666666666672},{"$f":"'DLD Idades '!R14/'DLD Idades '!S14","v":0.23333333333333334},null,{"$f":"'DLD Idades '!U14/'DLD Idades '!Y14","v":4.0963855421686748E-2},{"$f":"'DLD Idades '!V14/'DLD Idades '!Y14","v":0.18072289156626506},{"$f":"'DLD Idades '!W14/'DLD Idades '!Y14","v":0.52530120481927711},{"$f":"'DLD Idades '!X14/'DLD Idades '!Y14","v":0.25301204819277107}]
[null,"Alcântara",{"$f":"'DLD Idades '!C15/'DLD Idades '!G15","v":3.1496062992125984E-2},{"$f":"'DLD Idades '!D15/'DLD Idades '!G15","v":0.13123359580052493},{"$f":"'DLD Idades '!E15/'DLD Idades '!G15","v":0.56430446194225725},{"$f":"'DLD Idades '!F15/'DLD Idades '!G15","v":0.27296587926509186},null,{"$f":"'DLD Idades '!I15/'DLD Idades '!M15","v":1.662049861495845E-2},{"$f":"'DLD Idades '!J15/'DLD Idades '!M15","v":0.11634349030470914},{"$f":"'DLD Idades '!K15/'DLD Idades '!M15","v":0.57894736842105265},{"$f":"'DLD Idades '!L15/'DLD Idades '!M15","v":0.2880886426592798},null,{"$f":"'DLD Idades '!O15/'DLD Idades '!S15","v":3.0726256983240222E-2},{"$f":"'DLD Idades '!P15/'DLD Idades '!S15","v":0.12569832402234637},{"$f":"'DLD Idades '!Q15/'DLD Idades '!S15","v":0.56983240223463683},{"$f":"'DLD Idades '!R15/'DLD Idades '!S15","v":0.27374301675977653},null,{"$f":"'DLD Idades '!U15/'DLD Idades '!Y15","v":2.0833333333333332E-2},{"$f":"'DLD Idades '!V15/'DLD Idades '!Y15","v":0.1111111111111111},{"$f":"'DLD Idades '!W15/'DLD Idades '!Y15","v":0.51388888888888884},{"$f":"'DLD Idades '!X15/'DLD Idades '!Y15","v":0.35416666666666669}]
[null,"Alvalade",{"$f":"'DLD Idades '!C16/'DLD Idades '!G16","v":3.2763532763532763E-2},{"$f":"'DLD Idades '!D16/'DLD Idades '!G16","v":0.15384615384615385},{"$f":"'DLD Idades '!E16/'DLD Idades '!G16","v":0.57834757834757833},{"$f":"'DLD Idades '!F16/'DLD Idades '!G16","v":0.23504273504273504},null,{"$f":"'DLD Idades '!I16/'DLD Idades '!M16","v":2.9921259842519685E-2},{"$f":"'DLD Idades '!J16/'DLD Idades '!M16","v":0.12755905511811025},{"$f":"'DLD Idades '!K16/'DLD Idades '!M16","v":0.59685039370078741},{"$f":"'DLD Idades '!L16/'DLD Idades '!M16","v":0.24566929133858267},null,{"$f":"'DLD Idades '!O16/'DLD Idades '!S16","v":3.8277511961722487E-2},{"$f":"'DLD Idades '!P16/'DLD Idades '!S16","v":0.12121212121212122},{"$f":"'DLD Idades '!Q16/'DLD Idades '!S16","v":0.56937799043062198},{"$f":"'DLD Idades '!R16/'DLD Idades '!S16","v":0.27113237639553428},null,{"$f":"'DLD Idades '!U16/'DLD Idades '!Y16","v":3.1872509960159362E-2},{"$f":"'DLD Idades '!V16/'DLD Idades '!Y16","v":0.12151394422310757},{"$f":"'DLD Idades '!W16/'DLD Idades '!Y16","v":0.51394422310756971},{"$f":"'DLD Idades '!X16/'DLD Idades '!Y16","v":0.33266932270916333}]
[null,"Areeiro",{"$f":"'DLD Idades '!C17/'DLD Idades '!G17","v":2.9304029304029304E-2},{"$f":"'DLD Idades '!D17/'DLD Idades '!G17","v":0.12820512820512819},{"$f":"'DLD Idades '!E17/'DLD Idades '!G17","v":0.52197802197802201},{"$f":"'DLD Idades '!F17/'DLD Idades '!G17","v":0.32051282051282054},null,{"$f":"'DLD Idades '!I17/'DLD Idades '!M17","v":3.7698412698412696E-2},{"$f":"'DLD Idades '!J17/'DLD Idades '!M17","v":0.12301587301587301},{"$f":"'DLD Idades '!K17/'DLD Idades '!M17","v":0.50396825396825395},{"$f":"'DLD Idades '!L17/'DLD Idades '!M17","v":0.33531746031746029},null,{"$f":"'DLD Idades '!O17/'DLD Idades '!S17","v":3.6960985626283367E-2},{"$f":"'DLD Idades '!P17/'DLD Idades '!S17","v":0.12525667351129363},{"$f":"'DLD Idades '!Q17/'DLD Idades '!S17","v":0.51745379876796715},{"$f":"'DLD Idades '!R17/'DLD Idades '!S17","v":0.32032854209445583},null,{"$f":"'DLD Idades '!U17/'DLD Idades '!Y17","v":4.1002277904328019E-2},{"$f":"'DLD Idades '!V17/'DLD Idades '!Y17","v":0.15489749430523919},{"$f":"'DLD Idades '!W17/'DLD Idades '!Y17","v":0.44191343963553531},{"$f":"'DLD Idades '!X17/'DLD Idades '!Y17","v":0.36218678815489752}]
[null,"Arroios",{"$f":"'DLD Idades '!C18/'DLD Idades '!G18","v":2.7488151658767772E-2},{"$f":"'DLD Idades '!D18/'DLD Idades '!G18","v":0.14597156398104266},{"$f":"'DLD Idades '!E18/'DLD Idades '!G18","v":0.57440758293838867},{"$f":"'DLD Idades '!F18/'DLD Idades '!G18","v":0.25213270142180094},null,{"$f":"'DLD Idades '!I18/'DLD Idades '!M18","v":1.6359918200408999E-2},{"$f":"'DLD Idades '!J18/'DLD Idades '!M18","v":0.14417177914110429},{"$f":"'DLD Idades '!K18/'DLD Idades '!M18","v":0.56646216768916158},{"$f":"'DLD Idades '!L18/'DLD Idades '!M18","v":0.27300613496932513},null,{"$f":"'DLD Idades '!O18/'DLD Idades '!S18","v":1.3360739979445015E-2},{"$f":"'DLD Idades '!P18/'DLD Idades '!S18","v":0.1223021582733813},{"$f":"'DLD Idades '!Q18/'DLD Idades '!S18","v":0.55498458376156223},{"$f":"'DLD Idades '!R18/'DLD Idades '!S18","v":0.30935251798561153},null,{"$f":"'DLD Idades '!U18/'DLD Idades '!Y18","v":2.1454112038140644E-2},{"$f":"'DLD Idades '!V18/'DLD Idades '!Y18","v":0.11323003575685339},{"$f":"'DLD Idades '!W18/'DLD Idades '!Y18","v":0.50893921334922532},{"$f":"'DLD Idades '!X18/'DLD Idades '!Y18","v":0.35637663885578069}]
[null,"Avenidas Novas",{"$f":"'DLD Idades '!C19/'DLD Idades '!G19","v":2.5096525096525095E-2},{"$f":"'DLD Idades '!D19/'DLD Idades '!G19","v":0.15057915057915058},{"$f":"'DLD Idades '!E19/'DLD Idades '!G19","v":0.51930501930501927},{"$f":"'DLD Idades '!F19/'DLD Idades '!G19","v":0.30501930501930502},null,{"$f":"'DLD Idades '!I19/'DLD Idades '!M19","v":2.5477707006369428E-2},{"$f":"'DLD Idades '!J19/'DLD Idades '!M19","v":0.11889596602972399},{"$f":"'DLD Idades '!K19/'DLD Idades '!M19","v":0.52016985138004246},{"$f":"'DLD Idades '!L19/'DLD Idades '!M19","v":0.3354564755838641},null,{"$f":"'DLD Idades '!O19/'DLD Idades '!S19","v":2.9914529914529916E-2},{"$f":"'DLD Idades '!P19/'DLD Idades '!S19","v":0.11965811965811966},{"$f":"'DLD Idades '!Q19/'DLD Idades '!S19","v":0.52350427350427353},{"$f":"'DLD Idades '!R19/'DLD Idades '!S19","v":0.32692307692307693},null,{"$f":"'DLD Idades '!U19/'DLD Idades '!Y19","v":3.2994923857868022E-2},{"$f":"'DLD Idades '!V19/'DLD Idades '!Y19","v":0.12182741116751269},{"$f":"'DLD Idades '!W19/'DLD Idades '!Y19","v":0.44162436548223349},{"$f":"'DLD Idades '!X19/'DLD Idades '!Y19","v":0.40355329949238578}]
[null,"Beato",{"$f":"'DLD Idades '!C20/'DLD Idades '!G20","v":6.224899598393574E-2},{"$f":"'DLD Idades '!D20/'DLD Idades '!G20","v":0.12851405622489959},{"$f":"'DLD Idades '!E20/'DLD Idades '!G20","v":0.54016064257028118},{"$f":"'DLD Idades '!F20/'DLD Idades '!G20","v":0.26907630522088355},null,{"$f":"'DLD Idades '!I20/'DLD Idades '!M20","v":3.6170212765957444E-2},{"$f":"'DLD Idades '!J20/'DLD Idades '!M20","v":0.11276595744680851},{"$f":"'DLD Idades '!K20/'DLD Idades '!M20","v":0.55531914893617018},{"$f":"'DLD Idades '!L20/'DLD Idades '!M20","v":0.29574468085106381},null,{"$f":"'DLD Idades '!O20/'DLD Idades '!S20","v":3.3684210526315789E-2},{"$f":"'DLD Idades '!P20/'DLD Idades '!S20","v":0.10947368421052632},{"$f":"'DLD Idades '!Q20/'DLD Idades '!S20","v":0.54315789473684206},{"$f":"'DLD Idades '!R20/'DLD Idades '!S20","v":0.31368421052631579},null,{"$f":"'DLD Idades '!U20/'DLD Idades '!Y20","v":3.8929440389294405E-2},{"$f":"'DLD Idades '!V20/'DLD Idades '!Y20","v":9.9756690997566913E-2},{"$f":"'DLD Idades '!W20/'DLD Idades '!Y20","v":0.51581508515815089},{"$f":"'DLD Idades '!X20/'DLD Idades '!Y20","v":0.34549878345498786}]
[null,"Belém",{"$f":"'DLD Idades '!C21/'DLD Idades '!G21","v":3.6101083032490976E-3},{"$f":"'DLD Idades '!D21/'DLD Idades '!G21","v":0.1444043321299639},{"$f":"'DLD Idades '!E21/'DLD Idades '!G21","v":0.58844765342960292},{"$f":"'DLD Idades '!F21/'DLD Idades '!G21","v":0.26353790613718414},null,{"$f":"'DLD Idades '!I21/'DLD Idades '!M21","v":4.2553191489361703E-3},{"$f":"'DLD Idades '!J21/'DLD Idades '!M21","v":0.1148936170212766},{"$f":"'DLD Idades '!K21/'DLD Idades '!M21","v":0.59148936170212763},{"$f":"'DLD Idades '!L21/'DLD Idades '!M21","v":0.28936170212765955},null,{"$f":"'DLD Idades '!O21/'DLD Idades '!S21","v":8.2644628099173556E-3},{"$f":"'DLD Idades '!P21/'DLD Idades '!S21","v":0.11983471074380166},{"$f":"'DLD Idades '!Q21/'DLD Idades '!S21","v":0.59090909090909094},{"$f":"'DLD Idades '!R21/'DLD Idades '!S21","v":0.28099173553719009},null,{"$f":"'DLD Idades '!U21/'DLD Idades '!Y21","v":5.1282051282051282E-3},{"$f":"'DLD Idades '!V21/'DLD Idades '!Y21","v":0.12820512820512819},{"$f":"'DLD Idades '!W21/'DLD Idades '!Y21","v":0.55384615384615388},{"$f":"'DLD Idades '!X21/'DLD Idades '!Y21","v":0.31282051282051282}]
[null,"Benfica",{"$f":"'DLD Idades '!C22/'DLD Idades '!G22","v":3.1050228310502283E-2},{"$f":"'DLD Idades '!D22/'DLD Idades '!G22","v":0.14520547945205478},{"$f":"'DLD Idades '!E22/'DLD Idades '!G22","v":0.55616438356164388},{"$f":"'DLD Idades '!F22/'DLD Idades '!G22","v":0.26757990867579906},null,{"$f":"'DLD Idades '!I22/'DLD Idades '!M22","v":3.3686236766121272E-2},{"$f":"'DLD Idades '!J22/'DLD Idades '!M22","v":0.11549566891241578},{"$f":"'DLD Idades '!K22/'DLD Idades '!M22","v":0.56689124157844084},{"$f":"'DLD Idades '!L22/'DLD Idades '!M22","v":0.28392685274302215},null,{"$f":"'DLD Idades '!O22/'DLD Idades '!S22","v":3.9553752535496957E-2},{"$f":"'DLD Idades '!P22/'DLD Idades '!S22","v":0.12778904665314403},{"$f":"'DLD Idades '!Q22/'DLD Idades '!S22","v":0.53549695740365111},{"$f":"'DLD Idades '!R22/'DLD Idades '!S22","v":0.29716024340770791},null,{"$f":"'DLD Idades '!U22/'DLD Idades '!Y22","v":3.3578174186778595E-2},{"$f":"'DLD Idades '!V22/'DLD Idades '!Y22","v":0.12381951731374606},{"$f":"'DLD Idades '!W22/'DLD Idades '!Y22","v":0.51941238195173134},{"$f":"'DLD Idades '!X22/'DLD Idades '!Y22","v":0.32318992654774398}]
[null,"Campo de Ourique",{"$f":"'DLD Idades '!C23/'DLD Idades '!G23","v":2.2988505747126436E-2},{"$f":"'DLD Idades '!D23/'DLD Idades '!G23","v":0.1417624521072797},{"$f":"'DLD Idades '!E23/'DLD Idades '!G23","v":0.53065134099616862},{"$f":"'DLD Idades '!F23/'DLD Idades '!G23","v":0.3045977011494253},null,{"$f":"'DLD Idades '!I23/'DLD Idades '!M23","v":8.4566596194503175E-3},{"$f":"'DLD Idades '!J23/'DLD Idades '!M23","v":0.1331923890063425},{"$f":"'DLD Idades '!K23/'DLD Idades '!M23","v":0.52008456659619451},{"$f":"'DLD Idades '!L23/'DLD Idades '!M23","v":0.33826638477801269},null,{"$f":"'DLD Idades '!O23/'DLD Idades '!S23","v":2.2357723577235773E-2},{"$f":"'DLD Idades '!P23/'DLD Idades '!S23","v":9.1463414634146339E-2},{"$f":"'DLD Idades '!Q23/'DLD Idades '!S23","v":0.55284552845528456},{"$f":"'DLD Idades '!R23/'DLD Idades '!S23","v":0.33333333333333331},null,{"$f":"'DLD Idades '!U23/'DLD Idades '!Y23","v":8.4745762711864406E-3},{"$f":"'DLD Idades '!V23/'DLD Idades '!Y23","v":7.8389830508474576E-2},{"$f":"'DLD Idades '!W23/'DLD Idades '!Y23","v":0.5402542372881356},{"$f":"'DLD Idades '!X23/'DLD Idades '!Y23","v":0.3728813559322034}]
[null,"Campolide",{"$f":"'DLD Idades '!C24/'DLD Idades '!G24","v":2.0512820512820513E-2},{"$f":"'DLD Idades '!D24/'DLD Idades '!G24","v":0.13333333333333333},{"$f":"'DLD Idades '!E24/'DLD Idades '!G24","v":0.55384615384615388},{"$f":"'DLD Idades '!F24/'DLD Idades '!G24","v":0.29230769230769232},null,{"$f":"'DLD Idades '!I24/'DLD Idades '!M24","v":2.7027027027027029E-2},{"$f":"'DLD Idades '!J24/'DLD Idades '!M24","v":0.1111111111111111},{"$f":"'DLD Idades '!K24/'DLD Idades '!M24","v":0.54654654654654655},{"$f":"'DLD Idades '!L24/'DLD Idades '!M24","v":0.31531531531531531},null,{"$f":"'DLD Idades '!O24/'DLD Idades '!S24","v":2.7950310559006212E-2},{"$f":"'DLD Idades '!P24/'DLD Idades '!S24","v":9.9378881987577633E-2},{"$f":"'DLD Idades '!Q24/'DLD Idades '!S24","v":0.52484472049689446},{"$f":"'DLD Idades '!R24/'DLD Idades '!S24","v":0.34782608695652173},null,{"$f":"'DLD Idades '!U24/'DLD Idades '!Y24","v":2.8985507246376812E-2},{"$f":"'DLD Idades '!V24/'DLD Idades '!Y24","v":7.2463768115942032E-2},{"$f":"'DLD Idades '!W24/'DLD Idades '!Y24","v":0.53913043478260869},{"$f":"'DLD Idades '!X24/'DLD Idades '!Y24","v":0.35942028985507246}]
[null,"Carnide",{"$f":"'DLD Idades '!C25/'DLD Idades '!G25","v":8.3788706739526417E-2},{"$f":"'DLD Idades '!D25/'DLD Idades '!G25","v":0.1493624772313297},{"$f":"'DLD Idades '!E25/'DLD Idades '!G25","v":0.50273224043715847},{"$f":"'DLD Idades '!F25/'DLD Idades '!G25","v":0.26411657559198543},null,{"$f":"'DLD Idades '!I25/'DLD Idades '!M25","v":7.2056239015817217E-2},{"$f":"'DLD Idades '!J25/'DLD Idades '!M25","v":0.1335676625659051},{"$f":"'DLD Idades '!K25/'DLD Idades '!M25","v":0.52899824253075567},{"$f":"'DLD Idades '!L25/'DLD Idades '!M25","v":0.26537785588752194},null,{"$f":"'DLD Idades '!O25/'DLD Idades '!S25","v":6.4400715563506267E-2},{"$f":"'DLD Idades '!P25/'DLD Idades '!S25","v":0.13953488372093023},{"$f":"'DLD Idades '!Q25/'DLD Idades '!S25","v":0.50805008944543828},{"$f":"'DLD Idades '!R25/'DLD Idades '!S25","v":0.28801431127012522},null,{"$f":"'DLD Idades '!U25/'DLD Idades '!Y25","v":6.6543438077634007E-2},{"$f":"'DLD Idades '!V25/'DLD Idades '!Y25","v":0.13493530499075784},{"$f":"'DLD Idades '!W25/'DLD Idades '!Y25","v":0.50462107208872453},{"$f":"'DLD Idades '!X25/'DLD Idades '!Y25","v":0.29390018484288355}]
[null,"Estrela",{"$f":"'DLD Idades '!C26/'DLD Idades '!G26","v":2.1176470588235293E-2},{"$f":"'DLD Idades '!D26/'DLD Idades '!G26","v":0.13176470588235295},{"$f":"'DLD Idades '!E26/'DLD Idades '!G26","v":0.54117647058823526},{"$f":"'DLD Idades '!F26/'DLD Idades '!G26","v":0.30588235294117649},null,{"$f":"'DLD Idades '!I26/'DLD Idades '!M26","v":2.4630541871921183E-2},{"$f":"'DLD Idades '!J26/'DLD Idades '!M26","v":0.10837438423645321},{"$f":"'DLD Idades '!K26/'DLD Idades '!M26","v":0.53448275862068961},{"$f":"'DLD Idades '!L26/'DLD Idades '!M26","v":0.33251231527093594},null,{"$f":"'DLD Idades '!O26/'DLD Idades '!S26","v":2.2222222222222223E-2},{"$f":"'DLD Idades '!P26/'DLD Idades '!S26","v":9.8765432098765427E-2},{"$f":"'DLD Idades '!Q26/'DLD Idades '!S26","v":0.52592592592592591},{"$f":"'DLD Idades '!R26/'DLD Idades '!S26","v":0.35308641975308641},null,{"$f":"'DLD Idades '!U26/'DLD Idades '!Y26","v":2.8985507246376812E-2},{"$f":"'DLD Idades '!V26/'DLD Idades '!Y26","v":0.10144927536231885},{"$f":"'DLD Idades '!W26/'DLD Idades '!Y26","v":0.44927536231884058},{"$f":"'DLD Idades '!X26/'DLD Idades '!Y26","v":0.42028985507246375}]
[null,"Lumiar",{"$f":"'DLD Idades '!C27/'DLD Idades '!G27","v":2.2797927461139896E-2},{"$f":"'DLD Idades '!D27/'DLD Idades '!G27","v":0.15751295336787566},{"$f":"'DLD Idades '!E27/'DLD Idades '!G27","v":0.55025906735751295},{"$f":"'DLD Idades '!F27/'DLD Idades '!G27","v":0.26943005181347152},null,{"$f":"'DLD Idades '!I27/'DLD Idades '!M27","v":2.1321961620469083E-2},{"$f":"'DLD Idades '!J27/'DLD Idades '!M27","v":0.15031982942430705},{"$f":"'DLD Idades '!K27/'DLD Idades '!M27","v":0.54904051172707891},{"$f":"'DLD Idades '!L27/'DLD Idades '!M27","v":0.27931769722814498},null,{"$f":"'DLD Idades '!O27/'DLD Idades '!S27","v":3.3769063180827889E-2},{"$f":"'DLD Idades '!P27/'DLD Idades '!S27","v":0.13398692810457516},{"$f":"'DLD Idades '!Q27/'DLD Idades '!S27","v":0.56644880174291934},{"$f":"'DLD Idades '!R27/'DLD Idades '!S27","v":0.26579520697167758},null,{"$f":"'DLD Idades '!U27/'DLD Idades '!Y27","v":3.0100334448160536E-2},{"$f":"'DLD Idades '!V27/'DLD Idades '!Y27","v":0.14715719063545152},{"$f":"'DLD Idades '!W27/'DLD Idades '!Y27","v":0.54960981047937574},{"$f":"'DLD Idades '!X27/'DLD Idades '!Y27","v":0.27313266443701228}]
[null,"Marvila",{"$f":"'DLD Idades '!C28/'DLD Idades '!G28","v":5.7739557739557738E-2},{"$f":"'DLD Idades '!D28/'DLD Idades '!G28","v":0.16830466830466831},{"$f":"'DLD Idades '!E28/'DLD Idades '!G28","v":0.51781326781326786},{"$f":"'DLD Idades '!F28/'DLD Idades '!G28","v":0.25614250614250617},null,{"$f":"'DLD Idades '!I28/'DLD Idades '!M28","v":5.642023346303502E-2},{"$f":"'DLD Idades '!J28/'DLD Idades '!M28","v":0.15110246433203631},{"$f":"'DLD Idades '!K28/'DLD Idades '!M28","v":0.51297016861219191},{"$f":"'DLD Idades '!L28/'DLD Idades '!M28","v":0.27950713359273671},null,{"$f":"'DLD Idades '!O28/'DLD Idades '!S28","v":5.808080808080808E-2},{"$f":"'DLD Idades '!P28/'DLD Idades '!S28","v":0.15340909090909091},{"$f":"'DLD Idades '!Q28/'DLD Idades '!S28","v":0.49494949494949497},{"$f":"'DLD Idades '!R28/'DLD Idades '!S28","v":0.29356060606060608},null,{"$f":"'DLD Idades '!U28/'DLD Idades '!Y28","v":6.0188542422044959E-2},{"$f":"'DLD Idades '!V28/'DLD Idades '!Y28","v":0.13778100072516317},{"$f":"'DLD Idades '!W28/'DLD Idades '!Y28","v":0.47570703408266862},{"$f":"'DLD Idades '!X28/'DLD Idades '!Y28","v":0.32632342277012327}]
[null,"Misericórdia",{"$f":"'DLD Idades '!C29/'DLD Idades '!G29","v":1.9900497512437811E-2},{"$f":"'DLD Idades '!D29/'DLD Idades '!G29","v":0.16417910447761194},{"$f":"'DLD Idades '!E29/'DLD Idades '!G29","v":0.53731343283582089},{"$f":"'DLD Idades '!F29/'DLD Idades '!G29","v":0.27860696517412936},null,{"$f":"'DLD Idades '!I29/'DLD Idades '!M29","v":1.3698630136986301E-2},{"$f":"'DLD Idades '!J29/'DLD Idades '!M29","v":0.12602739726027398},{"$f":"'DLD Idades '!K29/'DLD Idades '!M29","v":0.55068493150684927},{"$f":"'DLD Idades '!L29/'DLD Idades '!M29","v":0.30958904109589042},null,{"$f":"'DLD Idades '!O29/'DLD Idades '!S29","v":8.2872928176795577E-3},{"$f":"'DLD Idades '!P29/'DLD Idades '!S29","v":0.1132596685082873},{"$f":"'DLD Idades '!Q29/'DLD Idades '!S29","v":0.55524861878453036},{"$f":"'DLD Idades '!R29/'DLD Idades '!S29","v":0.32320441988950277},null,{"$f":"'DLD Idades '!U29/'DLD Idades '!Y29","v":1.3377926421404682E-2},{"$f":"'DLD Idades '!V29/'DLD Idades '!Y29","v":0.11705685618729098},{"$f":"'DLD Idades '!W29/'DLD Idades '!Y29","v":0.50167224080267558},{"$f":"'DLD Idades '!X29/'DLD Idades '!Y29","v":0.36789297658862874}]
[null,"Santa Maria dos Olivais",{"$f":"'DLD Idades '!C30/'DLD Idades '!G30","v":0.16666666666666666},{"$f":"'DLD Idades '!D30/'DLD Idades '!G30","v":5.5555555555555552E-2},{"$f":"'DLD Idades '!E30/'DLD Idades '!G30","v":0.66666666666666663},{"$f":"'DLD Idades '!F30/'DLD Idades '!G30","v":0.1111111111111111},null,{"$f":"'DLD Idades '!I30/'DLD Idades '!M30","v":9.6153846153846159E-2},{"$f":"'DLD Idades '!J30/'DLD Idades '!M30","v":0.15384615384615385},{"$f":"'DLD Idades '!K30/'DLD Idades '!M30","v":0.53846153846153844},{"$f":"'DLD Idades '!L30/'DLD Idades '!M30","v":0.21153846153846154},null,{"$f":"'DLD Idades '!O30/'DLD Idades '!S30","v":0.10294117647058823},{"$f":"'DLD Idades '!P30/'DLD Idades '!S30","v":0.20588235294117646},{"$f":"'DLD Idades '!Q30/'DLD Idades '!S30","v":0.54411764705882348},{"$f":"'DLD Idades '!R30/'DLD Idades '!S30","v":0.14705882352941177},null,{"$f":"'DLD Idades '!U30/'DLD Idades '!Y30","v":9.7826086956521743E-2},{"$f":"'DLD Idades '!V30/'DLD Idades '!Y30","v":0.20652173913043478},{"$f":"'DLD Idades '!W30/'DLD Idades '!Y30","v":0.53260869565217395},{"$f":"'DLD Idades '!X30/'DLD Idades '!Y30","v":0.16304347826086957}]
[null,"Parque das Nações (**)",{"$f":"'DLD Idades '!C31/'DLD Idades '!G31","v":4.7684865238424329E-2},{"$f":"'DLD Idades '!D31/'DLD Idades '!G31","v":0.16931582584657912},{"$f":"'DLD Idades '!E31/'DLD Idades '!G31","v":0.52798894263994467},{"$f":"'DLD Idades '!F31/'DLD Idades '!G31","v":0.25501036627505186},null,{"$f":"'DLD Idades '!I31/'DLD Idades '!M31","v":5.3429602888086646E-2},{"$f":"'DLD Idades '!J31/'DLD Idades '!M31","v":0.15162454873646208},{"$f":"'DLD Idades '!K31/'DLD Idades '!M31","v":0.54368231046931403},{"$f":"'DLD Idades '!L31/'DLD Idades '!M31","v":0.2512635379061372},null,{"$f":"'DLD Idades '!O31/'DLD Idades '!S31","v":5.2593133674214754E-2},{"$f":"'DLD Idades '!P31/'DLD Idades '!S31","v":0.14170927684441198},{"$f":"'DLD Idades '!Q31/'DLD Idades '!S31","v":0.5441928414901388},{"$f":"'DLD Idades '!R31/'DLD Idades '!S31","v":0.26150474799123447},null,{"$f":"'DLD Idades '!U31/'DLD Idades '!Y31","v":5.9502664298401418E-2},{"$f":"'DLD Idades '!V31/'DLD Idades '!Y31","v":0.13943161634103018},{"$f":"'DLD Idades '!W31/'DLD Idades '!Y31","v":0.49200710479573712},{"$f":"'DLD Idades '!X31/'DLD Idades '!Y31","v":0.30905861456483125}]
[null,"Penha de França",{"$f":"'DLD Idades '!C32/'DLD Idades '!G32","v":3.0371203599550055E-2},{"$f":"'DLD Idades '!D32/'DLD Idades '!G32","v":0.15973003374578179},{"$f":"'DLD Idades '!E32/'DLD Idades '!G32","v":0.52643419572553429},{"$f":"'DLD Idades '!F32/'DLD Idades '!G32","v":0.28346456692913385},null,{"$f":"'DLD Idades '!I32/'DLD Idades '!M32","v":2.2004889975550123E-2},{"$f":"'DLD Idades '!J32/'DLD Idades '!M32","v":0.1491442542787286},{"$f":"'DLD Idades '!K32/'DLD Idades '!M32","v":0.54278728606356963},{"$f":"'DLD Idades '!L32/'DLD Idades '!M32","v":0.28606356968215157},null,{"$f":"'DLD Idades '!O32/'DLD Idades '!S32","v":2.1170610211706103E-2},{"$f":"'DLD Idades '!P32/'DLD Idades '!S32","v":0.1432129514321295},{"$f":"'DLD Idades '!Q32/'DLD Idades '!S32","v":0.54919053549190533},{"$f":"'DLD Idades '!R32/'DLD Idades '!S32","v":0.28642590286425901},null,{"$f":"'DLD Idades '!U32/'DLD Idades '!Y32","v":2.5914634146341462E-2},{"$f":"'DLD Idades '!V32/'DLD Idades '!Y32","v":0.15548780487804878},{"$f":"'DLD Idades '!W32/'DLD Idades '!Y32","v":0.50609756097560976},{"$f":"'DLD Idades '!X32/'DLD Idades '!Y32","v":0.3125}]
[null,"Santa Clara",{"$f":"'DLD Idades '!C33/'DLD Idades '!G33","v":5.939629990262902E-2},{"$f":"'DLD Idades '!D33/'DLD Idades '!G33","v":0.20837390457643623},{"$f":"'DLD Idades '!E33/'DLD Idades '!G33","v":0.49853943524829603},{"$f":"'DLD Idades '!F33/'DLD Idades '!G33","v":0.23369036027263876},null,{"$f":"'DLD Idades '!I33/'DLD Idades '!M33","v":5.7084607543323139E-2},{"$f":"'DLD Idades '!J33/'DLD Idades '!M33","v":0.19062181447502549},{"$f":"'DLD Idades '!K33/'DLD Idades '!M33","v":0.50662589194699281},{"$f":"'DLD Idades '!L33/'DLD Idades '!M33","v":0.24566768603465852},null,{"$f":"'DLD Idades '!O33/'DLD Idades '!S33","v":5.6491575817641228E-2},{"$f":"'DLD Idades '!P33/'DLD Idades '!S33","v":0.20019821605550051},{"$f":"'DLD Idades '!Q33/'DLD Idades '!S33","v":0.50148662041625369},{"$f":"'DLD Idades '!R33/'DLD Idades '!S33","v":0.24182358771060455},null,{"$f":"'DLD Idades '!U33/'DLD Idades '!Y33","v":5.9267241379310345E-2},{"$f":"'DLD Idades '!V33/'DLD Idades '!Y33","v":0.20150862068965517},{"$f":"'DLD Idades '!W33/'DLD Idades '!Y33","v":0.48706896551724138},{"$f":"'DLD Idades '!X33/'DLD Idades '!Y33","v":0.25215517241379309}]
[null,"Santa Maria Maior",{"$f":"'DLD Idades '!C34/'DLD Idades '!G34","v":3.4246575342465752E-2},{"$f":"'DLD Idades '!D34/'DLD Idades '!G34","v":0.13470319634703196},{"$f":"'DLD Idades '!E34/'DLD Idades '!G34","v":0.56621004566210043},{"$f":"'DLD Idades '!F34/'DLD Idades '!G34","v":0.26484018264840181},null,{"$f":"'DLD Idades '!I34/'DLD Idades '!M34","v":2.9702970297029702E-2},{"$f":"'DLD Idades '!J34/'DLD Idades '!M34","v":0.11386138613861387},{"$f":"'DLD Idades '!K34/'DLD Idades '!M34","v":0.57425742574257421},{"$f":"'DLD Idades '!L34/'DLD Idades '!M34","v":0.28217821782178215},null,{"$f":"'DLD Idades '!O34/'DLD Idades '!S34","v":1.9656019656019656E-2},{"$f":"'DLD Idades '!P34/'DLD Idades '!S34","v":8.3538083538083535E-2},{"$f":"'DLD Idades '!Q34/'DLD Idades '!S34","v":0.59213759213759209},{"$f":"'DLD Idades '!R34/'DLD Idades '!S34","v":0.30466830466830469},null,{"$f":"'DLD Idades '!U34/'DLD Idades '!Y34","v":1.7492711370262391E-2},{"$f":"'DLD Idades '!V34/'DLD Idades '!Y34","v":7.2886297376093298E-2},{"$f":"'DLD Idades '!W34/'DLD Idades '!Y34","v":0.56559766763848396},{"$f":"'DLD Idades '!X34/'DLD Idades '!Y34","v":0.34402332361516036}]
[null,"Santo António",{"$f":"'DLD Idades '!C35/'DLD Idades '!G35","v":1.8072289156626505E-2},{"$f":"'DLD Idades '!D35/'DLD Idades '!G35","v":0.12650602409638553},{"$f":"'DLD Idades '!E35/'DLD Idades '!G35","v":0.51506024096385539},{"$f":"'DLD Idades '!F35/'DLD Idades '!G35","v":0.34036144578313254},null,{"$f":"'DLD Idades '!I35/'DLD Idades '!M35","v":1.3029315960912053E-2},{"$f":"'DLD Idades '!J35/'DLD Idades '!M35","v":9.7719869706840393E-2},{"$f":"'DLD Idades '!K35/'DLD Idades '!M35","v":0.52768729641693812},{"$f":"'DLD Idades '!L35/'DLD Idades '!M35","v":0.36156351791530944},null,{"$f":"'DLD Idades '!O35/'DLD Idades '!S35","v":1.6393442622950821E-2},{"$f":"'DLD Idades '!P35/'DLD Idades '!S35","v":0.10491803278688525},{"$f":"'DLD Idades '!Q35/'DLD Idades '!S35","v":0.5311475409836065},{"$f":"'DLD Idades '!R35/'DLD Idades '!S35","v":0.34754098360655739},null,{"$f":"'DLD Idades '!U35/'DLD Idades '!Y35","v":2.9166666666666667E-2},{"$f":"'DLD Idades '!V35/'DLD Idades '!Y35","v":0.1125},{"$f":"'DLD Idades '!W35/'DLD Idades '!Y35","v":0.45},{"$f":"'DLD Idades '!X35/'DLD Idades '!Y35","v":0.40833333333333333}]
[null,"São Domingos de Benfica",{"$f":"'DLD Idades '!C36/'DLD Idades '!G36","v":1.6200294550810016E-2},{"$f":"'DLD Idades '!D36/'DLD Idades '!G36","v":0.13991163475699558},{"$f":"'DLD Idades '!E36/'DLD Idades '!G36","v":0.53755522827687774},{"$f":"'DLD Idades '!F36/'DLD Idades '!G36","v":0.30633284241531666},null,{"$f":"'DLD Idades '!I36/'DLD Idades '!M36","v":2.2617124394184167E-2},{"$f":"'DLD Idades '!J36/'DLD Idades '!M36","v":0.11147011308562198},{"$f":"'DLD Idades '!K36/'DLD Idades '!M36","v":0.52988691437802904},{"$f":"'DLD Idades '!L36/'DLD Idades '!M36","v":0.3360258481421648},null,{"$f":"'DLD Idades '!O36/'DLD Idades '!S36","v":3.2258064516129031E-2},{"$f":"'DLD Idades '!P36/'DLD Idades '!S36","v":0.13364055299539171},{"$f":"'DLD Idades '!Q36/'DLD Idades '!S36","v":0.50384024577572961},{"$f":"'DLD Idades '!R36/'DLD Idades '!S36","v":0.33026113671274959},null,{"$f":"'DLD Idades '!U36/'DLD Idades '!Y36","v":2.0477815699658702E-2},{"$f":"'DLD Idades '!V36/'DLD Idades '!Y36","v":0.12457337883959044},{"$f":"'DLD Idades '!W36/'DLD Idades '!Y36","v":0.51706484641638228},{"$f":"'DLD Idades '!X36/'DLD Idades '!Y36","v":0.33788395904436858}]
[null,"São Vicente",{"$f":"'DLD Idades '!C37/'DLD Idades '!G37","v":3.9175257731958762E-2},{"$f":"'DLD Idades '!D37/'DLD Idades '!G37","v":0.16082474226804125},{"$f":"'DLD Idades '!E37/'DLD Idades '!G37","v":0.52371134020618559},{"$f":"'DLD Idades '!F37/'DLD Idades '!G37","v":0.27628865979381445},null,{"$f":"'DLD Idades '!I37/'DLD Idades '!M37","v":2.9953917050691243E-2},{"$f":"'DLD Idades '!J37/'DLD Idades '!M37","v":0.11981566820276497},{"$f":"'DLD Idades '!K37/'DLD Idades '!M37","v":0.54838709677419351},{"$f":"'DLD Idades '!L37/'DLD Idades '!M37","v":0.30184331797235026},null,{"$f":"'DLD Idades '!O37/'DLD Idades '!S37","v":2.4096385542168676E-2},{"$f":"'DLD Idades '!P37/'DLD Idades '!S37","v":0.11566265060240964},{"$f":"'DLD Idades '!Q37/'DLD Idades '!S37","v":0.55662650602409636},{"$f":"'DLD Idades '!R37/'DLD Idades '!S37","v":0.30361445783132529},null,{"$f":"'DLD Idades '!U37/'DLD Idades '!Y37","v":2.564102564102564E-2},{"$f":"'DLD Idades '!V37/'DLD Idades '!Y37","v":0.10826210826210826},{"$f":"'DLD Idades '!W37/'DLD Idades '!Y37","v":0.55270655270655267},{"$f":"'DLD Idades '!X37/'DLD Idades '!Y37","v":0.31339031339031337}]
[null,"Freg. Não Codificada",{"$f":"'DLD Idades '!C38/'DLD Idades '!G38","v":0.16666666666666666},{"$f":"'DLD Idades '!D38/'DLD Idades '!G38","v":0.16666666666666666},{"$f":"'DLD Idades '!E38/'DLD Idades '!G38","v":0.58333333333333337},{"$f":"'DLD Idades '!F38/'DLD Idades '!G38","v":8.3333333333333329E-2},null,{"$f":"'DLD Idades '!I38/'DLD Idades '!M38","v":5.5555555555555552E-2},{"$f":"'DLD Idades '!J38/'DLD Idades '!M38","v":0.1111111111111111},{"$f":"'DLD Idades '!K38/'DLD Idades '!M38","v":0.72222222222222221},{"$f":"'DLD Idades '!L38/'DLD Idades '!M38","v":0.1111111111111111},null,"-",{"$f":"'DLD Idades '!P38/'DLD Idades '!S38","v":0.24},{"$f":"'DLD Idades '!Q38/'DLD Idades '!S38","v":0.68},{"$f":"'DLD Idades '!R38/'DLD Idades '!S38","v":0.08},null,{"$f":"'DLD Idades '!U38/'DLD Idades '!Y38","v":7.1428571428571425E-2},{"$f":"'DLD Idades '!V38/'DLD Idades '!Y38","v":0.21428571428571427},{"$f":"'DLD Idades '!W38/'DLD Idades '!Y38","v":0.5714285714285714},{"$f":"'DLD Idades '!X38/'DLD Idades '!Y38","v":0.14285714285714285}]
[null,"Fonte: Instituto de Emprego e Formação Profissional"]
[null,"Cálculos: OLCPL"]

{"sheet":"DLD Escolaridade ","index":12,"n_rows":42,"n_cols":33,"rows_kept":42,"cut":false,"hidden":false,"merged":[[44,2,44,16],[43,2,43,6],[6,2,6,32],[7,2,7,8],[7,10,7,16],[7,18,7,24],[7,26,7,32]]}
[]
[]
[]
[]
["Q.11","Número de Desempregados de Longa Duração inscritos nos Centros de Emprego, escolaridade, 2014"]
[]
[null,null,"Número de desempregados de longa duração inscritos nos Centros de Emprego, escolaridade"]
[null,null,"1º TRIMESTRE",null,null,null,null,null,null,null,"2º TRIMESTRE",null,null,null,null,null,null,null,"3º TRIMESTRE",null,null,null,null,null,null,null,"4º TRIMESTRE",null,null,null,null,null,4]
[null,"Unidade: Nº","< 1º Ciclo EB","1º Ciclo EB","2º Ciclo EB","3º Ciclo EB","Secundário","Superior","Total",null,"< 1º Ciclo EB","1º Ciclo EB","2º Ciclo EB","3º Ciclo EB","Secundário","Superior","Total",null,"< 1º Ciclo EB","1º Ciclo EB","2º Ciclo EB","3º Ciclo EB","Secundário","Superior","Total",null,"< 1º Ciclo EB","1º Ciclo EB","2º Ciclo EB","3º Ciclo EB","Secundário","Superior","Total"]
[null,"Portugal Continental",20900,85448,51502,61159,64108,33163,316280,null,20268,81940,48307,56136,58191,29873,294715,null,20536,80351,47111,55041,59079,33324,295442,null,20321,76997,44781,51111,55104,30004,278318]
[null,"AML",5027,14521,11278,15518,18932,9348,74624,null,4879,14270,10859,14450,17682,8432,70572,null,4862,14042,10411,14061,17604,9190,70170,null,4726,13400,9769,12440,15404,7800,63539]
[null,"Distrito de Lisboa",3689,11727,8812,11698,14697,7633,58256,null,3555,11522,8364,10959,13668,6905,{"$f":"SUM(K12:P12)","v":54973},null,3523,11161,7864,10442,13463,7456,53909,null,3315,10582,7261,9121,11560,6181,{"$f":"SUM(AA12:AF12)","v":48020}]
[null,"Concelho de Lisboa",1512,3013,2183,2641,3463,2966,15778,null,{"$f":"SUM(K14:K38)","v":1438},{"$f":"SUM(L14:L38)","v":2962},2064,2542,3149,2649,14804,null,1465,3002,2001,2471,3086,2765,14790,null,1392,2980,1937,2052,2383,2306,13050]
[null,"Ajuda",60,122,69,93,99,55,498,null,60,112,66,88,89,52,467,null,64,132,59,83,90,52,480,null,65,123,60,69,62,36,415]
[null,"Alcântara",19,68,52,60,112,70,381,null,16,63,52,68,99,63,361,null,12,63,39,70,93,81,358,null,15,66,44,54,51,58,288]
[null,"Alvalade",46,77,58,109,205,207,702,null,45,76,61,104,167,182,635,null,41,84,58,103,150,191,627,null,33,81,45,80,119,144,502]
[null,"Areeiro",33,71,54,84,143,161,546,null,35,61,47,83,126,152,504,null,34,63,40,90,126,134,487,null,28,57,41,69,114,130,439]
[null,"Arroios",165,138,147,176,248,181,1055,null,140,140,141,170,238,149,978,null,119,148,135,182,228,161,973,null,102,151,140,155,160,131,839]
[null,"Avenidas Novas",35,65,41,64,137,176,518,null,38,61,42,51,123,156,471,null,36,58,48,50,117,159,468,null,37,57,42,41,97,120,394]
[null,"Beato",67,117,97,95,82,40,498,null,59,108,99,93,75,36,470,null,63,116,95,84,85,32,475,null,60,109,96,66,58,22,411]
[null,"Belém",1,17,20,37,85,117,277,null,1,18,15,36,70,95,235,null,1,18,20,41,71,91,242,null,1,19,24,27,51,73,195]
[null,"Benfica",79,191,144,201,266,214,1095,null,75,189,125,194,259,197,1039,null,73,181,98,178,258,198,986,null,85,184,126,161,218,179,953]
[null,"Campo de Ourique",19,78,56,100,150,119,522,null,16,77,55,96,117,112,473,null,19,78,54,97,125,119,492,null,19,87,62,96,116,92,472]
[null,"Campolide",23,81,64,73,88,61,390,null,20,73,56,66,78,40,333,null,19,80,49,61,69,44,322,null,20,95,62,55,69,44,345]
[null,"Carnide",66,127,61,102,86,107,549,null,71,132,64,110,87,105,569,null,72,138,63,105,86,95,559,null,68,138,67,96,80,92,541]
[null,"Estrela",13,50,50,71,124,117,425,null,9,57,47,71,113,109,406,null,12,59,42,67,108,117,405,null,10,58,39,53,92,93,345]
[null,"Lumiar",72,157,85,117,223,311,965,null,75,160,80,110,228,285,938,null,77,153,87,105,192,304,918,null,84,164,87,99,181,282,897]
[null,"Marvila",204,521,324,281,217,81,1628,null,195,530,299,283,173,62,1542,null,217,528,312,265,186,76,1584,null,195,494,276,208,154,52,1379]
[null,"Misericórdia",36,76,64,62,101,63,402,null,29,72,57,64,96,47,365,null,29,64,58,60,96,55,362,null,22,66,58,47,55,51,299]
[null,"Olivais",4,5,2,2,"-",5,18,null,3,11,6,11,11,10,52,null,5,8,12,15,13,15,68,null,7,14,16,16,16,23,92]
[null,"Parque das Nações",129,299,223,260,301,235,1447,null,130,290,218,237,280,230,1385,null,150,297,220,225,255,222,1369,null,133,285,170,178,193,167,1126]
[null,"Penha de França",83,156,136,159,216,139,889,null,71,143,137,153,200,114,818,null,67,138,119,149,196,134,803,null,65,133,121,123,109,105,656]
[null,"Santa Clara",214,299,181,143,116,74,1027,null,220,294,164,123,107,73,981,null,236,297,173,117,122,64,1009,null,234,304,156,103,71,60,928]
[null,"Santa Maria Maior",61,87,79,86,64,61,438,null,58,85,71,89,58,43,404,null,55,94,63,79,72,44,407,null,47,84,62,61,53,36,343]
[null,"Santo António",26,46,38,56,88,78,332,null,21,42,34,46,82,82,307,null,16,46,37,37,86,83,305,null,15,51,32,33,55,54,240]
[null,"São Domingos de Benfica",15,65,63,111,195,230,679,null,15,68,58,102,174,202,619,null,17,71,55,113,164,231,651,null,16,70,50,91,154,205,586]
[null,"São Vicente",42,100,72,96,113,62,485,null,36,99,67,91,97,44,434,null,31,87,63,92,94,48,415,null,30,89,60,69,54,49,351]
[null,"Freg. Não Codificada","-","-",3,3,4,2,12,null,"-",1,3,3,2,9,18,null,"-",1,2,3,4,15,25,null,1,1,1,2,1,8,14]
[]
[null,"Fonte: Instituto de Emprego e Formação Profissional"]
[null,"Cálculos: OLCPL"]
[null,"Notas n.d.: não disponível (para valores =< 5, por razões de confidencialidade dados não disponibilizados pela fonte)"]

{"sheet":"DLD escolar % ","index":13,"n_rows":43,"n_cols":29,"rows_kept":43,"cut":false,"hidden":false,"merged":[[8,23,8,28],[6,2,6,28],[7,2,7,28],[41,2,41,6],[40,2,40,6],[42,2,42,7],[8,16,8,21],[8,2,8,7],[8,9,8,14]]}
[]
[]
[]
[]
["Q.12","Desempregados de longa duração inscritos nos Centros de Emprego, escolaridade, 2014 (%)"]
[]
[null,null,"Desempregados de longa duração inscritos nos Centros de Emprego, escolaridade"]
[null,null,"%"]
[null,null,"1º TRIMESTRE",null,null,null,null,null,null,"2º TRIMESTRE",null,null,null,null,null,null,"3º TRIMESTRE",null,null,null,null,null,null,"4º TRIMESTRE"]
[null,"Unidade: %","< 1º Ciclo EB","1º Ciclo EB","2º Ciclo EB","3º Ciclo EB","Secundário","Superior",null,"< 1º Ciclo EB","1º Ciclo EB","2º Ciclo EB","3º Ciclo EB","Secundário","Superior",null,"< 1º Ciclo EB","1º Ciclo EB","2º Ciclo EB","3º Ciclo EB","Secundário","Superior",null,"< 1º Ciclo EB","1º Ciclo EB","2º Ciclo EB","3º Ciclo EB","Secundário","Superior"]
[null,"Portugal Continental",{"$f":"'DLD Escolaridade '!C10/'DLD Escolaridade '!I10","v":6.6080687997976478E-2},{"$f":"'DLD Escolaridade '!D10/'DLD Escolaridade '!I10","v":0.27016567598330593},{"$f":"'DLD Escolaridade '!E10/'DLD Escolaridade '!I10","v":0.16283672695080309},{"$f":"'DLD Escolaridade '!F10/'DLD Escolaridade '!I10","v":0.19336979891235614},{"$f":"'DLD Escolaridade '!G10/'DLD Escolaridade '!I10","v":0.20269381560642469},{"$f":"'DLD Escolaridade '!H10/'DLD Escolaridade '!I10","v":0.10485329454913368},null,{"$f":"'DLD Escolaridade '!K10/'DLD Escolaridade '!Q10","v":6.8771525032658667E-2},{"$f":"'DLD Escolaridade '!L10/'DLD Escolaridade '!Q10","v":0.27803131839234513},{"$f":"'DLD Escolaridade '!M10/'DLD Escolaridade '!Q10","v":0.16391089696825747},{"$f":"'DLD Escolaridade '!N10/'DLD Escolaridade '!Q10","v":0.19047554416979115},{"$f":"'DLD Escolaridade '!O10/'DLD Escolaridade '!Q10","v":0.19744838233547665},{"$f":"'DLD Escolaridade '!P10/'DLD Escolaridade '!Q10","v":0.10136233310147091},null,{"$f":"'DLD Escolaridade '!S10/'DLD Escolaridade '!Y10","v":6.9509413015075711E-2},{"$f":"'DLD Escolaridade '!T10/'DLD Escolaridade '!Y10","v":0.27196877898199984},{"$f":"'DLD Escolaridade '!U10/'DLD Escolaridade '!Y10","v":0.15945938627547879},{"$f":"'DLD Escolaridade '!V10/'DLD Escolaridade '!Y10","v":0.18630052599156519},{"$f":"'DLD Escolaridade '!W10/'DLD Escolaridade '!Y10","v":0.19996818326439708},{"$f":"'DLD Escolaridade '!X10/'DLD Escolaridade '!Y10","v":0.1127937124714834},null,{"$f":"'DLD Escolaridade '!AA10/'DLD Escolaridade '!AG10","v":7.3013603144604367E-2},{"$f":"'DLD Escolaridade '!AB10/'DLD Escolaridade '!AG10","v":0.27665116880690432},{"$f":"'DLD Escolaridade '!AC10/'DLD Escolaridade '!AG10","v":0.1608986842388922},{"$f":"'DLD Escolaridade '!AD10/'DLD Escolaridade '!AG10","v":0.1836424521590411},{"$f":"'DLD Escolaridade '!AE10/'DLD Escolaridade '!AG10","v":0.19798935031151416},{"$f":"'DLD Escolaridade '!AF10/'DLD Escolaridade '!AG10","v":0.10780474133904383}]
[null,"AML",{"$f":"'DLD Escolaridade '!C11/'DLD Escolaridade '!I11","v":6.7364386792452824E-2},{"$f":"'DLD Escolaridade '!D11/'DLD Escolaridade '!I11","v":0.19458887221269297},{"$f":"'DLD Escolaridade '!E11/'DLD Escolaridade '!I11","v":0.15113100343053174},{"$f":"'DLD Escolaridade '!F11/'DLD Escolaridade '!I11","v":0.20794918524871356},{"$f":"'DLD Escolaridade '!G11/'DLD Escolaridade '!I11","v":0.25369854202401371},{"$f":"'DLD Escolaridade '!H11/'DLD Escolaridade '!I11","v":0.12526801029159521},null,{"$f":"'DLD Escolaridade '!K11/'DLD Escolaridade '!Q11","v":6.9135067732245079E-2},{"$f":"'DLD Escolaridade '!L11/'DLD Escolaridade '!Q11","v":0.20220484044663606},{"$f":"'DLD Escolaridade '!M11/'DLD Escolaridade '!Q11","v":0.15387122371478773},{"$f":"'DLD Escolaridade '!N11/'DLD Escolaridade '!Q11","v":0.20475542708156208},{"$f":"'DLD Escolaridade '!O11/'DLD Escolaridade '!Q11","v":0.25055262710423398},{"$f":"'DLD Escolaridade '!P11/'DLD Escolaridade '!Q11","v":0.11948081392053506},null,{"$f":"'DLD Escolaridade '!S11/'DLD Escolaridade '!Y11","v":6.9288869887416268E-2},{"$f":"'DLD Escolaridade '!T11/'DLD Escolaridade '!Y11","v":0.20011400883568475},{"$f":"'DLD Escolaridade '!U11/'DLD Escolaridade '!Y11","v":0.14836824853926178},{"$f":"'DLD Escolaridade '!V11/'DLD Escolaridade '!Y11","v":0.20038477982043609},{"$f":"'DLD Escolaridade '!W11/'DLD Escolaridade '!Y11","v":0.25087644292432665},{"$f":"'DLD Escolaridade '!X11/'DLD Escolaridade '!Y11","v":0.13096764999287444},null,{"$f":"'DLD Escolaridade '!AA11/'DLD Escolaridade '!AG11","v":7.437951494357796E-2},{"$f":"'DLD Escolaridade '!AB11/'DLD Escolaridade '!AG11","v":0.21089409653913344},{"$f":"'DLD Escolaridade '!AC11/'DLD Escolaridade '!AG11","v":0.15374809172319362},{"$f":"'DLD Escolaridade '!AD11/'DLD Escolaridade '!AG11","v":0.19578526574230001},{"$f":"'DLD Escolaridade '!AE11/'DLD Escolaridade '!AG11","v":0.24243378082752326},{"$f":"'DLD Escolaridade '!AF11/'DLD Escolaridade '!AG11","v":0.12275925022427171}]
[null,"Distrito de Lisboa",{"$f":"'DLD Escolaridade '!C12/'DLD Escolaridade '!I12","v":6.3323949464432844E-2},{"$f":"'DLD Escolaridade '!D12/'DLD Escolaridade '!I12","v":0.20130115352925021},{"$f":"'DLD Escolaridade '!E12/'DLD Escolaridade '!I12","v":0.15126338917879703},{"$f":"'DLD Escolaridade '!F12/'DLD Escolaridade '!I12","v":0.20080335072782202},{"$f":"'DLD Escolaridade '!G12/'DLD Escolaridade '!I12","v":0.25228302664103269},{"$f":"'DLD Escolaridade '!H12/'DLD Escolaridade '!I12","v":0.13102513045866521},null,{"$f":"'DLD Escolaridade '!K12/'DLD Escolaridade '!Q12","v":6.4668109799356041E-2},{"$f":"'DLD Escolaridade '!L12/'DLD Escolaridade '!Q12","v":0.20959380059301838},{"$f":"'DLD Escolaridade '!M12/'DLD Escolaridade '!Q12","v":0.15214741782329508},{"$f":"'DLD Escolaridade '!N12/'DLD Escolaridade '!Q12","v":0.19935240936459717},{"$f":"'DLD Escolaridade '!O12/'DLD Escolaridade '!Q12","v":0.24863114619904317},{"$f":"'DLD Escolaridade '!P12/'DLD Escolaridade '!Q12","v":0.12560711622069015},null,{"$f":"'DLD Escolaridade '!S12/'DLD Escolaridade '!Y12","v":6.5350869057114763E-2},{"$f":"'DLD Escolaridade '!T12/'DLD Escolaridade '!Y12","v":0.20703407594279249},{"$f":"'DLD Escolaridade '!U12/'DLD Escolaridade '!Y12","v":0.14587545678829139},{"$f":"'DLD Escolaridade '!V12/'DLD Escolaridade '!Y12","v":0.19369678532341539},{"$f":"'DLD Escolaridade '!W12/'DLD Escolaridade '!Y12","v":0.24973566565879537},{"$f":"'DLD Escolaridade '!X12/'DLD Escolaridade '!Y12","v":0.13830714722959062},null,{"$f":"'DLD Escolaridade '!AA12/'DLD Escolaridade '!AG12","v":6.9033735943356933E-2},{"$f":"'DLD Escolaridade '!AB12/'DLD Escolaridade '!AG12","v":0.22036651395251977},{"$f":"'DLD Escolaridade '!AC12/'DLD Escolaridade '!AG12","v":0.15120783007080382},{"$f":"'DLD Escolaridade '!AD12/'DLD Escolaridade '!AG12","v":0.18994169096209912},{"$f":"'DLD Escolaridade '!AE12/'DLD Escolaridade '!AG12","v":0.24073302790503956},{"$f":"'DLD Escolaridade '!AF12/'DLD Escolaridade '!AG12","v":0.12871720116618077}]
[null,"Concelho de Lisboa",{"$f":"'DLD Escolaridade '!C13/'DLD Escolaridade '!I13","v":9.5829636202307014E-2},{"$f":"'DLD Escolaridade '!D13/'DLD Escolaridade '!I13","v":0.19096209912536444},{"$f":"'DLD Escolaridade '!E13/'DLD Escolaridade '!I13","v":0.13835720623653189},{"$f":"'DLD Escolaridade '!F13/'DLD Escolaridade '!I13","v":0.16738496640892381},{"$f":"'DLD Escolaridade '!G13/'DLD Escolaridade '!I13","v":0.21948282418557485},{"$f":"'DLD Escolaridade '!H13/'DLD Escolaridade '!I13","v":0.18798326784129801},null,{"$f":"'DLD Escolaridade '!K13/'DLD Escolaridade '!Q13","v":9.7135909213726015E-2},{"$f":"'DLD Escolaridade '!L13/'DLD Escolaridade '!Q13","v":0.20008105917319643},{"$f":"'DLD Escolaridade '!M13/'DLD Escolaridade '!Q13","v":0.13942177789786545},{"$f":"'DLD Escolaridade '!N13/'DLD Escolaridade '!Q13","v":0.17171034855444475},{"$f":"'DLD Escolaridade '!O13/'DLD Escolaridade '!Q13","v":0.21271278032964064},{"$f":"'DLD Escolaridade '!P13/'DLD Escolaridade '!Q13","v":0.17893812483112673},null,{"$f":"'DLD Escolaridade '!S13/'DLD Escolaridade '!Y13","v":9.9053414469235976E-2},{"$f":"'DLD Escolaridade '!T13/'DLD Escolaridade '!Y13","v":0.20297498309668696},{"$f":"'DLD Escolaridade '!U13/'DLD Escolaridade '!Y13","v":0.13529411764705881},{"$f":"'DLD Escolaridade '!V13/'DLD Escolaridade '!Y13","v":0.16707234617985126},{"$f":"'DLD Escolaridade '!W13/'DLD Escolaridade '!Y13","v":0.20865449628127114},{"$f":"'DLD Escolaridade '!X13/'DLD Escolaridade '!Y13","v":0.18695064232589587},null,{"$f":"'DLD Escolaridade '!AA13/'DLD Escolaridade '!AG13","v":0.10666666666666667},{"$f":"'DLD Escolaridade '!AB13/'DLD Escolaridade '!AG13","v":0.22835249042145594},{"$f":"'DLD Escolaridade '!AC13/'DLD Escolaridade '!AG13","v":0.14842911877394635},{"$f":"'DLD Escolaridade '!AD13/'DLD Escolaridade '!AG13","v":0.15724137931034482},{"$f":"'DLD Escolaridade '!AE13/'DLD Escolaridade '!AG13","v":0.18260536398467433},{"$f":"'DLD Escolaridade '!AF13/'DLD Escolaridade '!AG13","v":0.17670498084291189}]
[null,"Ajuda",{"$f":"'DLD Escolaridade '!C14/'DLD Escolaridade '!I14","v":0.12048192771084337},{"$f":"'DLD Escolaridade '!D14/'DLD Escolaridade '!I14","v":0.24497991967871485},{"$f":"'DLD Escolaridade '!E14/'DLD Escolaridade '!I14","v":0.13855421686746988},{"$f":"'DLD Escolaridade '!F14/'DLD Escolaridade '!I14","v":0.18674698795180722},{"$f":"'DLD Escolaridade '!G14/'DLD Escolaridade '!I14","v":0.19879518072289157},{"$f":"'DLD Escolaridade '!H14/'DLD Escolaridade '!I14","v":0.11044176706827309},null,{"$f":"'DLD Escolaridade '!K14/'DLD Escolaridade '!Q14","v":0.1284796573875803},{"$f":"'DLD Escolaridade '!L14/'DLD Escolaridade '!Q14","v":0.2398286937901499},{"$f":"'DLD Escolaridade '!M14/'DLD Escolaridade '!Q14","v":0.14132762312633834},{"$f":"'DLD Escolaridade '!N14/'DLD Escolaridade '!Q14","v":0.18843683083511778},{"$f":"'DLD Escolaridade '!O14/'DLD Escolaridade '!Q14","v":0.19057815845824411},{"$f":"'DLD Escolaridade '!P14/'DLD Escolaridade '!Q14","v":0.11134903640256959},null,{"$f":"'DLD Escolaridade '!S14/'DLD Escolaridade '!Y14","v":0.13333333333333333},{"$f":"'DLD Escolaridade '!T14/'DLD Escolaridade '!Y14","v":0.27500000000000002},{"$f":"'DLD Escolaridade '!U14/'DLD Escolaridade '!Y14","v":0.12291666666666666},{"$f":"'DLD Escolaridade '!V14/'DLD Escolaridade '!Y14","v":0.17291666666666666},{"$f":"'DLD Escolaridade '!W14/'DLD Escolaridade '!Y14","v":0.1875},{"$f":"'DLD Escolaridade '!X14/'DLD Escolaridade '!Y14","v":0.10833333333333334},null,{"$f":"'DLD Escolaridade '!AA14/'DLD Escolaridade '!AG14","v":0.15662650602409639},{"$f":"'DLD Escolaridade '!AB14/'DLD Escolaridade '!AG14","v":0.29638554216867469},{"$f":"'DLD Escolaridade '!AC14/'DLD Escolaridade '!AG14","v":0.14457831325301204},{"$f":"'DLD Escolaridade '!AD14/'DLD Escolaridade '!AG14","v":0.16626506024096385},{"$f":"'DLD Escolaridade '!AE14/'DLD Escolaridade '!AG14","v":0.14939759036144579},{"$f":"'DLD Escolaridade '!AF14/'DLD Escolaridade '!AG14","v":8.6746987951807228E-2}]
[null,"Alcântara",{"$f":"'DLD Escolaridade '!C15/'DLD Escolaridade '!I15","v":4.9868766404199474E-2},{"$f":"'DLD Escolaridade '!D15/'DLD Escolaridade '!I15","v":0.17847769028871391},{"$f":"'DLD Escolaridade '!E15/'DLD Escolaridade '!I15","v":0.13648293963254593},{"$f":"'DLD Escolaridade '!F15/'DLD Escolaridade '!I15","v":0.15748031496062992},{"$f":"'DLD Escolaridade '!G15/'DLD Escolaridade '!I15","v":0.29396325459317585},{"$f":"'DLD Escolaridade '!H15/'DLD Escolaridade '!I15","v":0.18372703412073491},null,{"$f":"'DLD Escolaridade '!K15/'DLD Escolaridade '!Q15","v":4.4321329639889197E-2},{"$f":"'DLD Escolaridade '!L15/'DLD Escolaridade '!Q15","v":0.17451523545706371},{"$f":"'DLD Escolaridade '!M15/'DLD Escolaridade '!Q15","v":0.1440443213296399},{"$f":"'DLD Escolaridade '!N15/'DLD Escolaridade '!Q15","v":0.18836565096952909},{"$f":"'DLD Escolaridade '!O15/'DLD Escolaridade '!Q15","v":0.2742382271468144},{"$f":"'DLD Escolaridade '!P15/'DLD Escolaridade '!Q15","v":0.17451523545706371},null,{"$f":"'DLD Escolaridade '!S15/'DLD Escolaridade '!Y15","v":3.3519553072625698E-2},{"$f":"'DLD Escolaridade '!T15/'DLD Escolaridade '!Y15","v":0.17597765363128492},{"$f":"'DLD Escolaridade '!U15/'DLD Escolaridade '!Y15","v":0.10893854748603352},{"$f":"'DLD Escolaridade '!V15/'DLD Escolaridade '!Y15","v":0.19553072625698323},{"$f":"'DLD Escolaridade '!W15/'DLD Escolaridade '!Y15","v":0.25977653631284914},{"$f":"'DLD Escolaridade '!X15/'DLD Escolaridade '!Y15","v":0.22625698324022347},null,{"$f":"'DLD Escolaridade '!AA15/'DLD Escolaridade '!AG15","v":5.2083333333333336E-2},{"$f":"'DLD Escolaridade '!AB15/'DLD Escolaridade '!AG15","v":0.22916666666666666},{"$f":"'DLD Escolaridade '!AC15/'DLD Escolaridade '!AG15","v":0.15277777777777779},{"$f":"'DLD Escolaridade '!AD15/'DLD Escolaridade '!AG15","v":0.1875},{"$f":"'DLD Escolaridade '!AE15/'DLD Escolaridade '!AG15","v":0.17708333333333334},{"$f":"'DLD Escolaridade '!AF15/'DLD Escolaridade '!AG15","v":0.2013888888888889}]
[null,"Alvalade",{"$f":"'DLD Escolaridade '!C16/'DLD Escolaridade '!I16","v":6.5527065527065526E-2},{"$f":"'DLD Escolaridade '!D16/'DLD Escolaridade '!I16","v":0.10968660968660969},{"$f":"'DLD Escolaridade '!E16/'DLD Escolaridade '!I16","v":8.2621082621082614E-2},{"$f":"'DLD Escolaridade '!F16/'DLD Escolaridade '!I16","v":0.15527065527065528},{"$f":"'DLD Escolaridade '!G16/'DLD Escolaridade '!I16","v":0.29202279202279202},{"$f":"'DLD Escolaridade '!H16/'DLD Escolaridade '!I16","v":0.29487179487179488},null,{"$f":"'DLD Escolaridade '!K16/'DLD Escolaridade '!Q16","v":7.0866141732283464E-2},{"$f":"'DLD Escolaridade '!L16/'DLD Escolaridade '!Q16","v":0.11968503937007874},{"$f":"'DLD Escolaridade '!M16/'DLD Escolaridade '!Q16","v":9.6062992125984251E-2},{"$f":"'DLD Escolaridade '!N16/'DLD Escolaridade '!Q16","v":0.16377952755905512},{"$f":"'DLD Escolaridade '!O16/'DLD Escolaridade '!Q16","v":0.26299212598425198},{"$f":"'DLD Escolaridade '!P16/'DLD Escolaridade '!Q16","v":0.28661417322834648},null,{"$f":"'DLD Escolaridade '!S16/'DLD Escolaridade '!Y16","v":6.5390749601275916E-2},{"$f":"'DLD Escolaridade '!T16/'DLD Escolaridade '!Y16","v":0.13397129186602871},{"$f":"'DLD Escolaridade '!U16/'DLD Escolaridade '!Y16","v":9.2503987240829352E-2},{"$f":"'DLD Escolaridade '!V16/'DLD Escolaridade '!Y16","v":0.16427432216905902},{"$f":"'DLD Escolaridade '!W16/'DLD Escolaridade '!Y16","v":0.23923444976076555},{"$f":"'DLD Escolaridade '!X16/'DLD Escolaridade '!Y16","v":0.30462519936204147},null,{"$f":"'DLD Escolaridade '!AA16/'DLD Escolaridade '!AG16","v":6.5737051792828682E-2},{"$f":"'DLD Escolaridade '!AB16/'DLD Escolaridade '!AG16","v":0.16135458167330677},{"$f":"'DLD Escolaridade '!AC16/'DLD Escolaridade '!AG16","v":8.9641434262948211E-2},{"$f":"'DLD Escolaridade '!AD16/'DLD Escolaridade '!AG16","v":0.15936254980079681},{"$f":"'DLD Escolaridade '!AE16/'DLD Escolaridade '!AG16","v":0.23705179282868527},{"$f":"'DLD Escolaridade '!AF16/'DLD Escolaridade '!AG16","v":0.28685258964143429}]
[null,"Areeiro",{"$f":"'DLD Escolaridade '!C17/'DLD Escolaridade '!I17","v":6.043956043956044E-2},{"$f":"'DLD Escolaridade '!D17/'DLD Escolaridade '!I17","v":0.13003663003663005},{"$f":"'DLD Escolaridade '!E17/'DLD Escolaridade '!I17","v":9.8901098901098897E-2},{"$f":"'DLD Escolaridade '!F17/'DLD Escolaridade '!I17","v":0.15384615384615385},{"$f":"'DLD Escolaridade '!G17/'DLD Escolaridade '!I17","v":0.26190476190476192},{"$f":"'DLD Escolaridade '!H17/'DLD Escolaridade '!I17","v":0.29487179487179488},null,{"$f":"'DLD Escolaridade '!K17/'DLD Escolaridade '!Q17","v":6.9444444444444448E-2},{"$f":"'DLD Escolaridade '!L17/'DLD Escolaridade '!Q17","v":0.12103174603174603},{"$f":"'DLD Escolaridade '!M17/'DLD Escolaridade '!Q17","v":9.3253968253968256E-2},{"$f":"'DLD Escolaridade '!N17/'DLD Escolaridade '!Q17","v":0.16468253968253968},{"$f":"'DLD Escolaridade '!O17/'DLD Escolaridade '!Q17","v":0.25},{"$f":"'DLD Escolaridade '!P17/'DLD Escolaridade '!Q17","v":0.30158730158730157},null,{"$f":"'DLD Escolaridade '!S17/'DLD Escolaridade '!Y17","v":6.9815195071868577E-2},{"$f":"'DLD Escolaridade '!T17/'DLD Escolaridade '!Y17","v":0.12936344969199179},{"$f":"'DLD Escolaridade '!U17/'DLD Escolaridade '!Y17","v":8.2135523613963035E-2},{"$f":"'DLD Escolaridade '!V17/'DLD Escolaridade '!Y17","v":0.18480492813141683},{"$f":"'DLD Escolaridade '!W17/'DLD Escolaridade '!Y17","v":0.25872689938398358},{"$f":"'DLD Escolaridade '!X17/'DLD Escolaridade '!Y17","v":0.27515400410677621},null,{"$f":"'DLD Escolaridade '!AA17/'DLD Escolaridade '!AG17","v":6.3781321184510256E-2},{"$f":"'DLD Escolaridade '!AB17/'DLD Escolaridade '!AG17","v":0.12984054669703873},{"$f":"'DLD Escolaridade '!AC17/'DLD Escolaridade '!AG17","v":9.3394077448747156E-2},{"$f":"'DLD Escolaridade '!AD17/'DLD Escolaridade '!AG17","v":0.15717539863325741},{"$f":"'DLD Escolaridade '!AE17/'DLD Escolaridade '!AG17","v":0.25968109339407747},{"$f":"'DLD Escolaridade '!AF17/'DLD Escolaridade '!AG17","v":0.296127562642369}]
[null,"Arroios",{"$f":"'DLD Escolaridade '!C18/'DLD Escolaridade '!I18","v":0.15639810426540285},{"$f":"'DLD Escolaridade '!D18/'DLD Escolaridade '!I18","v":0.13080568720379146},{"$f":"'DLD Escolaridade '!E18/'DLD Escolaridade '!I18","v":0.13933649289099526},{"$f":"'DLD Escolaridade '!F18/'DLD Escolaridade '!I18","v":0.16682464454976303},{"$f":"'DLD Escolaridade '!G18/'DLD Escolaridade '!I18","v":0.23507109004739338},{"$f":"'DLD Escolaridade '!H18/'DLD Escolaridade '!I18","v":0.17156398104265402},null,{"$f":"'DLD Escolaridade '!K18/'DLD Escolaridade '!Q18","v":0.14314928425357873},{"$f":"'DLD Escolaridade '!L18/'DLD Escolaridade '!Q18","v":0.14314928425357873},{"$f":"'DLD Escolaridade '!M18/'DLD Escolaridade '!Q18","v":0.14417177914110429},{"$f":"'DLD Escolaridade '!N18/'DLD Escolaridade '!Q18","v":0.17382413087934559},{"$f":"'DLD Escolaridade '!O18/'DLD Escolaridade '!Q18","v":0.24335378323108384},{"$f":"'DLD Escolaridade '!P18/'DLD Escolaridade '!Q18","v":0.15235173824130879},null,{"$f":"'DLD Escolaridade '!S18/'DLD Escolaridade '!Y18","v":0.1223021582733813},{"$f":"'DLD Escolaridade '!T18/'DLD Escolaridade '!Y18","v":0.15210688591983557},{"$f":"'DLD Escolaridade '!U18/'DLD Escolaridade '!Y18","v":0.13874614594039056},{"$f":"'DLD Escolaridade '!V18/'DLD Escolaridade '!Y18","v":0.18705035971223022},{"$f":"'DLD Escolaridade '!W18/'DLD Escolaridade '!Y18","v":0.2343268242548818},{"$f":"'DLD Escolaridade '!X18/'DLD Escolaridade '!Y18","v":0.16546762589928057},null,{"$f":"'DLD Escolaridade '!AA18/'DLD Escolaridade '!AG18","v":0.12157330154946365},{"$f":"'DLD Escolaridade '!AB18/'DLD Escolaridade '!AG18","v":0.1799761620977354},{"$f":"'DLD Escolaridade '!AC18/'DLD Escolaridade '!AG18","v":0.16686531585220502},{"$f":"'DLD Escolaridade '!AD18/'DLD Escolaridade '!AG18","v":0.18474374255065554},{"$f":"'DLD Escolaridade '!AE18/'DLD Escolaridade '!AG18","v":0.19070321811680571},{"$f":"'DLD Escolaridade '!AF18/'DLD Escolaridade '!AG18","v":0.15613825983313467}]
[null,"Avenidas Novas",{"$f":"'DLD Escolaridade '!C19/'DLD Escolaridade '!I19","v":6.7567567567567571E-2},{"$f":"'DLD Escolaridade '!D19/'DLD Escolaridade '!I19","v":0.12548262548262548},{"$f":"'DLD Escolaridade '!E19/'DLD Escolaridade '!I19","v":7.9150579150579145E-2},{"$f":"'DLD Escolaridade '!F19/'DLD Escolaridade '!I19","v":0.12355212355212356},{"$f":"'DLD Escolaridade '!G19/'DLD Escolaridade '!I19","v":0.26447876447876451},{"$f":"'DLD Escolaridade '!H19/'DLD Escolaridade '!I19","v":0.33976833976833976},null,{"$f":"'DLD Escolaridade '!K19/'DLD Escolaridade '!Q19","v":8.0679405520169847E-2},{"$f":"'DLD Escolaridade '!L19/'DLD Escolaridade '!Q19","v":0.12951167728237792},{"$f":"'DLD Escolaridade '!M19/'DLD Escolaridade '!Q19","v":8.9171974522292988E-2},{"$f":"'DLD Escolaridade '!N19/'DLD Escolaridade '!Q19","v":0.10828025477707007},{"$f":"'DLD Escolaridade '!O19/'DLD Escolaridade '!Q19","v":0.26114649681528662},{"$f":"'DLD Escolaridade '!P19/'DLD Escolaridade '!Q19","v":0.33121019108280253},null,{"$f":"'DLD Escolaridade '!S19/'DLD Escolaridade '!Y19","v":7.6923076923076927E-2},{"$f":"'DLD Escolaridade '!T19/'DLD Escolaridade '!Y19","v":0.12393162393162394},{"$f":"'DLD Escolaridade '!U19/'DLD Escolaridade '!Y19","v":0.10256410256410256},{"$f":"'DLD Escolaridade '!V19/'DLD Escolaridade '!Y19","v":0.10683760683760683},{"$f":"'DLD Escolaridade '!W19/'DLD Escolaridade '!Y19","v":0.25},{"$f":"'DLD Escolaridade '!X19/'DLD Escolaridade '!Y19","v":0.33974358974358976},null,{"$f":"'DLD Escolaridade '!AA19/'DLD Escolaridade '!AG19","v":9.3908629441624369E-2},{"$f":"'DLD Escolaridade '!AB19/'DLD Escolaridade '!AG19","v":0.14467005076142131},{"$f":"'DLD Escolaridade '!AC19/'DLD Escolaridade '!AG19","v":0.1065989847715736},{"$f":"'DLD Escolaridade '!AD19/'DLD Escolaridade '!AG19","v":0.10406091370558376},{"$f":"'DLD Escolaridade '!AE19/'DLD Escolaridade '!AG19","v":0.24619289340101522},{"$f":"'DLD Escolaridade '!AF19/'DLD Escolaridade '!AG19","v":0.30456852791878175}]
[null,"Beato",{"$f":"'DLD Escolaridade '!C20/'DLD Escolaridade '!I20","v":0.13453815261044177},{"$f":"'DLD Escolaridade '!D20/'DLD Escolaridade '!I20","v":0.23493975903614459},{"$f":"'DLD Escolaridade '!E20/'DLD Escolaridade '!I20","v":0.19477911646586346},{"$f":"'DLD Escolaridade '!F20/'DLD Escolaridade '!I20","v":0.19076305220883535},{"$f":"'DLD Escolaridade '!G20/'DLD Escolaridade '!I20","v":0.1646586345381526},{"$f":"'DLD Escolaridade '!H20/'DLD Escolaridade '!I20","v":8.0321285140562249E-2},null,{"$f":"'DLD Escolaridade '!K20/'DLD Escolaridade '!Q20","v":0.12553191489361701},{"$f":"'DLD Escolaridade '!L20/'DLD Escolaridade '!Q20","v":0.22978723404255319},{"$f":"'DLD Escolaridade '!M20/'DLD Escolaridade '!Q20","v":0.21063829787234042},{"$f":"'DLD Escolaridade '!N20/'DLD Escolaridade '!Q20","v":0.19787234042553192},{"$f":"'DLD Escolaridade '!O20/'DLD Escolaridade '!Q20","v":0.15957446808510639},{"$f":"'DLD Escolaridade '!P20/'DLD Escolaridade '!Q20","v":7.6595744680851063E-2},null,{"$f":"'DLD Escolaridade '!S20/'DLD Escolaridade '!Y20","v":0.13263157894736843},{"$f":"'DLD Escolaridade '!T20/'DLD Escolaridade '!Y20","v":0.24421052631578946},{"$f":"'DLD Escolaridade '!U20/'DLD Escolaridade '!Y20","v":0.2},{"$f":"'DLD Escolaridade '!V20/'DLD Escolaridade '!Y20","v":0.17684210526315788},{"$f":"'DLD Escolaridade '!W20/'DLD Escolaridade '!Y20","v":0.17894736842105263},{"$f":"'DLD Escolaridade '!X20/'DLD Escolaridade '!Y20","v":6.7368421052631577E-2},null,{"$f":"'DLD Escolaridade '!AA20/'DLD Escolaridade '!AG20","v":0.145985401459854},{"$f":"'DLD Escolaridade '!AB20/'DLD Escolaridade '!AG20","v":0.26520681265206814},{"$f":"'DLD Escolaridade '!AC20/'DLD Escolaridade '!AG20","v":0.23357664233576642},{"$f":"'DLD Escolaridade '!AD20/'DLD Escolaridade '!AG20","v":0.16058394160583941},{"$f":"'DLD Escolaridade '!AE20/'DLD Escolaridade '!AG20","v":0.14111922141119221},{"$f":"'DLD Escolaridade '!AF20/'DLD Escolaridade '!AG20","v":5.3527980535279802E-2}]
[null,"Belém",{"$f":"'DLD Escolaridade '!C21/'DLD Escolaridade '!I21","v":3.6101083032490976E-3},{"$f":"'DLD Escolaridade '!D21/'DLD Escolaridade '!I21","v":6.1371841155234655E-2},{"$f":"'DLD Escolaridade '!E21/'DLD Escolaridade '!I21","v":7.2202166064981949E-2},{"$f":"'DLD Escolaridade '!F21/'DLD Escolaridade '!I21","v":0.13357400722021662},{"$f":"'DLD Escolaridade '!G21/'DLD Escolaridade '!I21","v":0.30685920577617326},{"$f":"'DLD Escolaridade '!H21/'DLD Escolaridade '!I21","v":0.42238267148014441},null,{"$f":"'DLD Escolaridade '!K21/'DLD Escolaridade '!Q21","v":4.2553191489361703E-3},{"$f":"'DLD Escolaridade '!L21/'DLD Escolaridade '!Q21","v":7.6595744680851063E-2},{"$f":"'DLD Escolaridade '!M21/'DLD Escolaridade '!Q21","v":6.3829787234042548E-2},{"$f":"'DLD Escolaridade '!N21/'DLD Escolaridade '!Q21","v":0.15319148936170213},{"$f":"'DLD Escolaridade '!O21/'DLD Escolaridade '!Q21","v":0.2978723404255319},{"$f":"'DLD Escolaridade '!P21/'DLD Escolaridade '!Q21","v":0.40425531914893614},null,{"$f":"'DLD Escolaridade '!S21/'DLD Escolaridade '!Y21","v":4.1322314049586778E-3},{"$f":"'DLD Escolaridade '!T21/'DLD Escolaridade '!Y21","v":7.43801652892562E-2},{"$f":"'DLD Escolaridade '!U21/'DLD Escolaridade '!Y21","v":8.2644628099173556E-2},{"$f":"'DLD Escolaridade '!V21/'DLD Escolaridade '!Y21","v":0.16942148760330578},{"$f":"'DLD Escolaridade '!W21/'DLD Escolaridade '!Y21","v":0.29338842975206614},{"$f":"'DLD Escolaridade '!X21/'DLD Escolaridade '!Y21","v":0.37603305785123969},null,{"$f":"'DLD Escolaridade '!AA21/'DLD Escolaridade '!AG21","v":5.1282051282051282E-3},{"$f":"'DLD Escolaridade '!AB21/'DLD Escolaridade '!AG21","v":9.7435897435897437E-2},{"$f":"'DLD Escolaridade '!AC21/'DLD Escolaridade '!AG21","v":0.12307692307692308},{"$f":"'DLD Escolaridade '!AD21/'DLD Escolaridade '!AG21","v":0.13846153846153847},{"$f":"'DLD Escolaridade '!AE21/'DLD Escolaridade '!AG21","v":0.26153846153846155},{"$f":"'DLD Escolaridade '!AF21/'DLD Escolaridade '!AG21","v":0.37435897435897436}]
[null,"Benfica",{"$f":"'DLD Escolaridade '!C22/'DLD Escolaridade '!I22","v":7.2146118721461192E-2},{"$f":"'DLD Escolaridade '!D22/'DLD Escolaridade '!I22","v":0.17442922374429223},{"$f":"'DLD Escolaridade '!E22/'DLD Escolaridade '!I22","v":0.13150684931506848},{"$f":"'DLD Escolaridade '!F22/'DLD Escolaridade '!I22","v":0.18356164383561643},{"$f":"'DLD Escolaridade '!G22/'DLD Escolaridade '!I22","v":0.24292237442922374},{"$f":"'DLD Escolaridade '!H22/'DLD Escolaridade '!I22","v":0.19543378995433791},null,{"$f":"'DLD Escolaridade '!K22/'DLD Escolaridade '!Q22","v":7.2184793070259864E-2},{"$f":"'DLD Escolaridade '!L22/'DLD Escolaridade '!Q22","v":0.18190567853705486},{"$f":"'DLD Escolaridade '!M22/'DLD Escolaridade '!Q22","v":0.12030798845043311},{"$f":"'DLD Escolaridade '!N22/'DLD Escolaridade '!Q22","v":0.18671799807507219},{"$f":"'DLD Escolaridade '!O22/'DLD Escolaridade '!Q22","v":0.2492781520692974},{"$f":"'DLD Escolaridade '!P22/'DLD Escolaridade '!Q22","v":0.18960538979788258},null,{"$f":"'DLD Escolaridade '!S22/'DLD Escolaridade '!Y22","v":7.4036511156186618E-2},{"$f":"'DLD Escolaridade '!T22/'DLD Escolaridade '!Y22","v":0.18356997971602435},{"$f":"'DLD Escolaridade '!U22/'DLD Escolaridade '!Y22","v":9.9391480730223122E-2},{"$f":"'DLD Escolaridade '!V22/'DLD Escolaridade '!Y22","v":0.18052738336713997},{"$f":"'DLD Escolaridade '!W22/'DLD Escolaridade '!Y22","v":0.26166328600405681},{"$f":"'DLD Escolaridade '!X22/'DLD Escolaridade '!Y22","v":0.20081135902636918},null,{"$f":"'DLD Escolaridade '!AA22/'DLD Escolaridade '!AG22","v":8.9192025183630647E-2},{"$f":"'DLD Escolaridade '!AB22/'DLD Escolaridade '!AG22","v":0.1930745015739769},{"$f":"'DLD Escolaridade '!AC22/'DLD Escolaridade '!AG22","v":0.13221406086044071},{"$f":"'DLD Escolaridade '!AD22/'DLD Escolaridade '!AG22","v":0.16894018887722981},{"$f":"'DLD Escolaridade '!AE22/'DLD Escolaridade '!AG22","v":0.22875131164742918},{"$f":"'DLD Escolaridade '!AF22/'DLD Escolaridade '!AG22","v":0.18782791185729275}]
[null,"Campo de Ourique",{"$f":"'DLD Escolaridade '!C23/'DLD Escolaridade '!I23","v":3.6398467432950193E-2},{"$f":"'DLD Escolaridade '!D23/'DLD Escolaridade '!I23","v":0.14942528735632185},{"$f":"'DLD Escolaridade '!E23/'DLD Escolaridade '!I23","v":0.10727969348659004},{"$f":"'DLD Escolaridade '!F23/'DLD Escolaridade '!I23","v":0.19157088122605365},{"$f":"'DLD Escolaridade '!G23/'DLD Escolaridade '!I23","v":0.28735632183908044},{"$f":"'DLD Escolaridade '!H23/'DLD Escolaridade '!I23","v":0.22796934865900384},null,{"$f":"'DLD Escolaridade '!K23/'DLD Escolaridade '!Q23","v":3.382663847780127E-2},{"$f":"'DLD Escolaridade '!L23/'DLD Escolaridade '!Q23","v":0.16279069767441862},{"$f":"'DLD Escolaridade '!M23/'DLD Escolaridade '!Q23","v":0.11627906976744186},{"$f":"'DLD Escolaridade '!N23/'DLD Escolaridade '!Q23","v":0.20295983086680761},{"$f":"'DLD Escolaridade '!O23/'DLD Escolaridade '!Q23","v":0.24735729386892177},{"$f":"'DLD Escolaridade '!P23/'DLD Escolaridade '!Q23","v":0.23678646934460887},null,{"$f":"'DLD Escolaridade '!S23/'DLD Escolaridade '!Y23","v":3.8617886178861791E-2},{"$f":"'DLD Escolaridade '!T23/'DLD Escolaridade '!Y23","v":0.15853658536585366},{"$f":"'DLD Escolaridade '!U23/'DLD Escolaridade '!Y23","v":0.10975609756097561},{"$f":"'DLD Escolaridade '!V23/'DLD Escolaridade '!Y23","v":0.19715447154471544},{"$f":"'DLD Escolaridade '!W23/'DLD Escolaridade '!Y23","v":0.25406504065040653},{"$f":"'DLD Escolaridade '!X23/'DLD Escolaridade '!Y23","v":0.241869918699187},null,{"$f":"'DLD Escolaridade '!AA23/'DLD Escolaridade '!AG23","v":4.025423728813559E-2},{"$f":"'DLD Escolaridade '!AB23/'DLD Escolaridade '!AG23","v":0.18432203389830509},{"$f":"'DLD Escolaridade '!AC23/'DLD Escolaridade '!AG23","v":0.13135593220338984},{"$f":"'DLD Escolaridade '!AD23/'DLD Escolaridade '!AG23","v":0.20338983050847459},{"$f":"'DLD Escolaridade '!AE23/'DLD Escolaridade '!AG23","v":0.24576271186440679},{"$f":"'DLD Escolaridade '!AF23/'DLD Escolaridade '!AG23","v":0.19491525423728814}]
[null,"Campolide",{"$f":"'DLD Escolaridade '!C24/'DLD Escolaridade '!I24","v":5.8974358974358973E-2},{"$f":"'DLD Escolaridade '!D24/'DLD Escolaridade '!I24","v":0.2076923076923077},{"$f":"'DLD Escolaridade '!E24/'DLD Escolaridade '!I24","v":0.1641025641025641},{"$f":"'DLD Escolaridade '!F24/'DLD Escolaridade '!I24","v":0.18717948717948718},{"$f":"'DLD Escolaridade '!G24/'DLD Escolaridade '!I24","v":0.22564102564102564},{"$f":"'DLD Escolaridade '!H24/'DLD Escolaridade '!I24","v":0.15641025641025641},null,{"$f":"'DLD Escolaridade '!K24/'DLD Escolaridade '!Q24","v":6.006006006006006E-2},{"$f":"'DLD Escolaridade '!L24/'DLD Escolaridade '!Q24","v":0.21921921921921922},{"$f":"'DLD Escolaridade '!M24/'DLD Escolaridade '!Q24","v":0.16816816816816818},{"$f":"'DLD Escolaridade '!N24/'DLD Escolaridade '!Q24","v":0.1981981981981982},{"$f":"'DLD Escolaridade '!O24/'DLD Escolaridade '!Q24","v":0.23423423423423423},{"$f":"'DLD Escolaridade '!P24/'DLD Escolaridade '!Q24","v":0.12012012012012012},null,{"$f":"'DLD Escolaridade '!S24/'DLD Escolaridade '!Y24","v":5.9006211180124224E-2},{"$f":"'DLD Escolaridade '!T24/'DLD Escolaridade '!Y24","v":0.2484472049689441},{"$f":"'DLD Escolaridade '!U24/'DLD Escolaridade '!Y24","v":0.15217391304347827},{"$f":"'DLD Escolaridade '!V24/'DLD Escolaridade '!Y24","v":0.18944099378881987},{"$f":"'DLD Escolaridade '!W24/'DLD Escolaridade '!Y24","v":0.21428571428571427},{"$f":"'DLD Escolaridade '!X24/'DLD Escolaridade '!Y24","v":0.13664596273291926},null,{"$f":"'DLD Escolaridade '!AA24/'DLD Escolaridade '!AG24","v":5.7971014492753624E-2},{"$f":"'DLD Escolaridade '!AB24/'DLD Escolaridade '!AG24","v":0.27536231884057971},{"$f":"'DLD Escolaridade '!AC24/'DLD Escolaridade '!AG24","v":0.17971014492753623},{"$f":"'DLD Escolaridade '!AD24/'DLD Escolaridade '!AG24","v":0.15942028985507245},{"$f":"'DLD Escolaridade '!AE24/'DLD Escolaridade '!AG24","v":0.2},{"$f":"'DLD Escolaridade '!AF24/'DLD Escolaridade '!AG24","v":0.12753623188405797}]
[null,"Carnide",{"$f":"'DLD Escolaridade '!C25/'DLD Escolaridade '!I25","v":0.12021857923497267},{"$f":"'DLD Escolaridade '!D25/'DLD Escolaridade '!I25","v":0.23132969034608378},{"$f":"'DLD Escolaridade '!E25/'DLD Escolaridade '!I25","v":0.1111111111111111},{"$f":"'DLD Escolaridade '!F25/'DLD Escolaridade '!I25","v":0.18579234972677597},{"$f":"'DLD Escolaridade '!G25/'DLD Escolaridade '!I25","v":0.15664845173041894},{"$f":"'DLD Escolaridade '!H25/'DLD Escolaridade '!I25","v":0.19489981785063754},null,{"$f":"'DLD Escolaridade '!K25/'DLD Escolaridade '!Q25","v":0.12478031634446397},{"$f":"'DLD Escolaridade '!L25/'DLD Escolaridade '!Q25","v":0.23198594024604569},{"$f":"'DLD Escolaridade '!M25/'DLD Escolaridade '!Q25","v":0.11247803163444639},{"$f":"'DLD Escolaridade '!N25/'DLD Escolaridade '!Q25","v":0.19332161687170474},{"$f":"'DLD Escolaridade '!O25/'DLD Escolaridade '!Q25","v":0.15289982425307558},{"$f":"'DLD Escolaridade '!P25/'DLD Escolaridade '!Q25","v":0.18453427065026362},null,{"$f":"'DLD Escolaridade '!S25/'DLD Escolaridade '!Y25","v":0.12880143112701253},{"$f":"'DLD Escolaridade '!T25/'DLD Escolaridade '!Y25","v":0.24686940966010734},{"$f":"'DLD Escolaridade '!U25/'DLD Escolaridade '!Y25","v":0.11270125223613596},{"$f":"'DLD Escolaridade '!V25/'DLD Escolaridade '!Y25","v":0.18783542039355994},{"$f":"'DLD Escolaridade '!W25/'DLD Escolaridade '!Y25","v":0.15384615384615385},{"$f":"'DLD Escolaridade '!X25/'DLD Escolaridade '!Y25","v":0.16994633273703041},null,{"$f":"'DLD Escolaridade '!AA25/'DLD Escolaridade '!AG25","v":0.1256931608133087},{"$f":"'DLD Escolaridade '!AB25/'DLD Escolaridade '!AG25","v":0.25508317929759705},{"$f":"'DLD Escolaridade '!AC25/'DLD Escolaridade '!AG25","v":0.12384473197781885},{"$f":"'DLD Escolaridade '!AD25/'DLD Escolaridade '!AG25","v":0.17744916820702403},{"$f":"'DLD Escolaridade '!AE25/'DLD Escolaridade '!AG25","v":0.1478743068391867},{"$f":"'DLD Escolaridade '!AF25/'DLD Escolaridade '!AG25","v":0.17005545286506468}]
[null,"Estrela",{"$f":"'DLD Escolaridade '!C26/'DLD Escolaridade '!I26","v":3.0588235294117649E-2},{"$f":"'DLD Escolaridade '!D26/'DLD Escolaridade '!I26","v":0.11764705882352941},{"$f":"'DLD Escolaridade '!E26/'DLD Escolaridade '!I26","v":0.11764705882352941},{"$f":"'DLD Escolaridade '!F26/'DLD Escolaridade '!I26","v":0.16705882352941176},{"$f":"'DLD Escolaridade '!G26/'DLD Escolaridade '!I26","v":0.29176470588235293},{"$f":"'DLD Escolaridade '!H26/'DLD Escolaridade '!I26","v":0.2752941176470588},null,{"$f":"'DLD Escolaridade '!K26/'DLD Escolaridade '!Q26","v":2.2167487684729065E-2},{"$f":"'DLD Escolaridade '!L26/'DLD Escolaridade '!Q26","v":0.14039408866995073},{"$f":"'DLD Escolaridade '!M26/'DLD Escolaridade '!Q26","v":0.11576354679802955},{"$f":"'DLD Escolaridade '!N26/'DLD Escolaridade '!Q26","v":0.1748768472906404},{"$f":"'DLD Escolaridade '!O26/'DLD Escolaridade '!Q26","v":0.27832512315270935},{"$f":"'DLD Escolaridade '!P26/'DLD Escolaridade '!Q26","v":0.26847290640394089},null,{"$f":"'DLD Escolaridade '!S26/'DLD Escolaridade '!Y26","v":2.9629629629629631E-2},{"$f":"'DLD Escolaridade '!T26/'DLD Escolaridade '!Y26","v":0.14567901234567901},{"$f":"'DLD Escolaridade '!U26/'DLD Escolaridade '!Y26","v":0.1037037037037037},{"$f":"'DLD Escolaridade '!V26/'DLD Escolaridade '!Y26","v":0.16543209876543211},{"$f":"'DLD Escolaridade '!W26/'DLD Escolaridade '!Y26","v":0.26666666666666666},{"$f":"'DLD Escolaridade '!X26/'DLD Escolaridade '!Y26","v":0.28888888888888886},null,{"$f":"'DLD Escolaridade '!AA26/'DLD Escolaridade '!AG26","v":2.8985507246376812E-2},{"$f":"'DLD Escolaridade '!AB26/'DLD Escolaridade '!AG26","v":0.1681159420289855},{"$f":"'DLD Escolaridade '!AC26/'DLD Escolaridade '!AG26","v":0.11304347826086956},{"$f":"'DLD Escolaridade '!AD26/'DLD Escolaridade '!AG26","v":0.15362318840579711},{"$f":"'DLD Escolaridade '!AE26/'DLD Escolaridade '!AG26","v":0.26666666666666666},{"$f":"'DLD Escolaridade '!AF26/'DLD Escolaridade '!AG26","v":0.26956521739130435}]
[null,"Lumiar",{"$f":"'DLD Escolaridade '!C27/'DLD Escolaridade '!I27","v":7.4611398963730563E-2},{"$f":"'DLD Escolaridade '!D27/'DLD Escolaridade '!I27","v":0.16269430051813472},{"$f":"'DLD Escolaridade '!E27/'DLD Escolaridade '!I27","v":8.8082901554404139E-2},{"$f":"'DLD Escolaridade '!F27/'DLD Escolaridade '!I27","v":0.12124352331606218},{"$f":"'DLD Escolaridade '!G27/'DLD Escolaridade '!I27","v":0.23108808290155441},{"$f":"'DLD Escolaridade '!H27/'DLD Escolaridade '!I27","v":0.32227979274611401},null,{"$f":"'DLD Escolaridade '!K27/'DLD Escolaridade '!Q27","v":7.9957356076759065E-2},{"$f":"'DLD Escolaridade '!L27/'DLD Escolaridade '!Q27","v":0.17057569296375266},{"$f":"'DLD Escolaridade '!M27/'DLD Escolaridade '!Q27","v":8.5287846481876331E-2},{"$f":"'DLD Escolaridade '!N27/'DLD Escolaridade '!Q27","v":0.11727078891257996},{"$f":"'DLD Escolaridade '!O27/'DLD Escolaridade '!Q27","v":0.24307036247334754},{"$f":"'DLD Escolaridade '!P27/'DLD Escolaridade '!Q27","v":0.30383795309168443},null,{"$f":"'DLD Escolaridade '!S27/'DLD Escolaridade '!Y27","v":8.3877995642701528E-2},{"$f":"'DLD Escolaridade '!T27/'DLD Escolaridade '!Y27","v":0.16666666666666666},{"$f":"'DLD Escolaridade '!U27/'DLD Escolaridade '!Y27","v":9.4771241830065356E-2},{"$f":"'DLD Escolaridade '!V27/'DLD Escolaridade '!Y27","v":0.11437908496732026},{"$f":"'DLD Escolaridade '!W27/'DLD Escolaridade '!Y27","v":0.20915032679738563},{"$f":"'DLD Escolaridade '!X27/'DLD Escolaridade '!Y27","v":0.33115468409586057},null,{"$f":"'DLD Escolaridade '!AA27/'DLD Escolaridade '!AG27","v":9.3645484949832769E-2},{"$f":"'DLD Escolaridade '!AB27/'DLD Escolaridade '!AG27","v":0.18283166109253066},{"$f":"'DLD Escolaridade '!AC27/'DLD Escolaridade '!AG27","v":9.6989966555183951E-2},{"$f":"'DLD Escolaridade '!AD27/'DLD Escolaridade '!AG27","v":0.11036789297658862},{"$f":"'DLD Escolaridade '!AE27/'DLD Escolaridade '!AG27","v":0.20178372352285395},{"$f":"'DLD Escolaridade '!AF27/'DLD Escolaridade '!AG27","v":0.31438127090301005}]
[null,"Marvila",{"$f":"'DLD Escolaridade '!C28/'DLD Escolaridade '!I28","v":0.12530712530712532},{"$f":"'DLD Escolaridade '!D28/'DLD Escolaridade '!I28","v":0.32002457002457002},{"$f":"'DLD Escolaridade '!E28/'DLD Escolaridade '!I28","v":0.19901719901719903},{"$f":"'DLD Escolaridade '!F28/'DLD Escolaridade '!I28","v":0.1726044226044226},{"$f":"'DLD Escolaridade '!G28/'DLD Escolaridade '!I28","v":0.1332923832923833},{"$f":"'DLD Escolaridade '!H28/'DLD Escolaridade '!I28","v":4.9754299754299756E-2},null,{"$f":"'DLD Escolaridade '!K28/'DLD Escolaridade '!Q28","v":0.12645914396887159},{"$f":"'DLD Escolaridade '!L28/'DLD Escolaridade '!Q28","v":0.3437094682230869},{"$f":"'DLD Escolaridade '!M28/'DLD Escolaridade '!Q28","v":0.19390402075226978},{"$f":"'DLD Escolaridade '!N28/'DLD Escolaridade '!Q28","v":0.1835278858625162},{"$f":"'DLD Escolaridade '!O28/'DLD Escolaridade '!Q28","v":0.11219195849546044},{"$f":"'DLD Escolaridade '!P28/'DLD Escolaridade '!Q28","v":4.0207522697795074E-2},null,{"$f":"'DLD Escolaridade '!S28/'DLD Escolaridade '!Y28","v":0.1369949494949495},{"$f":"'DLD Escolaridade '!T28/'DLD Escolaridade '!Y28","v":0.33333333333333331},{"$f":"'DLD Escolaridade '!U28/'DLD Escolaridade '!Y28","v":0.19696969696969696},{"$f":"'DLD Escolaridade '!V28/'DLD Escolaridade '!Y28","v":0.16729797979797981},{"$f":"'DLD Escolaridade '!W28/'DLD Escolaridade '!Y28","v":0.11742424242424243},{"$f":"'DLD Escolaridade '!X28/'DLD Escolaridade '!Y28","v":4.7979797979797977E-2},null,{"$f":"'DLD Escolaridade '!AA28/'DLD Escolaridade '!AG28","v":0.14140681653372009},{"$f":"'DLD Escolaridade '!AB28/'DLD Escolaridade '!AG28","v":0.35823060188542422},{"$f":"'DLD Escolaridade '!AC28/'DLD Escolaridade '!AG28","v":0.20014503263234229},{"$f":"'DLD Escolaridade '!AD28/'DLD Escolaridade '!AG28","v":0.15083393763596809},{"$f":"'DLD Escolaridade '!AE28/'DLD Escolaridade '!AG28","v":0.1116751269035533},{"$f":"'DLD Escolaridade '!AF28/'DLD Escolaridade '!AG28","v":3.7708484408992021E-2}]
[null,"Misericórdia",{"$f":"'DLD Escolaridade '!C29/'DLD Escolaridade '!I29","v":8.9552238805970144E-2},{"$f":"'DLD Escolaridade '!D29/'DLD Escolaridade '!I29","v":0.1890547263681592},{"$f":"'DLD Escolaridade '!E29/'DLD Escolaridade '!I29","v":0.15920398009950248},{"$f":"'DLD Escolaridade '!F29/'DLD Escolaridade '!I29","v":0.15422885572139303},{"$f":"'DLD Escolaridade '!G29/'DLD Escolaridade '!I29","v":0.25124378109452739},{"$f":"'DLD Escolaridade '!H29/'DLD Escolaridade '!I29","v":0.15671641791044777},null,{"$f":"'DLD Escolaridade '!K29/'DLD Escolaridade '!Q29","v":7.9452054794520555E-2},{"$f":"'DLD Escolaridade '!L29/'DLD Escolaridade '!Q29","v":0.19726027397260273},{"$f":"'DLD Escolaridade '!M29/'DLD Escolaridade '!Q29","v":0.15616438356164383},{"$f":"'DLD Escolaridade '!N29/'DLD Escolaridade '!Q29","v":0.17534246575342466},{"$f":"'DLD Escolaridade '!O29/'DLD Escolaridade '!Q29","v":0.26301369863013696},{"$f":"'DLD Escolaridade '!P29/'DLD Escolaridade '!Q29","v":0.12876712328767123},null,{"$f":"'DLD Escolaridade '!S29/'DLD Escolaridade '!Y29","v":8.0110497237569064E-2},{"$f":"'DLD Escolaridade '!T29/'DLD Escolaridade '!Y29","v":0.17679558011049723},{"$f":"'DLD Escolaridade '!U29/'DLD Escolaridade '!Y29","v":0.16022099447513813},{"$f":"'DLD Escolaridade '!V29/'DLD Escolaridade '!Y29","v":0.16574585635359115},{"$f":"'DLD Escolaridade '!W29/'DLD Escolaridade '!Y29","v":0.26519337016574585},{"$f":"'DLD Escolaridade '!X29/'DLD Escolaridade '!Y29","v":0.15193370165745856},null,{"$f":"'DLD Escolaridade '!AA29/'DLD Escolaridade '!AG29","v":7.3578595317725759E-2},{"$f":"'DLD Escolaridade '!AB29/'DLD Escolaridade '!AG29","v":0.22073578595317725},{"$f":"'DLD Escolaridade '!AC29/'DLD Escolaridade '!AG29","v":0.1939799331103679},{"$f":"'DLD Escolaridade '!AD29/'DLD Escolaridade '!AG29","v":0.15719063545150502},{"$f":"'DLD Escolaridade '!AE29/'DLD Escolaridade '!AG29","v":0.18394648829431437},{"$f":"'DLD Escolaridade '!AF29/'DLD Escolaridade '!AG29","v":0.1705685618729097}]
[null,"Olivais",{"$f":"'DLD Escolaridade '!C30/'DLD Escolaridade '!I30","v":0.22222222222222221},{"$f":"'DLD Escolaridade '!D30/'DLD Escolaridade '!I30","v":0.27777777777777779},{"$f":"'DLD Escolaridade '!E30/'DLD Escolaridade '!I30","v":0.1111111111111111},{"$f":"'DLD Escolaridade '!F30/'DLD Escolaridade '!I30","v":0.1111111111111111},"-",{"$f":"'DLD Escolaridade '!H30/'DLD Escolaridade '!I30","v":0.27777777777777779},null,{"$f":"'DLD Escolaridade '!K30/'DLD Escolaridade '!Q30","v":5.7692307692307696E-2},{"$f":"'DLD Escolaridade '!L30/'DLD Escolaridade '!Q30","v":0.21153846153846154},{"$f":"'DLD Escolaridade '!M30/'DLD Escolaridade '!Q30","v":0.11538461538461539},{"$f":"'DLD Escolaridade '!N30/'DLD Escolaridade '!Q30","v":0.21153846153846154},{"$f":"'DLD Escolaridade '!O30/'DLD Escolaridade '!Q30","v":0.21153846153846154},{"$f":"'DLD Escolaridade '!P30/'DLD Escolaridade '!Q30","v":0.19230769230769232},null,{"$f":"'DLD Escolaridade '!S30/'DLD Escolaridade '!Y30","v":7.3529411764705885E-2},{"$f":"'DLD Escolaridade '!T30/'DLD Escolaridade '!Y30","v":0.11764705882352941},{"$f":"'DLD Escolaridade '!U30/'DLD Escolaridade '!Y30","v":0.17647058823529413},{"$f":"'DLD Escolaridade '!V30/'DLD Escolaridade '!Y30","v":0.22058823529411764},{"$f":"'DLD Escolaridade '!W30/'DLD Escolaridade '!Y30","v":0.19117647058823528},{"$f":"'DLD Escolaridade '!X30/'DLD Escolaridade '!Y30","v":0.22058823529411764},null,{"$f":"'DLD Escolaridade '!AA30/'DLD Escolaridade '!AG30","v":7.6086956521739135E-2},{"$f":"'DLD Escolaridade '!AB30/'DLD Escolaridade '!AG30","v":0.15217391304347827},{"$f":"'DLD Escolaridade '!AC30/'DLD Escolaridade '!AG30","v":0.17391304347826086},{"$f":"'DLD Escolaridade '!AD30/'DLD Escolaridade '!AG30","v":0.17391304347826086},{"$f":"'DLD Escolaridade '!AE30/'DLD Escolaridade '!AG30","v":0.17391304347826086},{"$f":"'DLD Escolaridade '!AF30/'DLD Escolaridade '!AG30","v":0.25}]
[null,"Parque das Nações",{"$f":"'DLD Escolaridade '!C31/'DLD Escolaridade '!I31","v":8.9149965445749824E-2},{"$f":"'DLD Escolaridade '!D31/'DLD Escolaridade '!I31","v":0.20663441603317209},{"$f":"'DLD Escolaridade '!E31/'DLD Escolaridade '!I31","v":0.15411195577055978},{"$f":"'DLD Escolaridade '!F31/'DLD Escolaridade '!I31","v":0.1796821008984105},{"$f":"'DLD Escolaridade '!G31/'DLD Escolaridade '!I31","v":0.20801658604008294},{"$f":"'DLD Escolaridade '!H31/'DLD Escolaridade '!I31","v":0.16240497581202487},null,{"$f":"'DLD Escolaridade '!K31/'DLD Escolaridade '!Q31","v":9.3862815884476536E-2},{"$f":"'DLD Escolaridade '!L31/'DLD Escolaridade '!Q31","v":0.20938628158844766},{"$f":"'DLD Escolaridade '!M31/'DLD Escolaridade '!Q31","v":0.15740072202166064},{"$f":"'DLD Escolaridade '!N31/'DLD Escolaridade '!Q31","v":0.17111913357400721},{"$f":"'DLD Escolaridade '!O31/'DLD Escolaridade '!Q31","v":0.20216606498194944},{"$f":"'DLD Escolaridade '!P31/'DLD Escolaridade '!Q31","v":0.16606498194945848},null,{"$f":"'DLD Escolaridade '!S31/'DLD Escolaridade '!Y31","v":0.1095690284879474},{"$f":"'DLD Escolaridade '!T31/'DLD Escolaridade '!Y31","v":0.21694667640613585},{"$f":"'DLD Escolaridade '!U31/'DLD Escolaridade '!Y31","v":0.16070124178232287},{"$f":"'DLD Escolaridade '!V31/'DLD Escolaridade '!Y31","v":0.1643535427319211},{"$f":"'DLD Escolaridade '!W31/'DLD Escolaridade '!Y31","v":0.18626734842951059},{"$f":"'DLD Escolaridade '!X31/'DLD Escolaridade '!Y31","v":0.16216216216216217},null,{"$f":"'DLD Escolaridade '!AA31/'DLD Escolaridade '!AG31","v":0.11811722912966252},{"$f":"'DLD Escolaridade '!AB31/'DLD Escolaridade '!AG31","v":0.25310834813499111},{"$f":"'DLD Escolaridade '!AC31/'DLD Escolaridade '!AG31","v":0.15097690941385436},{"$f":"'DLD Escolaridade '!AD31/'DLD Escolaridade '!AG31","v":0.15808170515097691},{"$f":"'DLD Escolaridade '!AE31/'DLD Escolaridade '!AG31","v":0.17140319715808169},{"$f":"'DLD Escolaridade '!AF31/'DLD Escolaridade '!AG31","v":0.1483126110124334}]
[null,"Penha de França",{"$f":"'DLD Escolaridade '!C32/'DLD Escolaridade '!I32","v":9.3363329583802029E-2},{"$f":"'DLD Escolaridade '!D32/'DLD Escolaridade '!I32","v":0.17547806524184478},{"$f":"'DLD Escolaridade '!E32/'DLD Escolaridade '!I32","v":0.1529808773903262},{"$f":"'DLD Escolaridade '!F32/'DLD Escolaridade '!I32","v":0.17885264341957255},{"$f":"'DLD Escolaridade '!G32/'DLD Escolaridade '!I32","v":0.24296962879640044},{"$f":"'DLD Escolaridade '!H32/'DLD Escolaridade '!I32","v":0.156355455568054},null,{"$f":"'DLD Escolaridade '!K32/'DLD Escolaridade '!Q32","v":8.6797066014669924E-2},{"$f":"'DLD Escolaridade '!L32/'DLD Escolaridade '!Q32","v":0.17481662591687042},{"$f":"'DLD Escolaridade '!M32/'DLD Escolaridade '!Q32","v":0.16748166259168704},{"$f":"'DLD Escolaridade '!N32/'DLD Escolaridade '!Q32","v":0.18704156479217604},{"$f":"'DLD Escolaridade '!O32/'DLD Escolaridade '!Q32","v":0.24449877750611246},{"$f":"'DLD Escolaridade '!P32/'DLD Escolaridade '!Q32","v":0.13936430317848411},null,{"$f":"'DLD Escolaridade '!S32/'DLD Escolaridade '!Y32","v":8.3437110834371109E-2},{"$f":"'DLD Escolaridade '!T32/'DLD Escolaridade '!Y32","v":0.17185554171855541},{"$f":"'DLD Escolaridade '!U32/'DLD Escolaridade '!Y32","v":0.14819427148194272},{"$f":"'DLD Escolaridade '!V32/'DLD Escolaridade '!Y32","v":0.18555417185554171},{"$f":"'DLD Escolaridade '!W32/'DLD Escolaridade '!Y32","v":0.24408468244084683},{"$f":"'DLD Escolaridade '!X32/'DLD Escolaridade '!Y32","v":0.16687422166874222},null,{"$f":"'DLD Escolaridade '!AA32/'DLD Escolaridade '!AG32","v":9.9085365853658541E-2},{"$f":"'DLD Escolaridade '!AB32/'DLD Escolaridade '!AG32","v":0.2027439024390244},{"$f":"'DLD Escolaridade '!AC32/'DLD Escolaridade '!AG32","v":0.18445121951219512},{"$f":"'DLD Escolaridade '!AD32/'DLD Escolaridade '!AG32","v":0.1875},{"$f":"'DLD Escolaridade '!AE32/'DLD Escolaridade '!AG32","v":0.16615853658536586},{"$f":"'DLD Escolaridade '!AF32/'DLD Escolaridade '!AG32","v":0.1600609756097561}]
[null,"Santa Clara",{"$f":"'DLD Escolaridade '!C33/'DLD Escolaridade '!I33","v":0.20837390457643623},{"$f":"'DLD Escolaridade '!D33/'DLD Escolaridade '!I33","v":0.29113924050632911},{"$f":"'DLD Escolaridade '!E33/'DLD Escolaridade '!I33","v":0.17624148003894841},{"$f":"'DLD Escolaridade '!F33/'DLD Escolaridade '!I33","v":0.13924050632911392},{"$f":"'DLD Escolaridade '!G33/'DLD Escolaridade '!I33","v":0.11295034079844206},{"$f":"'DLD Escolaridade '!H33/'DLD Escolaridade '!I33","v":7.2054527750730277E-2},null,{"$f":"'DLD Escolaridade '!K33/'DLD Escolaridade '!Q33","v":0.22426095820591233},{"$f":"'DLD Escolaridade '!L33/'DLD Escolaridade '!Q33","v":0.29969418960244648},{"$f":"'DLD Escolaridade '!M33/'DLD Escolaridade '!Q33","v":0.16717635066258921},{"$f":"'DLD Escolaridade '!N33/'DLD Escolaridade '!Q33","v":0.12538226299694188},{"$f":"'DLD Escolaridade '!O33/'DLD Escolaridade '!Q33","v":0.109072375127421},{"$f":"'DLD Escolaridade '!P33/'DLD Escolaridade '!Q33","v":7.4413863404689098E-2},null,{"$f":"'DLD Escolaridade '!S33/'DLD Escolaridade '!Y33","v":0.23389494549058473},{"$f":"'DLD Escolaridade '!T33/'DLD Escolaridade '!Y33","v":0.29435084241823589},{"$f":"'DLD Escolaridade '!U33/'DLD Escolaridade '!Y33","v":0.17145688800792863},{"$f":"'DLD Escolaridade '!V33/'DLD Escolaridade '!Y33","v":0.1159563924677899},{"$f":"'DLD Escolaridade '!W33/'DLD Escolaridade '!Y33","v":0.12091179385530228},{"$f":"'DLD Escolaridade '!X33/'DLD Escolaridade '!Y33","v":6.3429137760158572E-2},null,{"$f":"'DLD Escolaridade '!AA33/'DLD Escolaridade '!AG33","v":0.25215517241379309},{"$f":"'DLD Escolaridade '!AB33/'DLD Escolaridade '!AG33","v":0.32758620689655171},{"$f":"'DLD Escolaridade '!AC33/'DLD Escolaridade '!AG33","v":0.16810344827586207},{"$f":"'DLD Escolaridade '!AD33/'DLD Escolaridade '!AG33","v":0.11099137931034483},{"$f":"'DLD Escolaridade '!AE33/'DLD Escolaridade '!AG33","v":7.6508620689655166E-2},{"$f":"'DLD Escolaridade '!AF33/'DLD Escolaridade '!AG33","v":6.4655172413793108E-2}]
[null,"Santa Maria Maior",{"$f":"'DLD Escolaridade '!C34/'DLD Escolaridade '!I34","v":0.13926940639269406},{"$f":"'DLD Escolaridade '!D34/'DLD Escolaridade '!I34","v":0.19863013698630136},{"$f":"'DLD Escolaridade '!E34/'DLD Escolaridade '!I34","v":0.18036529680365296},{"$f":"'DLD Escolaridade '!F34/'DLD Escolaridade '!I34","v":0.19634703196347031},{"$f":"'DLD Escolaridade '!G34/'DLD Escolaridade '!I34","v":0.14611872146118721},{"$f":"'DLD Escolaridade '!H34/'DLD Escolaridade '!I34","v":0.13926940639269406},null,{"$f":"'DLD Escolaridade '!K34/'DLD Escolaridade '!Q34","v":0.14356435643564355},{"$f":"'DLD Escolaridade '!L34/'DLD Escolaridade '!Q34","v":0.21039603960396039},{"$f":"'DLD Escolaridade '!M34/'DLD Escolaridade '!Q34","v":0.17574257425742573},{"$f":"'DLD Escolaridade '!N34/'DLD Escolaridade '!Q34","v":0.2202970297029703},{"$f":"'DLD Escolaridade '!O34/'DLD Escolaridade '!Q34","v":0.14356435643564355},{"$f":"'DLD Escolaridade '!P34/'DLD Escolaridade '!Q34","v":0.10643564356435643},null,{"$f":"'DLD Escolaridade '!S34/'DLD Escolaridade '!Y34","v":0.13513513513513514},{"$f":"'DLD Escolaridade '!T34/'DLD Escolaridade '!Y34","v":0.23095823095823095},{"$f":"'DLD Escolaridade '!U34/'DLD Escolaridade '!Y34","v":0.15479115479115479},{"$f":"'DLD Escolaridade '!V34/'DLD Escolaridade '!Y34","v":0.1941031941031941},{"$f":"'DLD Escolaridade '!W34/'DLD Escolaridade '!Y34","v":0.1769041769041769},{"$f":"'DLD Escolaridade '!X34/'DLD Escolaridade '!Y34","v":0.10810810810810811},null,{"$f":"'DLD Escolaridade '!AA34/'DLD Escolaridade '!AG34","v":0.13702623906705538},{"$f":"'DLD Escolaridade '!AB34/'DLD Escolaridade '!AG34","v":0.24489795918367346},{"$f":"'DLD Escolaridade '!AC34/'DLD Escolaridade '!AG34","v":0.18075801749271136},{"$f":"'DLD Escolaridade '!AD34/'DLD Escolaridade '!AG34","v":0.17784256559766765},{"$f":"'DLD Escolaridade '!AE34/'DLD Escolaridade '!AG34","v":0.15451895043731778},{"$f":"'DLD Escolaridade '!AF34/'DLD Escolaridade '!AG34","v":0.10495626822157435}]
[null,"Santo António",{"$f":"'DLD Escolaridade '!C35/'DLD Escolaridade '!I35","v":7.8313253012048195E-2},{"$f":"'DLD Escolaridade '!D35/'DLD Escolaridade '!I35","v":0.13855421686746988},{"$f":"'DLD Escolaridade '!E35/'DLD Escolaridade '!I35","v":0.1144578313253012},{"$f":"'DLD Escolaridade '!F35/'DLD Escolaridade '!I35","v":0.16867469879518071},{"$f":"'DLD Escolaridade '!G35/'DLD Escolaridade '!I35","v":0.26506024096385544},{"$f":"'DLD Escolaridade '!H35/'DLD Escolaridade '!I35","v":0.23493975903614459},null,{"$f":"'DLD Escolaridade '!K35/'DLD Escolaridade '!Q35","v":6.8403908794788276E-2},{"$f":"'DLD Escolaridade '!L35/'DLD Escolaridade '!Q35","v":0.13680781758957655},{"$f":"'DLD Escolaridade '!M35/'DLD Escolaridade '!Q35","v":0.11074918566775244},{"$f":"'DLD Escolaridade '!N35/'DLD Escolaridade '!Q35","v":0.14983713355048861},{"$f":"'DLD Escolaridade '!O35/'DLD Escolaridade '!Q35","v":0.26710097719869708},{"$f":"'DLD Escolaridade '!P35/'DLD Escolaridade '!Q35","v":0.26710097719869708},null,{"$f":"'DLD Escolaridade '!S35/'DLD Escolaridade '!Y35","v":5.2459016393442623E-2},{"$f":"'DLD Escolaridade '!T35/'DLD Escolaridade '!Y35","v":0.15081967213114755},{"$f":"'DLD Escolaridade '!U35/'DLD Escolaridade '!Y35","v":0.12131147540983607},{"$f":"'DLD Escolaridade '!V35/'DLD Escolaridade '!Y35","v":0.12131147540983607},{"$f":"'DLD Escolaridade '!W35/'DLD Escolaridade '!Y35","v":0.28196721311475409},{"$f":"'DLD Escolaridade '!X35/'DLD Escolaridade '!Y35","v":0.27213114754098361},null,{"$f":"'DLD Escolaridade '!AA35/'DLD Escolaridade '!AG35","v":6.25E-2},{"$f":"'DLD Escolaridade '!AB35/'DLD Escolaridade '!AG35","v":0.21249999999999999},{"$f":"'DLD Escolaridade '!AC35/'DLD Escolaridade '!AG35","v":0.13333333333333333},{"$f":"'DLD Escolaridade '!AD35/'DLD Escolaridade '!AG35","v":0.13750000000000001},{"$f":"'DLD Escolaridade '!AE35/'DLD Escolaridade '!AG35","v":0.22916666666666666},{"$f":"'DLD Escolaridade '!AF35/'DLD Escolaridade '!AG35","v":0.22500000000000001}]
[null,"São Domingos de Benfica",{"$f":"'DLD Escolaridade '!C36/'DLD Escolaridade '!I36","v":2.2091310751104567E-2},{"$f":"'DLD Escolaridade '!D36/'DLD Escolaridade '!I36","v":9.5729013254786458E-2},{"$f":"'DLD Escolaridade '!E36/'DLD Escolaridade '!I36","v":9.2783505154639179E-2},{"$f":"'DLD Escolaridade '!F36/'DLD Escolaridade '!I36","v":0.16347569955817379},{"$f":"'DLD Escolaridade '!G36/'DLD Escolaridade '!I36","v":0.28718703976435933},{"$f":"'DLD Escolaridade '!H36/'DLD Escolaridade '!I36","v":0.33873343151693669},null,{"$f":"'DLD Escolaridade '!K36/'DLD Escolaridade '!Q36","v":2.4232633279483037E-2},{"$f":"'DLD Escolaridade '!L36/'DLD Escolaridade '!Q36","v":0.1098546042003231},{"$f":"'DLD Escolaridade '!M36/'DLD Escolaridade '!Q36","v":9.3699515347334408E-2},{"$f":"'DLD Escolaridade '!N36/'DLD Escolaridade '!Q36","v":0.16478190630048464},{"$f":"'DLD Escolaridade '!O36/'DLD Escolaridade '!Q36","v":0.28109854604200324},{"$f":"'DLD Escolaridade '!P36/'DLD Escolaridade '!Q36","v":0.32633279483037159},null,{"$f":"'DLD Escolaridade '!S36/'DLD Escolaridade '!Y36","v":2.6113671274961597E-2},{"$f":"'DLD Escolaridade '!T36/'DLD Escolaridade '!Y36","v":0.10906298003072197},{"$f":"'DLD Escolaridade '!U36/'DLD Escolaridade '!Y36","v":8.4485407066052232E-2},{"$f":"'DLD Escolaridade '!V36/'DLD Escolaridade '!Y36","v":0.17357910906298002},{"$f":"'DLD Escolaridade '!W36/'DLD Escolaridade '!Y36","v":0.25192012288786481},{"$f":"'DLD Escolaridade '!X36/'DLD Escolaridade '!Y36","v":0.35483870967741937},null,{"$f":"'DLD Escolaridade '!AA36/'DLD Escolaridade '!AG36","v":2.7303754266211604E-2},{"$f":"'DLD Escolaridade '!AB36/'DLD Escolaridade '!AG36","v":0.11945392491467577},{"$f":"'DLD Escolaridade '!AC36/'DLD Escolaridade '!AG36","v":8.5324232081911269E-2},{"$f":"'DLD Escolaridade '!AD36/'DLD Escolaridade '!AG36","v":0.1552901023890785},{"$f":"'DLD Escolaridade '!AE36/'DLD Escolaridade '!AG36","v":0.26279863481228671},{"$f":"'DLD Escolaridade '!AF36/'DLD Escolaridade '!AG36","v":0.34982935153583616}]
[null,"São Vicente",{"$f":"'DLD Escolaridade '!C37/'DLD Escolaridade '!I37","v":8.6597938144329895E-2},{"$f":"'DLD Escolaridade '!D37/'DLD Escolaridade '!I37","v":0.20618556701030927},{"$f":"'DLD Escolaridade '!E37/'DLD Escolaridade '!I37","v":0.14845360824742268},{"$f":"'DLD Escolaridade '!F37/'DLD Escolaridade '!I37","v":0.1979381443298969},{"$f":"'DLD Escolaridade '!G37/'DLD Escolaridade '!I37","v":0.23298969072164949},{"$f":"'DLD Escolaridade '!H37/'DLD Escolaridade '!I37","v":0.12783505154639174},null,{"$f":"'DLD Escolaridade '!K37/'DLD Escolaridade '!Q37","v":8.294930875576037E-2},{"$f":"'DLD Escolaridade '!L37/'DLD Escolaridade '!Q37","v":0.22811059907834103},{"$f":"'DLD Escolaridade '!M37/'DLD Escolaridade '!Q37","v":0.15437788018433179},{"$f":"'DLD Escolaridade '!N37/'DLD Escolaridade '!Q37","v":0.20967741935483872},{"$f":"'DLD Escolaridade '!O37/'DLD Escolaridade '!Q37","v":0.22350230414746544},{"$f":"'DLD Escolaridade '!P37/'DLD Escolaridade '!Q37","v":0.10138248847926268},null,{"$f":"'DLD Escolaridade '!S37/'DLD Escolaridade '!Y37","v":7.4698795180722893E-2},{"$f":"'DLD Escolaridade '!T37/'DLD Escolaridade '!Y37","v":0.20963855421686747},{"$f":"'DLD Escolaridade '!U37/'DLD Escolaridade '!Y37","v":0.15180722891566265},{"$f":"'DLD Escolaridade '!V37/'DLD Escolaridade '!Y37","v":0.22168674698795179},{"$f":"'DLD Escolaridade '!W37/'DLD Escolaridade '!Y37","v":0.22650602409638554},{"$f":"'DLD Escolaridade '!X37/'DLD Escolaridade '!Y37","v":0.11566265060240964},null,{"$f":"'DLD Escolaridade '!AA37/'DLD Escolaridade '!AG37","v":8.5470085470085472E-2},{"$f":"'DLD Escolaridade '!AB37/'DLD Escolaridade '!AG37","v":0.25356125356125359},{"$f":"'DLD Escolaridade '!AC37/'DLD Escolaridade '!AG37","v":0.17094017094017094},{"$f":"'DLD Escolaridade '!AD37/'DLD Escolaridade '!AG37","v":0.19658119658119658},{"$f":"'DLD Escolaridade '!AE37/'DLD Escolaridade '!AG37","v":0.15384615384615385},{"$f":"'DLD Escolaridade '!AF37/'DLD Escolaridade '!AG37","v":0.1396011396011396}]
[null,"Freg. Não Codificada","-","-",{"$f":"'DLD Escolaridade '!E38/'DLD Escolaridade '!I38","v":0.25},{"$f":"'DLD Escolaridade '!F38/'DLD Escolaridade '!I38","v":0.25},{"$f":"'DLD Escolaridade '!G38/'DLD Escolaridade '!I38","v":0.33333333333333331},{"$f":"'DLD Escolaridade '!H38/'DLD Escolaridade '!I38","v":0.16666666666666666},null,"-",{"$f":"'DLD Escolaridade '!L38/'DLD Escolaridade '!Q38","v":5.5555555555555552E-2},{"$f":"'DLD Escolaridade '!M38/'DLD Escolaridade '!Q38","v":0.16666666666666666},{"$f":"'DLD Escolaridade '!N38/'DLD Escolaridade '!Q38","v":0.16666666666666666},{"$f":"'DLD Escolaridade '!O38/'DLD Escolaridade '!Q38","v":0.1111111111111111},{"$f":"'DLD Escolaridade '!P38/'DLD Escolaridade '!Q38","v":0.5},null,"-",{"$f":"'DLD Escolaridade '!T38/'DLD Escolaridade '!Y38","v":0.04},{"$f":"'DLD Escolaridade '!U38/'DLD Escolaridade '!Y38","v":0.08},{"$f":"'DLD Escolaridade '!V38/'DLD Escolaridade '!Y38","v":0.12},{"$f":"'DLD Escolaridade '!W38/'DLD Escolaridade '!Y38","v":0.16},{"$f":"'DLD Escolaridade '!X38/'DLD Escolaridade '!Y38","v":0.6},null,{"$f":"'DLD Escolaridade '!AA38/'DLD Escolaridade '!AG38","v":7.1428571428571425E-2},{"$f":"'DLD Escolaridade '!AB38/'DLD Escolaridade '!AG38","v":7.1428571428571425E-2},{"$f":"'DLD Escolaridade '!AC38/'DLD Escolaridade '!AG38","v":7.1428571428571425E-2},{"$f":"'DLD Escolaridade '!AD38/'DLD Escolaridade '!AG38","v":0.14285714285714285},{"$f":"'DLD Escolaridade '!AE38/'DLD Escolaridade '!AG38","v":7.1428571428571425E-2},{"$f":"'DLD Escolaridade '!AF38/'DLD Escolaridade '!AG38","v":0.5714285714285714}]
[]
[null,"Fonte: Instituto de Emprego e Formação Profissional"]
[null,"Cálculos: OLCPL"]
[null,"Notas n.d.: não disponível (para valores =< 5, por razões de confidencialidade dados não disponibilizados pela fonte)"]

{"sheet":"1º Empr. Genero","index":14,"n_rows":42,"n_cols":17,"rows_kept":42,"cut":false,"hidden":false,"merged":[[41,2,41,16],[6,2,6,16],[7,2,7,4],[7,6,7,8],[7,10,7,12],[7,14,7,16]]}
[]
[]
[]
[]
["Q.13","Número de desempregados 1º emprego  inscritos Centros de Emprego,  género 2014"]
[]
[null,null,"Número de desempregados 1º emprego  inscritos Centros de Emprego,  género"]
[null,null,"1º TRIMESTRE",null,null,null,"2º TRIMESTRE",null,2,null,"3º TRIMESTRE",null,null,null,"4º TRIMESTRE",null,4]
[null,"Unidade: Nº","Fem","Masc","Total",null,"Fem","Masc","Total",null,"Fem","Masc","Total",null,"Fem","Masc","Total"]
[null,"Portugal Continental",39576,29524,{"$f":"SUM(C10:D10)","v":69100},null,32476,24118,56594,null,38000,27552,65552,null,34541,25500,60041]
[null,"AML",7572,6598,14170,null,6352,5437,11789,null,7223,5992,13215,null,6562,5377,11939]
[null,"Distrito de Lisboa",5841,5146,10987,null,4921,4218,{"$f":"SUM(G12:H12)","v":9139},null,5526,4638,10164,null,4912,4128,9040]
[null,"Concelho de Lisboa",2251,1793,4044,null,{"$f":"SUM(G14:G38)","v":1948},{"$f":"SUM(H14:H38)","v":1578},3526,null,2045,1619,3664,null,1795,1308,3103]
[null,"Ajuda",90,47,137,null,96,50,146,null,104,50,154,null,78,46,124]
[null,"Alcântara",38,43,81,null,29,32,61,null,26,32,58,null,22,29,51]
[null,"Alvalade",129,82,211,null,90,68,158,null,104,60,164,null,100,44,144]
[null,"Areeiro",83,67,150,null,70,59,129,null,72,63,135,null,63,47,110]
[null,"Arroios",138,98,236,null,110,86,196,null,110,100,210,null,86,79,165]
[null,"Avenidas Novas",106,86,192,null,89,58,147,null,90,61,151,null,81,46,127]
[null,"Beato",76,48,124,null,67,46,113,null,56,42,98,null,50,36,86]
[null,"Belém",25,27,52,null,25,26,51,null,26,29,55,null,21,16,37]
[null,"Benfica",144,99,243,null,103,74,177,null,120,91,211,null,129,73,202]
[null,"Campo de Ourique",52,47,99,null,39,42,81,null,34,45,79,null,37,25,62]
[null,"Campolide",37,26,63,null,27,27,54,null,27,32,59,null,25,22,47]
[null,"Carnide",80,73,153,null,75,73,148,null,84,73,157,null,78,66,144]
[null,"Estrela",46,32,78,null,37,23,60,null,49,24,73,null,28,33,61]
[null,"Lumiar",130,144,274,null,136,117,253,null,139,120,259,null,128,95,223]
[null,"Marvila",207,249,456,null,207,187,394,null,233,193,426,null,179,144,323]
[null,"Misericórdia",40,42,82,null,30,41,71,null,32,29,61,null,23,23,46]
[null,"Olivais",18,28,46,null,42,30,72,null,47,40,87,null,59,37,96]
[null,"Parque das Nações",180,188,368,null,172,156,328,null,168,143,311,null,130,106,236]
[null,"Penha de França",76,95,171,null,66,75,141,null,69,71,140,null,74,57,131]
[null,"Santa Clara",170,226,396,null,221,157,378,null,241,163,404,null,220,154,374]
[null,"Santa Maria Maior",45,54,99,null,51,37,88,null,38,23,61,null,31,23,54]
[null,"Santo António",36,45,81,null,47,22,69,null,46,24,70,null,39,14,53]
[null,"São Domingos de Benfica",65,74,139,null,70,60,130,null,84,70,154,null,75,61,136]
[null,"São Vicente",45,59,104,null,45,31,76,null,42,36,78,null,37,26,63]
[null,"Freg. Não Codificada",3,6,9,null,4,1,5,null,2045,1619,3664,null,2,6,8]
[]
[null,"Fonte: Instituto de Emprego e Formação Profissional"]
[null,"Cálculos: OLCPL"]
[null,"Notas n.d.: não disponível (para valores =< 5, por razões de confidencialidade dados não disponibilizados pela fonte)"]

{"sheet":"1º Emprego Genero_%","index":15,"n_rows":43,"n_cols":13,"rows_kept":43,"cut":false,"hidden":false,"merged":[[8,2,8,3],[46,2,46,11],[8,5,8,6],[8,8,8,9],[8,11,8,12],[6,2,6,12],[7,2,7,12]]}
[]
[]
[]
[]
["Q.14","Desempregados 1º emprego inscritos nos Centros de Emprego, Género, 2014 (%)"]
[]
[null,null,"Desempregados inscritos nos Centros de Emprego, género"]
[null,null,"%"]
[null,null,"1º TRIMESTRE",null,null,"2º TRIMESTRE",null,null,"3º TRIMESTRE",null,null,"4º TRIMESTRE"]
[null,"Unidade: Nº e %","Fem","Masc",null,"Fem","Masc",null,"Fem","Masc",null,"Fem","Masc"]
[null,"Portugal Continental",{"$f":"'1º Empr. Genero'!C10/'1º Empr. Genero'!E10","v":0.57273516642547029},{"$f":"'1º Empr. Genero'!D10/'1º Empr. Genero'!E10","v":0.42726483357452966},null,{"$f":"'1º Empr. Genero'!G10/'1º Empr. Genero'!I10","v":0.57384175000883486},{"$f":"'1º Empr. Genero'!H10/'1º Empr. Genero'!I10","v":0.42615824999116514},null,{"$f":"'1º Empr. Genero'!K10/'1º Empr. Genero'!M10","v":0.57969245789602153},{"$f":"'1º Empr. Genero'!L10/'1º Empr. Genero'!M10","v":0.42030754210397853},null,{"$f":"'1º Empr. Genero'!O10/'1º Empr. Genero'!Q10","v":0.57529021835079364},{"$f":"'1º Empr. Genero'!P10/'1º Empr. Genero'!Q10","v":0.42470978164920636}]
[null,"AML",{"$f":"'1º Empr. Genero'!C11/'1º Empr. Genero'!E11","v":0.53436838390966834},{"$f":"'1º Empr. Genero'!D11/'1º Empr. Genero'!E11","v":0.46563161609033171},null,{"$f":"'1º Empr. Genero'!G11/'1º Empr. Genero'!I11","v":0.53880736279582664},{"$f":"'1º Empr. Genero'!H11/'1º Empr. Genero'!I11","v":0.46119263720417336},null,{"$f":"'1º Empr. Genero'!K11/'1º Empr. Genero'!M11","v":0.54657586076428299},{"$f":"'1º Empr. Genero'!L11/'1º Empr. Genero'!M11","v":0.45342413923571701},null,{"$f":"'1º Empr. Genero'!O11/'1º Empr. Genero'!Q11","v":0.54962727196582628},{"$f":"'1º Empr. Genero'!P11/'1º Empr. Genero'!Q11","v":0.45037272803417372}]
[null,"Distrito de Lisboa",{"$f":"'1º Empr. Genero'!C12/'1º Empr. Genero'!E12","v":0.5316282879766997},{"$f":"'1º Empr. Genero'!D12/'1º Empr. Genero'!E12","v":0.46837171202330025},null,{"$f":"'1º Empr. Genero'!G12/'1º Empr. Genero'!I12","v":0.53846153846153844},{"$f":"'1º Empr. Genero'!H12/'1º Empr. Genero'!I12","v":0.46153846153846156},null,{"$f":"'1º Empr. Genero'!K12/'1º Empr. Genero'!M12","v":0.54368358913813464},{"$f":"'1º Empr. Genero'!L12/'1º Empr. Genero'!M12","v":0.45631641086186542},null,{"$f":"'1º Empr. Genero'!O12/'1º Empr. Genero'!Q12","v":0.54336283185840706},{"$f":"'1º Empr. Genero'!P12/'1º Empr. Genero'!Q12","v":0.45663716814159294}]
[null,"Concelho de Lisboa",{"$f":"'1º Empr. Genero'!C13/'1º Empr. Genero'!E13","v":0.5566271018793274},{"$f":"'1º Empr. Genero'!D13/'1º Empr. Genero'!E13","v":0.4433728981206726},null,{"$f":"'1º Empr. Genero'!G13/'1º Empr. Genero'!I13","v":0.55246738513896765},{"$f":"'1º Empr. Genero'!H13/'1º Empr. Genero'!I13","v":0.44753261486103235},null,{"$f":"'1º Empr. Genero'!K13/'1º Empr. Genero'!M13","v":0.55813318777292575},{"$f":"'1º Empr. Genero'!L13/'1º Empr. Genero'!M13","v":0.44186681222707425},null,{"$f":"'1º Empr. Genero'!O13/'1º Empr. Genero'!Q13","v":0.57847244601998071},{"$f":"'1º Empr. Genero'!P13/'1º Empr. Genero'!Q13","v":0.42152755398001934}]
[null,"Ajuda",{"$f":"'1º Empr. Genero'!C14/'1º Empr. Genero'!E14","v":0.65693430656934304},{"$f":"'1º Empr. Genero'!D14/'1º Empr. Genero'!E14","v":0.34306569343065696},null,{"$f":"'1º Empr. Genero'!G14/'1º Empr. Genero'!I14","v":0.65753424657534243},{"$f":"'1º Empr. Genero'!H14/'1º Empr. Genero'!I14","v":0.34246575342465752},null,{"$f":"'1º Empr. Genero'!K14/'1º Empr. Genero'!M14","v":0.67532467532467533},{"$f":"'1º Empr. Genero'!L14/'1º Empr. Genero'!M14","v":0.32467532467532467},null,{"$f":"'1º Empr. Genero'!O14/'1º Empr. Genero'!Q14","v":0.62903225806451613},{"$f":"'1º Empr. Genero'!P14/'1º Empr. Genero'!Q14","v":0.37096774193548387}]
[null,"Alcântara",{"$f":"'1º Empr. Genero'!C15/'1º Empr. Genero'!E15","v":0.46913580246913578},{"$f":"'1º Empr. Genero'!D15/'1º Empr. Genero'!E15","v":0.53086419753086422},null,{"$f":"'1º Empr. Genero'!G15/'1º Empr. Genero'!I15","v":0.47540983606557374},{"$f":"'1º Empr. Genero'!H15/'1º Empr. Genero'!I15","v":0.52459016393442626},null,{"$f":"'1º Empr. Genero'!K15/'1º Empr. Genero'!M15","v":0.44827586206896552},{"$f":"'1º Empr. Genero'!L15/'1º Empr. Genero'!M15","v":0.55172413793103448},null,{"$f":"'1º Empr. Genero'!O15/'1º Empr. Genero'!Q15","v":0.43137254901960786},{"$f":"'1º Empr. Genero'!P15/'1º Empr. Genero'!Q15","v":0.56862745098039214}]
[null,"Alvalade",{"$f":"'1º Empr. Genero'!C16/'1º Empr. Genero'!E16","v":0.61137440758293837},{"$f":"'1º Empr. Genero'!D16/'1º Empr. Genero'!E16","v":0.38862559241706163},null,{"$f":"'1º Empr. Genero'!G16/'1º Empr. Genero'!I16","v":0.569620253164557},{"$f":"'1º Empr. Genero'!H16/'1º Empr. Genero'!I16","v":0.43037974683544306},null,{"$f":"'1º Empr. Genero'!K16/'1º Empr. Genero'!M16","v":0.63414634146341464},{"$f":"'1º Empr. Genero'!L16/'1º Empr. Genero'!M16","v":0.36585365853658536},null,{"$f":"'1º Empr. Genero'!O16/'1º Empr. Genero'!Q16","v":0.69444444444444442},{"$f":"'1º Empr. Genero'!P16/'1º Empr. Genero'!Q16","v":0.30555555555555558}]
[null,"Areeiro",{"$f":"'1º Empr. Genero'!C17/'1º Empr. Genero'!E17","v":0.55333333333333334},{"$f":"'1º Empr. Genero'!D17/'1º Empr. Genero'!E17","v":0.44666666666666666},null,{"$f":"'1º Empr. Genero'!G17/'1º Empr. Genero'!I17","v":0.54263565891472865},{"$f":"'1º Empr. Genero'!H17/'1º Empr. Genero'!I17","v":0.4573643410852713},null,{"$f":"'1º Empr. Genero'!K17/'1º Empr. Genero'!M17","v":0.53333333333333333},{"$f":"'1º Empr. Genero'!L17/'1º Empr. Genero'!M17","v":0.46666666666666667},null,{"$f":"'1º Empr. Genero'!O17/'1º Empr. Genero'!Q17","v":0.57272727272727275},{"$f":"'1º Empr. Genero'!P17/'1º Empr. Genero'!Q17","v":0.42727272727272725}]
[null,"Arroios",{"$f":"'1º Empr. Genero'!C18/'1º Empr. Genero'!E18","v":0.5847457627118644},{"$f":"'1º Empr. Genero'!D18/'1º Empr. Genero'!E18","v":0.4152542372881356},null,{"$f":"'1º Empr. Genero'!G18/'1º Empr. Genero'!I18","v":0.56122448979591832},{"$f":"'1º Empr. Genero'!H18/'1º Empr. Genero'!I18","v":0.43877551020408162},null,{"$f":"'1º Empr. Genero'!K18/'1º Empr. Genero'!M18","v":0.52380952380952384},{"$f":"'1º Empr. Genero'!L18/'1º Empr. Genero'!M18","v":0.47619047619047616},null,{"$f":"'1º Empr. Genero'!O18/'1º Empr. Genero'!Q18","v":0.52121212121212124},{"$f":"'1º Empr. Genero'!P18/'1º Empr. Genero'!Q18","v":0.47878787878787876}]
[null,"Avenidas Novas",{"$f":"'1º Empr. Genero'!C19/'1º Empr. Genero'!E19","v":0.55208333333333337},{"$f":"'1º Empr. Genero'!D19/'1º Empr. Genero'!E19","v":0.44791666666666669},null,{"$f":"'1º Empr. Genero'!G19/'1º Empr. Genero'!I19","v":0.60544217687074831},{"$f":"'1º Empr. Genero'!H19/'1º Empr. Genero'!I19","v":0.39455782312925169},null,{"$f":"'1º Empr. Genero'!K19/'1º Empr. Genero'!M19","v":0.59602649006622521},{"$f":"'1º Empr. Genero'!L19/'1º Empr. Genero'!M19","v":0.40397350993377484},null,{"$f":"'1º Empr. Genero'!O19/'1º Empr. Genero'!Q19","v":0.63779527559055116},{"$f":"'1º Empr. Genero'!P19/'1º Empr. Genero'!Q19","v":0.36220472440944884}]
[null,"Beato",{"$f":"'1º Empr. Genero'!C20/'1º Empr. Genero'!E20","v":0.61290322580645162},{"$f":"'1º Empr. Genero'!D20/'1º Empr. Genero'!E20","v":0.38709677419354838},null,{"$f":"'1º Empr. Genero'!G20/'1º Empr. Genero'!I20","v":0.59292035398230092},{"$f":"'1º Empr. Genero'!H20/'1º Empr. Genero'!I20","v":0.40707964601769914},null,{"$f":"'1º Empr. Genero'!K20/'1º Empr. Genero'!M20","v":0.5714285714285714},{"$f":"'1º Empr. Genero'!L20/'1º Empr. Genero'!M20","v":0.42857142857142855},null,{"$f":"'1º Empr. Genero'!O20/'1º Empr. Genero'!Q20","v":0.58139534883720934},{"$f":"'1º Empr. Genero'!P20/'1º Empr. Genero'!Q20","v":0.41860465116279072}]
[null,"Belém",{"$f":"'1º Empr. Genero'!C21/'1º Empr. Genero'!E21","v":0.48076923076923078},{"$f":"'1º Empr. Genero'!D21/'1º Empr. Genero'!E21","v":0.51923076923076927},null,{"$f":"'1º Empr. Genero'!G21/'1º Empr. Genero'!I21","v":0.49019607843137253},{"$f":"'1º Empr. Genero'!H21/'1º Empr. Genero'!I21","v":0.50980392156862742},null,{"$f":"'1º Empr. Genero'!K21/'1º Empr. Genero'!M21","v":0.47272727272727272},{"$f":"'1º Empr. Genero'!L21/'1º Empr. Genero'!M21","v":0.52727272727272723},null,{"$f":"'1º Empr. Genero'!O21/'1º Empr. Genero'!Q21","v":0.56756756756756754},{"$f":"'1º Empr. Genero'!P21/'1º Empr. Genero'!Q21","v":0.43243243243243246}]
[null,"Benfica",{"$f":"'1º Empr. Genero'!C22/'1º Empr. Genero'!E22","v":0.59259259259259256},{"$f":"'1º Empr. Genero'!D22/'1º Empr. Genero'!E22","v":0.40740740740740738},null,{"$f":"'1º Empr. Genero'!G22/'1º Empr. Genero'!I22","v":0.58192090395480223},{"$f":"'1º Empr. Genero'!H22/'1º Empr. Genero'!I22","v":0.41807909604519772},null,{"$f":"'1º Empr. Genero'!K22/'1º Empr. Genero'!M22","v":0.56872037914691942},{"$f":"'1º Empr. Genero'!L22/'1º Empr. Genero'!M22","v":0.43127962085308058},null,{"$f":"'1º Empr. Genero'!O22/'1º Empr. Genero'!Q22","v":0.63861386138613863},{"$f":"'1º Empr. Genero'!P22/'1º Empr. Genero'!Q22","v":0.36138613861386137}]
[null,"Campo de Ourique",{"$f":"'1º Empr. Genero'!C23/'1º Empr. Genero'!E23","v":0.5252525252525253},{"$f":"'1º Empr. Genero'!D23/'1º Empr. Genero'!E23","v":0.47474747474747475},null,{"$f":"'1º Empr. Genero'!G23/'1º Empr. Genero'!I23","v":0.48148148148148145},{"$f":"'1º Empr. Genero'!H23/'1º Empr. Genero'!I23","v":0.51851851851851849},null,{"$f":"'1º Empr. Genero'!K23/'1º Empr. Genero'!M23","v":0.43037974683544306},{"$f":"'1º Empr. Genero'!L23/'1º Empr. Genero'!M23","v":0.569620253164557},null,{"$f":"'1º Empr. Genero'!O23/'1º Empr. Genero'!Q23","v":0.59677419354838712},{"$f":"'1º Empr. Genero'!P23/'1º Empr. Genero'!Q23","v":0.40322580645161288}]
[null,"Campolide",{"$f":"'1º Empr. Genero'!C24/'1º Empr. Genero'!E24","v":0.58730158730158732},{"$f":"'1º Empr. Genero'!D24/'1º Empr. Genero'!E24","v":0.41269841269841268},null,{"$f":"'1º Empr. Genero'!G24/'1º Empr. Genero'!I24","v":0.5},{"$f":"'1º Empr. Genero'!H24/'1º Empr. Genero'!I24","v":0.5},null,{"$f":"'1º Empr. Genero'!K24/'1º Empr. Genero'!M24","v":0.4576271186440678},{"$f":"'1º Empr. Genero'!L24/'1º Empr. Genero'!M24","v":0.5423728813559322},null,{"$f":"'1º Empr. Genero'!O24/'1º Empr. Genero'!Q24","v":0.53191489361702127},{"$f":"'1º Empr. Genero'!P24/'1º Empr. Genero'!Q24","v":0.46808510638297873}]
[null,"Carnide",{"$f":"'1º Empr. Genero'!C25/'1º Empr. Genero'!E25","v":0.52287581699346408},{"$f":"'1º Empr. Genero'!D25/'1º Empr. Genero'!E25","v":0.47712418300653597},null,{"$f":"'1º Empr. Genero'!G25/'1º Empr. Genero'!I25","v":0.5067567567567568},{"$f":"'1º Empr. Genero'!H25/'1º Empr. Genero'!I25","v":0.49324324324324326},null,{"$f":"'1º Empr. Genero'!K25/'1º Empr. Genero'!M25","v":0.53503184713375795},{"$f":"'1º Empr. Genero'!L25/'1º Empr. Genero'!M25","v":0.46496815286624205},null,{"$f":"'1º Empr. Genero'!O25/'1º Empr. Genero'!Q25","v":0.54166666666666663},{"$f":"'1º Empr. Genero'!P25/'1º Empr. Genero'!Q25","v":0.45833333333333331}]
[null,"Estrela",{"$f":"'1º Empr. Genero'!C26/'1º Empr. Genero'!E26","v":0.58974358974358976},{"$f":"'1º Empr. Genero'!D26/'1º Empr. Genero'!E26","v":0.41025641025641024},null,{"$f":"'1º Empr. Genero'!G26/'1º Empr. Genero'!I26","v":0.6166666666666667},{"$f":"'1º Empr. Genero'!H26/'1º Empr. Genero'!I26","v":0.38333333333333336},null,{"$f":"'1º Empr. Genero'!K26/'1º Empr. Genero'!M26","v":0.67123287671232879},{"$f":"'1º Empr. Genero'!L26/'1º Empr. Genero'!M26","v":0.32876712328767121},null,{"$f":"'1º Empr. Genero'!O26/'1º Empr. Genero'!Q26","v":0.45901639344262296},{"$f":"'1º Empr. Genero'!P26/'1º Empr. Genero'!Q26","v":0.54098360655737709}]
[null,"Lumiar",{"$f":"'1º Empr. Genero'!C27/'1º Empr. Genero'!E27","v":0.47445255474452552},{"$f":"'1º Empr. Genero'!D27/'1º Empr. Genero'!E27","v":0.52554744525547448},null,{"$f":"'1º Empr. Genero'!G27/'1º Empr. Genero'!I27","v":0.53754940711462451},{"$f":"'1º Empr. Genero'!H27/'1º Empr. Genero'!I27","v":0.46245059288537549},null,{"$f":"'1º Empr. Genero'!K27/'1º Empr. Genero'!M27","v":0.53667953667953672},{"$f":"'1º Empr. Genero'!L27/'1º Empr. Genero'!M27","v":0.46332046332046334},null,{"$f":"'1º Empr. Genero'!O27/'1º Empr. Genero'!Q27","v":0.57399103139013452},{"$f":"'1º Empr. Genero'!P27/'1º Empr. Genero'!Q27","v":0.42600896860986548}]
[null,"Marvila",{"$f":"'1º Empr. Genero'!C28/'1º Empr. Genero'!E28","v":0.45394736842105265},{"$f":"'1º Empr. Genero'!D28/'1º Empr. Genero'!E28","v":0.54605263157894735},null,{"$f":"'1º Empr. Genero'!G28/'1º Empr. Genero'!I28","v":0.52538071065989844},{"$f":"'1º Empr. Genero'!H28/'1º Empr. Genero'!I28","v":0.4746192893401015},null,{"$f":"'1º Empr. Genero'!K28/'1º Empr. Genero'!M28","v":0.54694835680751175},{"$f":"'1º Empr. Genero'!L28/'1º Empr. Genero'!M28","v":0.45305164319248825},null,{"$f":"'1º Empr. Genero'!O28/'1º Empr. Genero'!Q28","v":0.55417956656346745},{"$f":"'1º Empr. Genero'!P28/'1º Empr. Genero'!Q28","v":0.44582043343653249}]
[null,"Misericórdia",{"$f":"'1º Empr. Genero'!C29/'1º Empr. Genero'!E29","v":0.48780487804878048},{"$f":"'1º Empr. Genero'!D29/'1º Empr. Genero'!E29","v":0.51219512195121952},null,{"$f":"'1º Empr. Genero'!G29/'1º Empr. Genero'!I29","v":0.42253521126760563},{"$f":"'1º Empr. Genero'!H29/'1º Empr. Genero'!I29","v":0.57746478873239437},null,{"$f":"'1º Empr. Genero'!K29/'1º Empr. Genero'!M29","v":0.52459016393442626},{"$f":"'1º Empr. Genero'!L29/'1º Empr. Genero'!M29","v":0.47540983606557374},null,{"$f":"'1º Empr. Genero'!O29/'1º Empr. Genero'!Q29","v":0.5},{"$f":"'1º Empr. Genero'!P29/'1º Empr. Genero'!Q29","v":0.5}]
[null,"Olivais",{"$f":"'1º Empr. Genero'!C30/'1º Empr. Genero'!E30","v":0.39130434782608697},{"$f":"'1º Empr. Genero'!D30/'1º Empr. Genero'!E30","v":0.60869565217391308},null,{"$f":"'1º Empr. Genero'!G30/'1º Empr. Genero'!I30","v":0.58333333333333337},{"$f":"'1º Empr. Genero'!H30/'1º Empr. Genero'!I30","v":0.41666666666666669},null,{"$f":"'1º Empr. Genero'!K30/'1º Empr. Genero'!M30","v":0.54022988505747127},{"$f":"'1º Empr. Genero'!L30/'1º Empr. Genero'!M30","v":0.45977011494252873},null,{"$f":"'1º Empr. Genero'!O30/'1º Empr. Genero'!Q30","v":0.61458333333333337},{"$f":"'1º Empr. Genero'!P30/'1º Empr. Genero'!Q30","v":0.38541666666666669}]
[null,"Parque das Nações",{"$f":"'1º Empr. Genero'!C31/'1º Empr. Genero'!E31","v":0.4891304347826087},{"$f":"'1º Empr. Genero'!D31/'1º Empr. Genero'!E31","v":0.51086956521739135},null,{"$f":"'1º Empr. Genero'!G31/'1º Empr. Genero'!I31","v":0.52439024390243905},{"$f":"'1º Empr. Genero'!H31/'1º Empr. Genero'!I31","v":0.47560975609756095},null,{"$f":"'1º Empr. Genero'!K31/'1º Empr. Genero'!M31","v":0.54019292604501612},{"$f":"'1º Empr. Genero'!L31/'1º Empr. Genero'!M31","v":0.45980707395498394},null,{"$f":"'1º Empr. Genero'!O31/'1º Empr. Genero'!Q31","v":0.55084745762711862},{"$f":"'1º Empr. Genero'!P31/'1º Empr. Genero'!Q31","v":0.44915254237288138}]
[null,"Penha de França",{"$f":"'1º Empr. Genero'!C32/'1º Empr. Genero'!E32","v":0.44444444444444442},{"$f":"'1º Empr. Genero'!D32/'1º Empr. Genero'!E32","v":0.55555555555555558},null,{"$f":"'1º Empr. Genero'!G32/'1º Empr. Genero'!I32","v":0.46808510638297873},{"$f":"'1º Empr. Genero'!H32/'1º Empr. Genero'!I32","v":0.53191489361702127},null,{"$f":"'1º Empr. Genero'!K32/'1º Empr. Genero'!M32","v":0.49285714285714288},{"$f":"'1º Empr. Genero'!L32/'1º Empr. Genero'!M32","v":0.50714285714285712},null,{"$f":"'1º Empr. Genero'!O32/'1º Empr. Genero'!Q32","v":0.56488549618320616},{"$f":"'1º Empr. Genero'!P32/'1º Empr. Genero'!Q32","v":0.4351145038167939}]
[null,"Santa Clara",{"$f":"'1º Empr. Genero'!C33/'1º Empr. Genero'!E33","v":0.42929292929292928},{"$f":"'1º Empr. Genero'!D33/'1º Empr. Genero'!E33","v":0.57070707070707072},null,{"$f":"'1º Empr. Genero'!G33/'1º Empr. Genero'!I33","v":0.58465608465608465},{"$f":"'1º Empr. Genero'!H33/'1º Empr. Genero'!I33","v":0.41534391534391535},null,{"$f":"'1º Empr. Genero'!K33/'1º Empr. Genero'!M33","v":0.59653465346534651},{"$f":"'1º Empr. Genero'!L33/'1º Empr. Genero'!M33","v":0.40346534653465349},null,{"$f":"'1º Empr. Genero'!O33/'1º Empr. Genero'!Q33","v":0.58823529411764708},{"$f":"'1º Empr. Genero'!P33/'1º Empr. Genero'!Q33","v":0.41176470588235292}]
[null,"Santa Maria Maior",{"$f":"'1º Empr. Genero'!C34/'1º Empr. Genero'!E34","v":0.45454545454545453},{"$f":"'1º Empr. Genero'!D34/'1º Empr. Genero'!E34","v":0.54545454545454541},null,{"$f":"'1º Empr. Genero'!G34/'1º Empr. Genero'!I34","v":0.57954545454545459},{"$f":"'1º Empr. Genero'!H34/'1º Empr. Genero'!I34","v":0.42045454545454547},null,{"$f":"'1º Empr. Genero'!K34/'1º Empr. Genero'!M34","v":0.62295081967213117},{"$f":"'1º Empr. Genero'!L34/'1º Empr. Genero'!M34","v":0.37704918032786883},null,{"$f":"'1º Empr. Genero'!O34/'1º Empr. Genero'!Q34","v":0.57407407407407407},{"$f":"'1º Empr. Genero'!P34/'1º Empr. Genero'!Q34","v":0.42592592592592593}]
[null,"Santo António",{"$f":"'1º Empr. Genero'!C35/'1º Empr. Genero'!E35","v":0.44444444444444442},{"$f":"'1º Empr. Genero'!D35/'1º Empr. Genero'!E35","v":0.55555555555555558},null,{"$f":"'1º Empr. Genero'!G35/'1º Empr. Genero'!I35","v":0.6811594202898551},{"$f":"'1º Empr. Genero'!H35/'1º Empr. Genero'!I35","v":0.3188405797101449},null,{"$f":"'1º Empr. Genero'!K35/'1º Empr. Genero'!M35","v":0.65714285714285714},{"$f":"'1º Empr. Genero'!L35/'1º Empr. Genero'!M35","v":0.34285714285714286},null,{"$f":"'1º Empr. Genero'!O35/'1º Empr. Genero'!Q35","v":0.73584905660377353},{"$f":"'1º Empr. Genero'!P35/'1º Empr. Genero'!Q35","v":0.26415094339622641}]
[null,"São Domingos de Benfica",{"$f":"'1º Empr. Genero'!C36/'1º Empr. Genero'!E36","v":0.46762589928057552},{"$f":"'1º Empr. Genero'!D36/'1º Empr. Genero'!E36","v":0.53237410071942448},null,{"$f":"'1º Empr. Genero'!G36/'1º Empr. Genero'!I36","v":0.53846153846153844},{"$f":"'1º Empr. Genero'!H36/'1º Empr. Genero'!I36","v":0.46153846153846156},null,{"$f":"'1º Empr. Genero'!K36/'1º Empr. Genero'!M36","v":0.54545454545454541},{"$f":"'1º Empr. Genero'!L36/'1º Empr. Genero'!M36","v":0.45454545454545453},null,{"$f":"'1º Empr. Genero'!O36/'1º Empr. Genero'!Q36","v":0.55147058823529416},{"$f":"'1º Empr. Genero'!P36/'1º Empr. Genero'!Q36","v":0.4485294117647059}]
[null,"São Vicente",{"$f":"'1º Empr. Genero'!C37/'1º Empr. Genero'!E37","v":0.43269230769230771},{"$f":"'1º Empr. Genero'!D37/'1º Empr. Genero'!E37","v":0.56730769230769229},null,{"$f":"'1º Empr. Genero'!G37/'1º Empr. Genero'!I37","v":0.59210526315789469},{"$f":"'1º Empr. Genero'!H37/'1º Empr. Genero'!I37","v":0.40789473684210525},null,{"$f":"'1º Empr. Genero'!K37/'1º Empr. Genero'!M37","v":0.53846153846153844},{"$f":"'1º Empr. Genero'!L37/'1º Empr. Genero'!M37","v":0.46153846153846156},null,{"$f":"'1º Empr. Genero'!O37/'1º Empr. Genero'!Q37","v":0.58730158730158732},{"$f":"'1º Empr. Genero'!P37/'1º Empr. Genero'!Q37","v":0.41269841269841268}]
[null,"Freg. Não Codificada",{"$f":"'1º Empr. Genero'!C38/'1º Empr. Genero'!E38","v":0.33333333333333331},{"$f":"'1º Empr. Genero'!D38/'1º Empr. Genero'!E38","v":0.66666666666666663},null,{"$f":"'1º Empr. Genero'!G38/'1º Empr. Genero'!I38","v":0.8},{"$f":"'1º Empr. Genero'!H38/'1º Empr. Genero'!I38","v":0.2},null,{"$f":"'1º Empr. Genero'!K38/'1º Empr. Genero'!M38","v":0.55813318777292575},{"$f":"'1º Empr. Genero'!L38/'1º Empr. Genero'!M38","v":0.44186681222707425},null,{"$f":"'1º Empr. Genero'!O38/'1º Empr. Genero'!Q38","v":0.25},{"$f":"'1º Empr. Genero'!P38/'1º Empr. Genero'!Q38","v":0.75}]
[]
[null,"Fonte: Instituto de Emprego e Formação Profissional"]
[null,"Cálculos: OLCPL"]
[null,"Notas n.d.: não disponível (para valores =< 5, por razões de confidencialidade dados não disponibilizados pela fonte)"]

{"sheet":"1º Emprego idades","index":16,"n_rows":42,"n_cols":25,"rows_kept":42,"cut":false,"hidden":false,"merged":[[46,2,46,16],[45,2,45,6],[44,2,44,6],[44,7,44,10],[44,12,44,14],[6,2,6,24],[7,2,7,6],[7,8,7,12],[7,14,7,18],[7,20,7,24]]}
[]
[]
[]
[]
["Q.15","Número de desempregados 1º emprego  inscritos Centros de Emprego,  idade 2014"]
[]
[null,null,"Número de desempregados 1º emprego  inscritos Centros de Emprego,  idade"]
[null,null,"1º TRIMESTRE",null,null,null,null,null,"2º TRIMESTRE",null,null,null,null,null,"3º TRIMESTRE",null,null,null,null,null,"4º TRIMESTRE"]
[null,"Unidade: Nº","< 25 Anos","25 - 34 Anos","35 - 54 Anos","55 Anos e +","Total",null,"< 25 Anos","25 - 34 Anos","35 - 54 Anos","55 Anos e +","Total",null,"< 25 Anos","25 - 34 Anos","35 - 54 Anos","55 Anos e +","Total",null,"< 25 Anos","25 - 34 Anos","35 - 54 Anos","55 Anos e +","Total"]
[null,"Portugal Continental",47418,16264,4454,964,{"$f":"SUM(C10:F10)","v":69100},null,37413,13927,4299,955,56594,null,45389,14816,4362,985,65552,null,40594,14205,4265,977,60041]
[null,"AML",9342,3681,991,156,14170,null,7394,3237,1001,157,11789,null,8627,3392,1032,164,13215,null,7530,3230,1015,164,11939]
[null,"Distrito de Lisboa",7255,2897,733,102,10987,null,5722,2558,747,112,{"$f":"SUM(I12:L12)","v":9139},null,6626,2641,777,120,10164,null,5698,2467,759,116,{"$f":"SUM(U12:X12)","v":9040}]
[null,"Concelho de Lisboa",2256,1315,420,53,4044,null,{"$f":"SUM(I14:I38)","v":1877},{"$f":"SUM(J14:J38)","v":1166},425,58,3526,null,1966,1192,447,59,3664,null,1582,1050,412,59,3103]
[null,"Ajuda",62,49,25,1,137,null,67,47,30,2,146,null,72,48,30,4,{"$f":"SUM(O14:R14)","v":154},null,51,39,30,4,124]
[null,"Alcântara",53,23,5,"-",81,null,36,22,3,"-",61,null,32,22,4,"-",{"$f":"SUM(O15:R15)","v":58},null,27,21,3,"-",51]
[null,"Alvalade",110,79,20,2,211,null,68,65,23,2,158,null,68,70,23,3,164,null,64,60,17,3,144]
[null,"Areeiro",83,49,13,5,150,null,64,45,16,4,129,null,65,53,15,2,135,null,58,38,12,2,110]
[null,"Arroios",135,82,18,1,236,null,94,84,16,2,196,null,104,81,22,3,210,null,80,69,15,1,165]
[null,"Avenidas Novas",95,71,22,4,192,null,73,52,19,3,147,null,81,48,20,2,151,null,65,44,16,2,127]
[null,"Beato",82,31,10,1,124,null,64,32,16,1,113,null,53,28,16,1,98,null,52,21,12,1,86]
[null,"Belém",32,19,1,"-",52,null,31,19,1,"-",51,null,35,19,1,"-",55,null,24,13,"-","-",37]
[null,"Benfica",131,87,22,3,243,null,97,59,19,2,177,null,117,71,21,2,211,null,111,65,23,3,202]
[null,"Campo de Ourique",63,33,3,"-",99,null,50,29,2,"-",81,null,53,24,2,"-",79,null,34,27,1,"-",62]
[null,"Campolide",41,15,5,2,63,null,37,10,5,2,54,null,43,10,4,2,59,null,30,11,4,2,47]
[null,"Carnide",95,39,17,2,153,null,89,37,18,4,148,null,94,39,19,5,157,null,82,38,20,4,144]
[null,"Estrela",44,29,5,"-",78,null,39,17,4,"-",60,null,51,21,1,"-",73,null,35,24,2,"-",61]
[null,"Lumiar",149,111,13,1,274,null,135,101,16,1,253,null,149,90,19,1,259,null,109,91,21,2,223]
[null,"Marvila",275,118,54,9,456,null,230,104,49,11,394,null,233,123,57,13,426,null,159,96,56,12,323]
[null,"Misericórdia",48,26,7,1,82,null,38,27,5,1,71,null,33,21,6,1,61,null,27,13,5,1,46]
[null,"Olivais",33,12,1,"-",46,null,51,14,5,2,72,null,62,18,6,1,87,null,57,30,6,3,96]
[null,"Parque das Nações",195,111,54,8,368,null,158,103,60,7,328,null,139,100,64,8,311,null,98,81,50,7,236]
[null,"Penha de França",95,63,13,"-",171,null,84,47,10,"-",141,null,89,39,12,"-",140,null,74,41,16,"-",131]
[null,"Santa Clara",189,126,73,8,396,null,173,122,73,10,378,null,186,132,78,8,404,null,169,124,73,8,374]
[null,"Santa Maria Maior",50,32,17,"-",99,null,41,34,13,"-",88,null,27,24,10,"-",61,null,32,12,10,"-",54]
[null,"Santo António",36,34,8,3,81,null,36,23,8,2,69,null,37,25,7,1,70,null,28,16,8,1,53]
[null,"São Domingos de Benfica",85,43,10,1,139,null,73,47,9,1,130,null,86,60,7,1,154,null,72,54,8,2,136]
[null,"São Vicente",70,29,4,1,104,null,47,23,5,1,76,null,51,23,3,1,78,null,37,21,4,1,63]
[null,"Freg. Não Codificada",5,4,"-","-",9,null,2,3,"-","-",5,null,6,3,"-","-",9,null,7,1,"-","-",8]
[]
[null,"Fonte: Instituto de Emprego e Formação Profissional"]
[null,"Cálculos: OLCPL"]
[null,"Notas n.d.: não disponível (para valores =< 5, por razões de confidencialidade dados não disponibilizados pela fonte)"]

{"sheet":"1º emprego idades %","index":17,"n_rows":43,"n_cols":21,"rows_kept":43,"cut":false,"hidden":false,"merged":[[8,12,8,15],[8,17,8,20],[6,2,6,20],[7,2,7,20],[42,2,42,5],[8,2,8,5],[8,7,8,10]]}
[]
[]
[]
[]
["Q.16","Desempregados 1º emprego inscritos nos Centros de Emprego, idade, 2014 (%)"]
[]
[null,null,"Desempregados inscritos nos Centros de Emprego, idades "]
[null,null,"%"]
[null,"Unidade: Nº e %","1º TRIMESTRE",null,null,null,null,"2º TRIMESTRE",null,null,null,null,"3º TRIMESTRE",null,null,null,null,"4º TRIMESTRE"]
[null,null,"< 25 Anos","25 - 34 Anos","35 - 54 Anos","55 Anos e +",null,"< 25 Anos","25 - 34 Anos","35 - 54 Anos","55 Anos e +",null,"< 25 Anos","25 - 34 Anos","35 - 54 Anos","55 Anos e +",null,"< 25 Anos","25 - 34 Anos","35 - 54 Anos","55 Anos e +"]
[null,"Portugal Continental",{"$f":"'1º Emprego idades'!C10/'1º Emprego idades'!G10","v":0.6862228654124457},{"$f":"'1º Emprego idades'!D10/'1º Emprego idades'!G10","v":0.23536903039073806},{"$f":"'1º Emprego idades'!E10/'1º Emprego idades'!G10","v":6.4457308248914616E-2},{"$f":"'1º Emprego idades'!F10/'1º Emprego idades'!G10","v":1.3950795947901592E-2},null,{"$f":"'1º Emprego idades'!I10/'1º Emprego idades'!M10","v":0.66107714598720713},{"$f":"'1º Emprego idades'!J10/'1º Emprego idades'!M10","v":0.24608615754320246},{"$f":"'1º Emprego idades'!K10/'1º Emprego idades'!M10","v":7.596211612538431E-2},{"$f":"'1º Emprego idades'!L10/'1º Emprego idades'!M10","v":1.6874580344206101E-2},null,{"$f":"'1º Emprego idades'!O10/'1º Emprego idades'!S10","v":0.69241213082743469},{"$f":"'1º Emprego idades'!P10/'1º Emprego idades'!S10","v":0.22601903832072248},{"$f":"'1º Emprego idades'!Q10/'1º Emprego idades'!S10","v":6.6542592140590676E-2},{"$f":"'1º Emprego idades'!R10/'1º Emprego idades'!S10","v":1.5026238711252136E-2},null,{"$f":"'1º Emprego idades'!U10/'1º Emprego idades'!Y10","v":0.67610466181442685},{"$f":"'1º Emprego idades'!V10/'1º Emprego idades'!Y10","v":0.23658833130694026},{"$f":"'1º Emprego idades'!W10/'1º Emprego idades'!Y10","v":7.1034792891524132E-2},{"$f":"'1º Emprego idades'!X10/'1º Emprego idades'!Y10","v":1.6272213987108809E-2}]
[null,"AML",{"$f":"'1º Emprego idades'!C11/'1º Emprego idades'!G11","v":0.65928016937191247},{"$f":"'1º Emprego idades'!D11/'1º Emprego idades'!G11","v":0.25977417078334508},{"$f":"'1º Emprego idades'!E11/'1º Emprego idades'!G11","v":6.9936485532815812E-2},{"$f":"'1º Emprego idades'!F11/'1º Emprego idades'!G11","v":1.1009174311926606E-2},null,{"$f":"'1º Emprego idades'!I11/'1º Emprego idades'!M11","v":0.62719484264992786},{"$f":"'1º Emprego idades'!J11/'1º Emprego idades'!M11","v":0.27457799643735686},{"$f":"'1º Emprego idades'!K11/'1º Emprego idades'!M11","v":8.4909661548901519E-2},{"$f":"'1º Emprego idades'!L11/'1º Emprego idades'!M11","v":1.3317499363813724E-2},null,{"$f":"'1º Emprego idades'!O11/'1º Emprego idades'!S11","v":0.65281876655315929},{"$f":"'1º Emprego idades'!P11/'1º Emprego idades'!S11","v":0.25667801740446461},{"$f":"'1º Emprego idades'!Q11/'1º Emprego idades'!S11","v":7.8093076049943241E-2},{"$f":"'1º Emprego idades'!R11/'1º Emprego idades'!S11","v":1.2410139992432841E-2},null,{"$f":"'1º Emprego idades'!U11/'1º Emprego idades'!Y11","v":0.63070608928720995},{"$f":"'1º Emprego idades'!V11/'1º Emprego idades'!Y11","v":0.27054192143395595},{"$f":"'1º Emprego idades'!W11/'1º Emprego idades'!Y11","v":8.5015495435128569E-2},{"$f":"'1º Emprego idades'!X11/'1º Emprego idades'!Y11","v":1.3736493843705504E-2}]
[null,"Distrito de Lisboa",{"$f":"'1º Emprego idades'!C12/'1º Emprego idades'!G12","v":0.66032583962865199},{"$f":"'1º Emprego idades'!D12/'1º Emprego idades'!G12","v":0.26367525257122054},{"$f":"'1º Emprego idades'!E12/'1º Emprego idades'!G12","v":6.671520888322563E-2},{"$f":"'1º Emprego idades'!F12/'1º Emprego idades'!G12","v":9.2836989169017923E-3},null,{"$f":"'1º Emprego idades'!I12/'1º Emprego idades'!M12","v":0.62610788926578398},{"$f":"'1º Emprego idades'!J12/'1º Emprego idades'!M12","v":0.27989933253091148},{"$f":"'1º Emprego idades'!K12/'1º Emprego idades'!M12","v":8.1737608053397526E-2},{"$f":"'1º Emprego idades'!L12/'1º Emprego idades'!M12","v":1.2255170149906992E-2},null,{"$f":"'1º Emprego idades'!O12/'1º Emprego idades'!S12","v":0.65190869736324286},{"$f":"'1º Emprego idades'!P12/'1º Emprego idades'!S12","v":0.25983864620228259},{"$f":"'1º Emprego idades'!Q12/'1º Emprego idades'!S12","v":7.6446280991735532E-2},{"$f":"'1º Emprego idades'!R12/'1º Emprego idades'!S12","v":1.1806375442739079E-2},null,{"$f":"'1º Emprego idades'!U12/'1º Emprego idades'!Y12","v":0.63030973451327432},{"$f":"'1º Emprego idades'!V12/'1º Emprego idades'!Y12","v":0.27289823008849556},{"$f":"'1º Emprego idades'!W12/'1º Emprego idades'!Y12","v":8.3960176991150437E-2},{"$f":"'1º Emprego idades'!X12/'1º Emprego idades'!Y12","v":1.2831858407079646E-2}]
[null,"Concelho de Lisboa",{"$f":"'1º Emprego idades'!C13/'1º Emprego idades'!G13","v":0.55786350148367958},{"$f":"'1º Emprego idades'!D13/'1º Emprego idades'!G13","v":0.3251730959446093},{"$f":"'1º Emprego idades'!E13/'1º Emprego idades'!G13","v":0.10385756676557864},{"$f":"'1º Emprego idades'!F13/'1º Emprego idades'!G13","v":1.3105835806132542E-2},null,{"$f":"'1º Emprego idades'!I13/'1º Emprego idades'!M13","v":0.53233125354509359},{"$f":"'1º Emprego idades'!J13/'1º Emprego idades'!M13","v":0.33068633011911513},{"$f":"'1º Emprego idades'!K13/'1º Emprego idades'!M13","v":0.1205331820760068},{"$f":"'1º Emprego idades'!L13/'1º Emprego idades'!M13","v":1.6449234259784458E-2},null,{"$f":"'1º Emprego idades'!O13/'1º Emprego idades'!S13","v":0.53657205240174677},{"$f":"'1º Emprego idades'!P13/'1º Emprego idades'!S13","v":0.32532751091703055},{"$f":"'1º Emprego idades'!Q13/'1º Emprego idades'!S13","v":0.12199781659388646},{"$f":"'1º Emprego idades'!R13/'1º Emprego idades'!S13","v":1.6102620087336244E-2},null,{"$f":"'1º Emprego idades'!U13/'1º Emprego idades'!Y13","v":0.50982919755075728},{"$f":"'1º Emprego idades'!V13/'1º Emprego idades'!Y13","v":0.338382210763777},{"$f":"'1º Emprego idades'!W13/'1º Emprego idades'!Y13","v":0.13277473412826296},{"$f":"'1º Emprego idades'!X13/'1º Emprego idades'!Y13","v":1.9013857557202706E-2}]
[null,"Ajuda",{"$f":"'1º Emprego idades'!C14/'1º Emprego idades'!G14","v":0.45255474452554745},{"$f":"'1º Emprego idades'!D14/'1º Emprego idades'!G14","v":0.35766423357664234},{"$f":"'1º Emprego idades'!E14/'1º Emprego idades'!G14","v":0.18248175182481752},{"$f":"'1º Emprego idades'!F14/'1º Emprego idades'!G14","v":7.2992700729927005E-3},null,{"$f":"'1º Emprego idades'!I14/'1º Emprego idades'!M14","v":0.4589041095890411},{"$f":"'1º Emprego idades'!J14/'1º Emprego idades'!M14","v":0.32191780821917809},{"$f":"'1º Emprego idades'!K14/'1º Emprego idades'!M14","v":0.20547945205479451},{"$f":"'1º Emprego idades'!L14/'1º Emprego idades'!M14","v":1.3698630136986301E-2},null,{"$f":"'1º Emprego idades'!O14/'1º Emprego idades'!S14","v":0.46753246753246752},{"$f":"'1º Emprego idades'!P14/'1º Emprego idades'!S14","v":0.31168831168831168},{"$f":"'1º Emprego idades'!Q14/'1º Emprego idades'!S14","v":0.19480519480519481},{"$f":"'1º Emprego idades'!R14/'1º Emprego idades'!S14","v":2.5974025974025976E-2},null,{"$f":"'1º Emprego idades'!U14/'1º Emprego idades'!Y14","v":0.41129032258064518},{"$f":"'1º Emprego idades'!V14/'1º Emprego idades'!Y14","v":0.31451612903225806},{"$f":"'1º Emprego idades'!W14/'1º Emprego idades'!Y14","v":0.24193548387096775},{"$f":"'1º Emprego idades'!X14/'1º Emprego idades'!Y14","v":3.2258064516129031E-2}]
[null,"Alcântara",{"$f":"'1º Emprego idades'!C15/'1º Emprego idades'!G15","v":0.65432098765432101},{"$f":"'1º Emprego idades'!D15/'1º Emprego idades'!G15","v":0.2839506172839506},{"$f":"'1º Emprego idades'!E15/'1º Emprego idades'!G15","v":6.1728395061728392E-2},"-",null,{"$f":"'1º Emprego idades'!I15/'1º Emprego idades'!M15","v":0.5901639344262295},{"$f":"'1º Emprego idades'!J15/'1º Emprego idades'!M15","v":0.36065573770491804},{"$f":"'1º Emprego idades'!K15/'1º Emprego idades'!M15","v":4.9180327868852458E-2},"-",null,{"$f":"'1º Emprego idades'!O15/'1º Emprego idades'!S15","v":0.55172413793103448},{"$f":"'1º Emprego idades'!P15/'1º Emprego idades'!S15","v":0.37931034482758619},{"$f":"'1º Emprego idades'!Q15/'1º Emprego idades'!S15","v":6.8965517241379309E-2},"-",null,{"$f":"'1º Emprego idades'!U15/'1º Emprego idades'!Y15","v":0.52941176470588236},{"$f":"'1º Emprego idades'!V15/'1º Emprego idades'!Y15","v":0.41176470588235292},{"$f":"'1º Emprego idades'!W15/'1º Emprego idades'!Y15","v":5.8823529411764705E-2},"-"]
[null,"Alvalade",{"$f":"'1º Emprego idades'!C16/'1º Emprego idades'!G16","v":0.52132701421800953},{"$f":"'1º Emprego idades'!D16/'1º Emprego idades'!G16","v":0.37440758293838861},{"$f":"'1º Emprego idades'!E16/'1º Emprego idades'!G16","v":9.4786729857819899E-2},{"$f":"'1º Emprego idades'!F16/'1º Emprego idades'!G16","v":9.4786729857819912E-3},null,{"$f":"'1º Emprego idades'!I16/'1º Emprego idades'!M16","v":0.43037974683544306},{"$f":"'1º Emprego idades'!J16/'1º Emprego idades'!M16","v":0.41139240506329117},{"$f":"'1º Emprego idades'!K16/'1º Emprego idades'!M16","v":0.14556962025316456},{"$f":"'1º Emprego idades'!L16/'1º Emprego idades'!M16","v":1.2658227848101266E-2},null,{"$f":"'1º Emprego idades'!O16/'1º Emprego idades'!S16","v":0.41463414634146339},{"$f":"'1º Emprego idades'!P16/'1º Emprego idades'!S16","v":0.42682926829268292},{"$f":"'1º Emprego idades'!Q16/'1º Emprego idades'!S16","v":0.1402439024390244},{"$f":"'1º Emprego idades'!R16/'1º Emprego idades'!S16","v":1.8292682926829267E-2},null,{"$f":"'1º Emprego idades'!U16/'1º Emprego idades'!Y16","v":0.44444444444444442},{"$f":"'1º Emprego idades'!V16/'1º Emprego idades'!Y16","v":0.41666666666666669},{"$f":"'1º Emprego idades'!W16/'1º Emprego idades'!Y16","v":0.11805555555555555},{"$f":"'1º Emprego idades'!X16/'1º Emprego idades'!Y16","v":2.0833333333333332E-2}]
[null,"Areeiro",{"$f":"'1º Emprego idades'!C17/'1º Emprego idades'!G17","v":0.55333333333333334},{"$f":"'1º Emprego idades'!D17/'1º Emprego idades'!G17","v":0.32666666666666666},{"$f":"'1º Emprego idades'!E17/'1º Emprego idades'!G17","v":8.666666666666667E-2},{"$f":"'1º Emprego idades'!F17/'1º Emprego idades'!G17","v":3.3333333333333333E-2},null,{"$f":"'1º Emprego idades'!I17/'1º Emprego idades'!M17","v":0.49612403100775193},{"$f":"'1º Emprego idades'!J17/'1º Emprego idades'!M17","v":0.34883720930232559},{"$f":"'1º Emprego idades'!K17/'1º Emprego idades'!M17","v":0.12403100775193798},{"$f":"'1º Emprego idades'!L17/'1º Emprego idades'!M17","v":3.1007751937984496E-2},null,{"$f":"'1º Emprego idades'!O17/'1º Emprego idades'!S17","v":0.48148148148148145},{"$f":"'1º Emprego idades'!P17/'1º Emprego idades'!S17","v":0.3925925925925926},{"$f":"'1º Emprego idades'!Q17/'1º Emprego idades'!S17","v":0.1111111111111111},{"$f":"'1º Emprego idades'!R17/'1º Emprego idades'!S17","v":1.4814814814814815E-2},null,{"$f":"'1º Emprego idades'!U17/'1º Emprego idades'!Y17","v":0.52727272727272723},{"$f":"'1º Emprego idades'!V17/'1º Emprego idades'!Y17","v":0.34545454545454546},{"$f":"'1º Emprego idades'!W17/'1º Emprego idades'!Y17","v":0.10909090909090909},{"$f":"'1º Emprego idades'!X17/'1º Emprego idades'!Y17","v":1.8181818181818181E-2}]
[null,"Arroios",{"$f":"'1º Emprego idades'!C18/'1º Emprego idades'!G18","v":0.57203389830508478},{"$f":"'1º Emprego idades'!D18/'1º Emprego idades'!G18","v":0.34745762711864409},{"$f":"'1º Emprego idades'!E18/'1º Emprego idades'!G18","v":7.6271186440677971E-2},{"$f":"'1º Emprego idades'!F18/'1º Emprego idades'!G18","v":4.2372881355932203E-3},null,{"$f":"'1º Emprego idades'!I18/'1º Emprego idades'!M18","v":0.47959183673469385},{"$f":"'1º Emprego idades'!J18/'1º Emprego idades'!M18","v":0.42857142857142855},{"$f":"'1º Emprego idades'!K18/'1º Emprego idades'!M18","v":8.1632653061224483E-2},{"$f":"'1º Emprego idades'!L18/'1º Emprego idades'!M18","v":1.020408163265306E-2},null,{"$f":"'1º Emprego idades'!O18/'1º Emprego idades'!S18","v":0.49523809523809526},{"$f":"'1º Emprego idades'!P18/'1º Emprego idades'!S18","v":0.38571428571428573},{"$f":"'1º Emprego idades'!Q18/'1º Emprego idades'!S18","v":0.10476190476190476},{"$f":"'1º Emprego idades'!R18/'1º Emprego idades'!S18","v":1.4285714285714285E-2},null,{"$f":"'1º Emprego idades'!U18/'1º Emprego idades'!Y18","v":0.48484848484848486},{"$f":"'1º Emprego idades'!V18/'1º Emprego idades'!Y18","v":0.41818181818181815},{"$f":"'1º Emprego idades'!W18/'1º Emprego idades'!Y18","v":9.0909090909090912E-2},{"$f":"'1º Emprego idades'!X18/'1º Emprego idades'!Y18","v":6.0606060606060606E-3}]
[null,"Avenidas Novas",{"$f":"'1º Emprego idades'!C19/'1º Emprego idades'!G19","v":0.49479166666666669},{"$f":"'1º Emprego idades'!D19/'1º Emprego idades'!G19","v":0.36979166666666669},{"$f":"'1º Emprego idades'!E19/'1º Emprego idades'!G19","v":0.11458333333333333},{"$f":"'1º Emprego idades'!F19/'1º Emprego idades'!G19","v":2.0833333333333332E-2},null,{"$f":"'1º Emprego idades'!I19/'1º Emprego idades'!M19","v":0.49659863945578231},{"$f":"'1º Emprego idades'!J19/'1º Emprego idades'!M19","v":0.35374149659863946},{"$f":"'1º Emprego idades'!K19/'1º Emprego idades'!M19","v":0.12925170068027211},{"$f":"'1º Emprego idades'!L19/'1º Emprego idades'!M19","v":2.0408163265306121E-2},null,{"$f":"'1º Emprego idades'!O19/'1º Emprego idades'!S19","v":0.53642384105960261},{"$f":"'1º Emprego idades'!P19/'1º Emprego idades'!S19","v":0.31788079470198677},{"$f":"'1º Emprego idades'!Q19/'1º Emprego idades'!S19","v":0.13245033112582782},{"$f":"'1º Emprego idades'!R19/'1º Emprego idades'!S19","v":1.3245033112582781E-2},null,{"$f":"'1º Emprego idades'!U19/'1º Emprego idades'!Y19","v":0.51181102362204722},{"$f":"'1º Emprego idades'!V19/'1º Emprego idades'!Y19","v":0.34645669291338582},{"$f":"'1º Emprego idades'!W19/'1º Emprego idades'!Y19","v":0.12598425196850394},{"$f":"'1º Emprego idades'!X19/'1º Emprego idades'!Y19","v":1.5748031496062992E-2}]
[null,"Beato",{"$f":"'1º Emprego idades'!C20/'1º Emprego idades'!G20","v":0.66129032258064513},{"$f":"'1º Emprego idades'!D20/'1º Emprego idades'!G20","v":0.25},{"$f":"'1º Emprego idades'!E20/'1º Emprego idades'!G20","v":8.0645161290322578E-2},{"$f":"'1º Emprego idades'!F20/'1º Emprego idades'!G20","v":8.0645161290322578E-3},null,{"$f":"'1º Emprego idades'!I20/'1º Emprego idades'!M20","v":0.5663716814159292},{"$f":"'1º Emprego idades'!J20/'1º Emprego idades'!M20","v":0.2831858407079646},{"$f":"'1º Emprego idades'!K20/'1º Emprego idades'!M20","v":0.1415929203539823},{"$f":"'1º Emprego idades'!L20/'1º Emprego idades'!M20","v":8.8495575221238937E-3},null,{"$f":"'1º Emprego idades'!O20/'1º Emprego idades'!S20","v":0.54081632653061229},{"$f":"'1º Emprego idades'!P20/'1º Emprego idades'!S20","v":0.2857142857142857},{"$f":"'1º Emprego idades'!Q20/'1º Emprego idades'!S20","v":0.16326530612244897},{"$f":"'1º Emprego idades'!R20/'1º Emprego idades'!S20","v":1.020408163265306E-2},null,{"$f":"'1º Emprego idades'!U20/'1º Emprego idades'!Y20","v":0.60465116279069764},{"$f":"'1º Emprego idades'!V20/'1º Emprego idades'!Y20","v":0.2441860465116279},{"$f":"'1º Emprego idades'!W20/'1º Emprego idades'!Y20","v":0.13953488372093023},{"$f":"'1º Emprego idades'!X20/'1º Emprego idades'!Y20","v":1.1627906976744186E-2}]
[null,"Belém",{"$f":"'1º Emprego idades'!C21/'1º Emprego idades'!G21","v":0.61538461538461542},{"$f":"'1º Emprego idades'!D21/'1º Emprego idades'!G21","v":0.36538461538461536},{"$f":"'1º Emprego idades'!E21/'1º Emprego idades'!G21","v":1.9230769230769232E-2},"-",null,{"$f":"'1º Emprego idades'!I21/'1º Emprego idades'!M21","v":0.60784313725490191},{"$f":"'1º Emprego idades'!J21/'1º Emprego idades'!M21","v":0.37254901960784315},{"$f":"'1º Emprego idades'!K21/'1º Emprego idades'!M21","v":1.9607843137254902E-2},"-",null,{"$f":"'1º Emprego idades'!O21/'1º Emprego idades'!S21","v":0.63636363636363635},{"$f":"'1º Emprego idades'!P21/'1º Emprego idades'!S21","v":0.34545454545454546},{"$f":"'1º Emprego idades'!Q21/'1º Emprego idades'!S21","v":1.8181818181818181E-2},"-",null,{"$f":"'1º Emprego idades'!U21/'1º Emprego idades'!Y21","v":0.64864864864864868},{"$f":"'1º Emprego idades'!V21/'1º Emprego idades'!Y21","v":0.35135135135135137},"-","-"]
[null,"Benfica",{"$f":"'1º Emprego idades'!C22/'1º Emprego idades'!G22","v":0.53909465020576131},{"$f":"'1º Emprego idades'!D22/'1º Emprego idades'!G22","v":0.35802469135802467},{"$f":"'1º Emprego idades'!E22/'1º Emprego idades'!G22","v":9.0534979423868317E-2},{"$f":"'1º Emprego idades'!F22/'1º Emprego idades'!G22","v":1.2345679012345678E-2},null,{"$f":"'1º Emprego idades'!I22/'1º Emprego idades'!M22","v":0.54802259887005644},{"$f":"'1º Emprego idades'!J22/'1º Emprego idades'!M22","v":0.33333333333333331},{"$f":"'1º Emprego idades'!K22/'1º Emprego idades'!M22","v":0.10734463276836158},{"$f":"'1º Emprego idades'!L22/'1º Emprego idades'!M22","v":1.1299435028248588E-2},null,{"$f":"'1º Emprego idades'!O22/'1º Emprego idades'!S22","v":0.5545023696682464},{"$f":"'1º Emprego idades'!P22/'1º Emprego idades'!S22","v":0.33649289099526064},{"$f":"'1º Emprego idades'!Q22/'1º Emprego idades'!S22","v":9.9526066350710901E-2},{"$f":"'1º Emprego idades'!R22/'1º Emprego idades'!S22","v":9.4786729857819912E-3},null,{"$f":"'1º Emprego idades'!U22/'1º Emprego idades'!Y22","v":0.54950495049504955},{"$f":"'1º Emprego idades'!V22/'1º Emprego idades'!Y22","v":0.32178217821782179},{"$f":"'1º Emprego idades'!W22/'1º Emprego idades'!Y22","v":0.11386138613861387},{"$f":"'1º Emprego idades'!X22/'1º Emprego idades'!Y22","v":1.4851485148514851E-2}]
[null,"Campo de Ourique",{"$f":"'1º Emprego idades'!C23/'1º Emprego idades'!G23","v":0.63636363636363635},{"$f":"'1º Emprego idades'!D23/'1º Emprego idades'!G23","v":0.33333333333333331},{"$f":"'1º Emprego idades'!E23/'1º Emprego idades'!G23","v":3.0303030303030304E-2},"-",null,{"$f":"'1º Emprego idades'!I23/'1º Emprego idades'!M23","v":0.61728395061728392},{"$f":"'1º Emprego idades'!J23/'1º Emprego idades'!M23","v":0.35802469135802467},{"$f":"'1º Emprego idades'!K23/'1º Emprego idades'!M23","v":2.4691358024691357E-2},"-",null,{"$f":"'1º Emprego idades'!O23/'1º Emprego idades'!S23","v":0.67088607594936711},{"$f":"'1º Emprego idades'!P23/'1º Emprego idades'!S23","v":0.30379746835443039},{"$f":"'1º Emprego idades'!Q23/'1º Emprego idades'!S23","v":2.5316455696202531E-2},"-",null,{"$f":"'1º Emprego idades'!U23/'1º Emprego idades'!Y23","v":0.54838709677419351},{"$f":"'1º Emprego idades'!V23/'1º Emprego idades'!Y23","v":0.43548387096774194},{"$f":"'1º Emprego idades'!W23/'1º Emprego idades'!Y23","v":1.6129032258064516E-2},"-"]
[null,"Campolide",{"$f":"'1º Emprego idades'!C24/'1º Emprego idades'!G24","v":0.65079365079365081},{"$f":"'1º Emprego idades'!D24/'1º Emprego idades'!G24","v":0.23809523809523808},{"$f":"'1º Emprego idades'!E24/'1º Emprego idades'!G24","v":7.9365079365079361E-2},{"$f":"'1º Emprego idades'!F24/'1º Emprego idades'!G24","v":3.1746031746031744E-2},null,{"$f":"'1º Emprego idades'!I24/'1º Emprego idades'!M24","v":0.68518518518518523},{"$f":"'1º Emprego idades'!J24/'1º Emprego idades'!M24","v":0.18518518518518517},{"$f":"'1º Emprego idades'!K24/'1º Emprego idades'!M24","v":9.2592592592592587E-2},{"$f":"'1º Emprego idades'!L24/'1º Emprego idades'!M24","v":3.7037037037037035E-2},null,{"$f":"'1º Emprego idades'!O24/'1º Emprego idades'!S24","v":0.72881355932203384},{"$f":"'1º Emprego idades'!P24/'1º Emprego idades'!S24","v":0.16949152542372881},{"$f":"'1º Emprego idades'!Q24/'1º Emprego idades'!S24","v":6.7796610169491525E-2},{"$f":"'1º Emprego idades'!R24/'1º Emprego idades'!S24","v":3.3898305084745763E-2},null,{"$f":"'1º Emprego idades'!U24/'1º Emprego idades'!Y24","v":0.63829787234042556},{"$f":"'1º Emprego idades'!V24/'1º Emprego idades'!Y24","v":0.23404255319148937},{"$f":"'1º Emprego idades'!W24/'1º Emprego idades'!Y24","v":8.5106382978723402E-2},{"$f":"'1º Emprego idades'!X24/'1º Emprego idades'!Y24","v":4.2553191489361701E-2}]
[null,"Carnide",{"$f":"'1º Emprego idades'!C25/'1º Emprego idades'!G25","v":0.62091503267973858},{"$f":"'1º Emprego idades'!D25/'1º Emprego idades'!G25","v":0.25490196078431371},{"$f":"'1º Emprego idades'!E25/'1º Emprego idades'!G25","v":0.1111111111111111},{"$f":"'1º Emprego idades'!F25/'1º Emprego idades'!G25","v":1.3071895424836602E-2},null,{"$f":"'1º Emprego idades'!I25/'1º Emprego idades'!M25","v":0.60135135135135132},{"$f":"'1º Emprego idades'!J25/'1º Emprego idades'!M25","v":0.25},{"$f":"'1º Emprego idades'!K25/'1º Emprego idades'!M25","v":0.12162162162162163},{"$f":"'1º Emprego idades'!L25/'1º Emprego idades'!M25","v":2.7027027027027029E-2},null,{"$f":"'1º Emprego idades'!O25/'1º Emprego idades'!S25","v":0.59872611464968151},{"$f":"'1º Emprego idades'!P25/'1º Emprego idades'!S25","v":0.24840764331210191},{"$f":"'1º Emprego idades'!Q25/'1º Emprego idades'!S25","v":0.12101910828025478},{"$f":"'1º Emprego idades'!R25/'1º Emprego idades'!S25","v":3.1847133757961783E-2},null,{"$f":"'1º Emprego idades'!U25/'1º Emprego idades'!Y25","v":0.56944444444444442},{"$f":"'1º Emprego idades'!V25/'1º Emprego idades'!Y25","v":0.2638888888888889},{"$f":"'1º Emprego idades'!W25/'1º Emprego idades'!Y25","v":0.1388888888888889},{"$f":"'1º Emprego idades'!X25/'1º Emprego idades'!Y25","v":2.7777777777777776E-2}]
[null,"Estrela",{"$f":"'1º Emprego idades'!C26/'1º Emprego idades'!G26","v":0.5641025641025641},{"$f":"'1º Emprego idades'!D26/'1º Emprego idades'!G26","v":0.37179487179487181},{"$f":"'1º Emprego idades'!E26/'1º Emprego idades'!G26","v":6.4102564102564097E-2},"-",null,{"$f":"'1º Emprego idades'!I26/'1º Emprego idades'!M26","v":0.65},{"$f":"'1º Emprego idades'!J26/'1º Emprego idades'!M26","v":0.28333333333333333},{"$f":"'1º Emprego idades'!K26/'1º Emprego idades'!M26","v":6.6666666666666666E-2},"-",null,{"$f":"'1º Emprego idades'!O26/'1º Emprego idades'!S26","v":0.69863013698630139},{"$f":"'1º Emprego idades'!P26/'1º Emprego idades'!S26","v":0.28767123287671231},{"$f":"'1º Emprego idades'!Q26/'1º Emprego idades'!S26","v":1.3698630136986301E-2},"-",null,{"$f":"'1º Emprego idades'!U26/'1º Emprego idades'!Y26","v":0.57377049180327866},{"$f":"'1º Emprego idades'!V26/'1º Emprego idades'!Y26","v":0.39344262295081966},{"$f":"'1º Emprego idades'!W26/'1º Emprego idades'!Y26","v":3.2786885245901641E-2},"-"]
[null,"Lumiar",{"$f":"'1º Emprego idades'!C27/'1º Emprego idades'!G27","v":0.54379562043795615},{"$f":"'1º Emprego idades'!D27/'1º Emprego idades'!G27","v":0.4051094890510949},{"$f":"'1º Emprego idades'!E27/'1º Emprego idades'!G27","v":4.7445255474452552E-2},{"$f":"'1º Emprego idades'!F27/'1º Emprego idades'!G27","v":3.6496350364963502E-3},null,{"$f":"'1º Emprego idades'!I27/'1º Emprego idades'!M27","v":0.53359683794466406},{"$f":"'1º Emprego idades'!J27/'1º Emprego idades'!M27","v":0.39920948616600793},{"$f":"'1º Emprego idades'!K27/'1º Emprego idades'!M27","v":6.3241106719367585E-2},{"$f":"'1º Emprego idades'!L27/'1º Emprego idades'!M27","v":3.952569169960474E-3},null,{"$f":"'1º Emprego idades'!O27/'1º Emprego idades'!S27","v":0.57528957528957525},{"$f":"'1º Emprego idades'!P27/'1º Emprego idades'!S27","v":0.34749034749034752},{"$f":"'1º Emprego idades'!Q27/'1º Emprego idades'!S27","v":7.3359073359073365E-2},{"$f":"'1º Emprego idades'!R27/'1º Emprego idades'!S27","v":3.8610038610038611E-3},null,{"$f":"'1º Emprego idades'!U27/'1º Emprego idades'!Y27","v":0.48878923766816146},{"$f":"'1º Emprego idades'!V27/'1º Emprego idades'!Y27","v":0.40807174887892378},{"$f":"'1º Emprego idades'!W27/'1º Emprego idades'!Y27","v":9.417040358744394E-2},{"$f":"'1º Emprego idades'!X27/'1º Emprego idades'!Y27","v":8.9686098654708519E-3}]
[null,"Marvila",{"$f":"'1º Emprego idades'!C28/'1º Emprego idades'!G28","v":0.60307017543859653},{"$f":"'1º Emprego idades'!D28/'1º Emprego idades'!G28","v":0.25877192982456143},{"$f":"'1º Emprego idades'!E28/'1º Emprego idades'!G28","v":0.11842105263157894},{"$f":"'1º Emprego idades'!F28/'1º Emprego idades'!G28","v":1.9736842105263157E-2},null,{"$f":"'1º Emprego idades'!I28/'1º Emprego idades'!M28","v":0.58375634517766495},{"$f":"'1º Emprego idades'!J28/'1º Emprego idades'!M28","v":0.26395939086294418},{"$f":"'1º Emprego idades'!K28/'1º Emprego idades'!M28","v":0.12436548223350254},{"$f":"'1º Emprego idades'!L28/'1º Emprego idades'!M28","v":2.7918781725888325E-2},null,{"$f":"'1º Emprego idades'!O28/'1º Emprego idades'!S28","v":0.54694835680751175},{"$f":"'1º Emprego idades'!P28/'1º Emprego idades'!S28","v":0.28873239436619719},{"$f":"'1º Emprego idades'!Q28/'1º Emprego idades'!S28","v":0.13380281690140844},{"$f":"'1º Emprego idades'!R28/'1º Emprego idades'!S28","v":3.0516431924882629E-2},null,{"$f":"'1º Emprego idades'!U28/'1º Emprego idades'!Y28","v":0.49226006191950467},{"$f":"'1º Emprego idades'!V28/'1º Emprego idades'!Y28","v":0.29721362229102166},{"$f":"'1º Emprego idades'!W28/'1º Emprego idades'!Y28","v":0.17337461300309598},{"$f":"'1º Emprego idades'!X28/'1º Emprego idades'!Y28","v":3.7151702786377708E-2}]
[null,"Misericórdia",{"$f":"'1º Emprego idades'!C29/'1º Emprego idades'!G29","v":0.58536585365853655},{"$f":"'1º Emprego idades'!D29/'1º Emprego idades'!G29","v":0.31707317073170732},{"$f":"'1º Emprego idades'!E29/'1º Emprego idades'!G29","v":8.5365853658536592E-2},{"$f":"'1º Emprego idades'!F29/'1º Emprego idades'!G29","v":1.2195121951219513E-2},null,{"$f":"'1º Emprego idades'!I29/'1º Emprego idades'!M29","v":0.53521126760563376},{"$f":"'1º Emprego idades'!J29/'1º Emprego idades'!M29","v":0.38028169014084506},{"$f":"'1º Emprego idades'!K29/'1º Emprego idades'!M29","v":7.0422535211267609E-2},{"$f":"'1º Emprego idades'!L29/'1º Emprego idades'!M29","v":1.4084507042253521E-2},null,{"$f":"'1º Emprego idades'!O29/'1º Emprego idades'!S29","v":0.54098360655737709},{"$f":"'1º Emprego idades'!P29/'1º Emprego idades'!S29","v":0.34426229508196721},{"$f":"'1º Emprego idades'!Q29/'1º Emprego idades'!S29","v":9.8360655737704916E-2},{"$f":"'1º Emprego idades'!R29/'1º Emprego idades'!S29","v":1.6393442622950821E-2},null,{"$f":"'1º Emprego idades'!U29/'1º Emprego idades'!Y29","v":0.58695652173913049},{"$f":"'1º Emprego idades'!V29/'1º Emprego idades'!Y29","v":0.28260869565217389},{"$f":"'1º Emprego idades'!W29/'1º Emprego idades'!Y29","v":0.10869565217391304},{"$f":"'1º Emprego idades'!X29/'1º Emprego idades'!Y29","v":2.1739130434782608E-2}]
[null,"Olivais",{"$f":"'1º Emprego idades'!C30/'1º Emprego idades'!G30","v":0.71739130434782605},{"$f":"'1º Emprego idades'!D30/'1º Emprego idades'!G30","v":0.2608695652173913},{"$f":"'1º Emprego idades'!E30/'1º Emprego idades'!G30","v":2.1739130434782608E-2},"-",null,{"$f":"'1º Emprego idades'!I30/'1º Emprego idades'!M30","v":0.70833333333333337},{"$f":"'1º Emprego idades'!J30/'1º Emprego idades'!M30","v":0.19444444444444445},{"$f":"'1º Emprego idades'!K30/'1º Emprego idades'!M30","v":6.9444444444444448E-2},{"$f":"'1º Emprego idades'!L30/'1º Emprego idades'!M30","v":2.7777777777777776E-2},null,{"$f":"'1º Emprego idades'!O30/'1º Emprego idades'!S30","v":0.71264367816091956},{"$f":"'1º Emprego idades'!P30/'1º Emprego idades'!S30","v":0.20689655172413793},{"$f":"'1º Emprego idades'!Q30/'1º Emprego idades'!S30","v":6.8965517241379309E-2},{"$f":"'1º Emprego idades'!R30/'1º Emprego idades'!S30","v":1.1494252873563218E-2},null,{"$f":"'1º Emprego idades'!U30/'1º Emprego idades'!Y30","v":0.59375},{"$f":"'1º Emprego idades'!V30/'1º Emprego idades'!Y30","v":0.3125},{"$f":"'1º Emprego idades'!W30/'1º Emprego idades'!Y30","v":6.25E-2},{"$f":"'1º Emprego idades'!X30/'1º Emprego idades'!Y30","v":3.125E-2}]
[null,"Parque das Nações",{"$f":"'1º Emprego idades'!C31/'1º Emprego idades'!G31","v":0.52989130434782605},{"$f":"'1º Emprego idades'!D31/'1º Emprego idades'!G31","v":0.3016304347826087},{"$f":"'1º Emprego idades'!E31/'1º Emprego idades'!G31","v":0.14673913043478262},{"$f":"'1º Emprego idades'!F31/'1º Emprego idades'!G31","v":2.1739130434782608E-2},null,{"$f":"'1º Emprego idades'!I31/'1º Emprego idades'!M31","v":0.48170731707317072},{"$f":"'1º Emprego idades'!J31/'1º Emprego idades'!M31","v":0.31402439024390244},{"$f":"'1º Emprego idades'!K31/'1º Emprego idades'!M31","v":0.18292682926829268},{"$f":"'1º Emprego idades'!L31/'1º Emprego idades'!M31","v":2.1341463414634148E-2},null,{"$f":"'1º Emprego idades'!O31/'1º Emprego idades'!S31","v":0.44694533762057875},{"$f":"'1º Emprego idades'!P31/'1º Emprego idades'!S31","v":0.32154340836012862},{"$f":"'1º Emprego idades'!Q31/'1º Emprego idades'!S31","v":0.20578778135048231},{"$f":"'1º Emprego idades'!R31/'1º Emprego idades'!S31","v":2.5723472668810289E-2},null,{"$f":"'1º Emprego idades'!U31/'1º Emprego idades'!Y31","v":0.4152542372881356},{"$f":"'1º Emprego idades'!V31/'1º Emprego idades'!Y31","v":0.34322033898305082},{"$f":"'1º Emprego idades'!W31/'1º Emprego idades'!Y31","v":0.21186440677966101},{"$f":"'1º Emprego idades'!X31/'1º Emprego idades'!Y31","v":2.9661016949152543E-2}]
[null,"Penha de França",{"$f":"'1º Emprego idades'!C32/'1º Emprego idades'!G32","v":0.55555555555555558},{"$f":"'1º Emprego idades'!D32/'1º Emprego idades'!G32","v":0.36842105263157893},{"$f":"'1º Emprego idades'!E32/'1º Emprego idades'!G32","v":7.6023391812865493E-2},"-",null,{"$f":"'1º Emprego idades'!I32/'1º Emprego idades'!M32","v":0.5957446808510638},{"$f":"'1º Emprego idades'!J32/'1º Emprego idades'!M32","v":0.33333333333333331},{"$f":"'1º Emprego idades'!K32/'1º Emprego idades'!M32","v":7.0921985815602842E-2},"-",null,{"$f":"'1º Emprego idades'!O32/'1º Emprego idades'!S32","v":0.63571428571428568},{"$f":"'1º Emprego idades'!P32/'1º Emprego idades'!S32","v":0.27857142857142858},{"$f":"'1º Emprego idades'!Q32/'1º Emprego idades'!S32","v":8.5714285714285715E-2},"-",null,{"$f":"'1º Emprego idades'!U32/'1º Emprego idades'!Y32","v":0.56488549618320616},{"$f":"'1º Emprego idades'!V32/'1º Emprego idades'!Y32","v":0.31297709923664124},{"$f":"'1º Emprego idades'!W32/'1º Emprego idades'!Y32","v":0.12213740458015267},"-"]
[null,"Santa Clara",{"$f":"'1º Emprego idades'!C33/'1º Emprego idades'!G33","v":0.47727272727272729},{"$f":"'1º Emprego idades'!D33/'1º Emprego idades'!G33","v":0.31818181818181818},{"$f":"'1º Emprego idades'!E33/'1º Emprego idades'!G33","v":0.18434343434343434},{"$f":"'1º Emprego idades'!F33/'1º Emprego idades'!G33","v":2.0202020202020204E-2},null,{"$f":"'1º Emprego idades'!I33/'1º Emprego idades'!M33","v":0.45767195767195767},{"$f":"'1º Emprego idades'!J33/'1º Emprego idades'!M33","v":0.32275132275132273},{"$f":"'1º Emprego idades'!K33/'1º Emprego idades'!M33","v":0.19312169312169311},{"$f":"'1º Emprego idades'!L33/'1º Emprego idades'!M33","v":2.6455026455026454E-2},null,{"$f":"'1º Emprego idades'!O33/'1º Emprego idades'!S33","v":0.46039603960396042},{"$f":"'1º Emprego idades'!P33/'1º Emprego idades'!S33","v":0.32673267326732675},{"$f":"'1º Emprego idades'!Q33/'1º Emprego idades'!S33","v":0.19306930693069307},{"$f":"'1º Emprego idades'!R33/'1º Emprego idades'!S33","v":1.9801980198019802E-2},null,{"$f":"'1º Emprego idades'!U33/'1º Emprego idades'!Y33","v":0.45187165775401067},{"$f":"'1º Emprego idades'!V33/'1º Emprego idades'!Y33","v":0.33155080213903743},{"$f":"'1º Emprego idades'!W33/'1º Emprego idades'!Y33","v":0.19518716577540107},{"$f":"'1º Emprego idades'!X33/'1º Emprego idades'!Y33","v":2.1390374331550801E-2}]
[null,"Santa Maria Maior",{"$f":"'1º Emprego idades'!C34/'1º Emprego idades'!G34","v":0.50505050505050508},{"$f":"'1º Emprego idades'!D34/'1º Emprego idades'!G34","v":0.32323232323232326},{"$f":"'1º Emprego idades'!E34/'1º Emprego idades'!G34","v":0.17171717171717171},"-",null,{"$f":"'1º Emprego idades'!I34/'1º Emprego idades'!M34","v":0.46590909090909088},{"$f":"'1º Emprego idades'!J34/'1º Emprego idades'!M34","v":0.38636363636363635},{"$f":"'1º Emprego idades'!K34/'1º Emprego idades'!M34","v":0.14772727272727273},"-",null,{"$f":"'1º Emprego idades'!O34/'1º Emprego idades'!S34","v":0.44262295081967212},{"$f":"'1º Emprego idades'!P34/'1º Emprego idades'!S34","v":0.39344262295081966},{"$f":"'1º Emprego idades'!Q34/'1º Emprego idades'!S34","v":0.16393442622950818},"-",null,{"$f":"'1º Emprego idades'!U34/'1º Emprego idades'!Y34","v":0.59259259259259256},{"$f":"'1º Emprego idades'!V34/'1º Emprego idades'!Y34","v":0.22222222222222221},{"$f":"'1º Emprego idades'!W34/'1º Emprego idades'!Y34","v":0.18518518518518517},"-"]
[null,"Santo António",{"$f":"'1º Emprego idades'!C35/'1º Emprego idades'!G35","v":0.44444444444444442},{"$f":"'1º Emprego idades'!D35/'1º Emprego idades'!G35","v":0.41975308641975306},{"$f":"'1º Emprego idades'!E35/'1º Emprego idades'!G35","v":9.8765432098765427E-2},{"$f":"'1º Emprego idades'!F35/'1º Emprego idades'!G35","v":3.7037037037037035E-2},null,{"$f":"'1º Emprego idades'!I35/'1º Emprego idades'!M35","v":0.52173913043478259},{"$f":"'1º Emprego idades'!J35/'1º Emprego idades'!M35","v":0.33333333333333331},{"$f":"'1º Emprego idades'!K35/'1º Emprego idades'!M35","v":0.11594202898550725},{"$f":"'1º Emprego idades'!L35/'1º Emprego idades'!M35","v":2.8985507246376812E-2},null,{"$f":"'1º Emprego idades'!O35/'1º Emprego idades'!S35","v":0.52857142857142858},{"$f":"'1º Emprego idades'!P35/'1º Emprego idades'!S35","v":0.35714285714285715},{"$f":"'1º Emprego idades'!Q35/'1º Emprego idades'!S35","v":0.1},{"$f":"'1º Emprego idades'!R35/'1º Emprego idades'!S35","v":1.4285714285714285E-2},null,{"$f":"'1º Emprego idades'!U35/'1º Emprego idades'!Y35","v":0.52830188679245282},{"$f":"'1º Emprego idades'!V35/'1º Emprego idades'!Y35","v":0.30188679245283018},{"$f":"'1º Emprego idades'!W35/'1º Emprego idades'!Y35","v":0.15094339622641509},{"$f":"'1º Emprego idades'!X35/'1º Emprego idades'!Y35","v":1.8867924528301886E-2}]
[null,"São Domingos de Benfica",{"$f":"'1º Emprego idades'!C36/'1º Emprego idades'!G36","v":0.61151079136690645},{"$f":"'1º Emprego idades'!D36/'1º Emprego idades'!G36","v":0.30935251798561153},{"$f":"'1º Emprego idades'!E36/'1º Emprego idades'!G36","v":7.1942446043165464E-2},{"$f":"'1º Emprego idades'!F36/'1º Emprego idades'!G36","v":7.1942446043165471E-3},null,{"$f":"'1º Emprego idades'!I36/'1º Emprego idades'!M36","v":0.56153846153846154},{"$f":"'1º Emprego idades'!J36/'1º Emprego idades'!M36","v":0.36153846153846153},{"$f":"'1º Emprego idades'!K36/'1º Emprego idades'!M36","v":6.9230769230769235E-2},{"$f":"'1º Emprego idades'!L36/'1º Emprego idades'!M36","v":7.6923076923076927E-3},null,{"$f":"'1º Emprego idades'!O36/'1º Emprego idades'!S36","v":0.55844155844155841},{"$f":"'1º Emprego idades'!P36/'1º Emprego idades'!S36","v":0.38961038961038963},{"$f":"'1º Emprego idades'!Q36/'1º Emprego idades'!S36","v":4.5454545454545456E-2},{"$f":"'1º Emprego idades'!R36/'1º Emprego idades'!S36","v":6.4935064935064939E-3},null,{"$f":"'1º Emprego idades'!U36/'1º Emprego idades'!Y36","v":0.52941176470588236},{"$f":"'1º Emprego idades'!V36/'1º Emprego idades'!Y36","v":0.39705882352941174},{"$f":"'1º Emprego idades'!W36/'1º Emprego idades'!Y36","v":5.8823529411764705E-2},{"$f":"'1º Emprego idades'!X36/'1º Emprego idades'!Y36","v":1.4705882352941176E-2}]
[null,"São Vicente",{"$f":"'1º Emprego idades'!C37/'1º Emprego idades'!G37","v":0.67307692307692313},{"$f":"'1º Emprego idades'!D37/'1º Emprego idades'!G37","v":0.27884615384615385},{"$f":"'1º Emprego idades'!E37/'1º Emprego idades'!G37","v":3.8461538461538464E-2},{"$f":"'1º Emprego idades'!F37/'1º Emprego idades'!G37","v":9.6153846153846159E-3},null,{"$f":"'1º Emprego idades'!I37/'1º Emprego idades'!M37","v":0.61842105263157898},{"$f":"'1º Emprego idades'!J37/'1º Emprego idades'!M37","v":0.30263157894736842},{"$f":"'1º Emprego idades'!K37/'1º Emprego idades'!M37","v":6.5789473684210523E-2},{"$f":"'1º Emprego idades'!L37/'1º Emprego idades'!M37","v":1.3157894736842105E-2},null,{"$f":"'1º Emprego idades'!O37/'1º Emprego idades'!S37","v":0.65384615384615385},{"$f":"'1º Emprego idades'!P37/'1º Emprego idades'!S37","v":0.29487179487179488},{"$f":"'1º Emprego idades'!Q37/'1º Emprego idades'!S37","v":3.8461538461538464E-2},{"$f":"'1º Emprego idades'!R37/'1º Emprego idades'!S37","v":1.282051282051282E-2},null,{"$f":"'1º Emprego idades'!U37/'1º Emprego idades'!Y37","v":0.58730158730158732},{"$f":"'1º Emprego idades'!V37/'1º Emprego idades'!Y37","v":0.33333333333333331},{"$f":"'1º Emprego idades'!W37/'1º Emprego idades'!Y37","v":6.3492063492063489E-2},{"$f":"'1º Emprego idades'!X37/'1º Emprego idades'!Y37","v":1.5873015873015872E-2}]
[null,"Freg. Não Codificada",{"$f":"'1º Emprego idades'!C38/'1º Emprego idades'!G38","v":0.55555555555555558},{"$f":"'1º Emprego idades'!D38/'1º Emprego idades'!G38","v":0.44444444444444442},"-","-",null,{"$f":"'1º Emprego idades'!I38/'1º Emprego idades'!M38","v":0.4},{"$f":"'1º Emprego idades'!J38/'1º Emprego idades'!M38","v":0.6},"-","-",null,{"$f":"'1º Emprego idades'!O38/'1º Emprego idades'!S38","v":0.66666666666666663},{"$f":"'1º Emprego idades'!P38/'1º Emprego idades'!S38","v":0.33333333333333331},"-","-",null,{"$f":"'1º Emprego idades'!U38/'1º Emprego idades'!Y38","v":0.875},{"$f":"'1º Emprego idades'!V38/'1º Emprego idades'!Y38","v":0.125},"-","-"]
[]
[null,"Fonte: Instituto de Emprego e Formação Profissional"]
[null,"Cálculos: OLCPL"]
[null,"Notas n.d.: não disponível (para valores =< 5, por razões de confidencialidade dados não disponibilizados pela fonte)"]

{"sheet":"1º Emprego escolaridade","index":18,"n_rows":42,"n_cols":33,"rows_kept":42,"cut":false,"hidden":false,"merged":[[44,2,44,16],[43,2,43,6],[42,2,42,6],[6,2,6,32],[7,2,7,8],[7,10,7,16],[7,18,7,24],[7,26,7,32]]}
[]
[]
[]
[]
["Q.17","Número de desempregados 1º emprego  inscritos Centros de Emprego,  escolaridade 2014"]
[]
[null,null,"Número de desempregados 1º emprego  inscritos Centros de Emprego,  escolaridade"]
[null,null,"1º TRIMESTRE",null,null,null,null,null,null,null,"2º TRIMESTRE",null,null,null,null,null,null,null,"3º TRIMESTRE",null,null,null,null,null,null,null,"4º TRIMESTRE",null,null,null,null,null,4]
[null,"Unidade: Nº","< 1º Ciclo EB","1º Ciclo EB","2º Ciclo EB","3º Ciclo EB","Secundário","Superior","Total",null,"< 1º Ciclo EB","1º Ciclo EB","2º Ciclo EB","3º Ciclo EB","Secundário","Superior","Total",null,"< 1º Ciclo EB","1º Ciclo EB","2º Ciclo EB","3º Ciclo EB","Secundário","Superior","Total",null,"< 1º Ciclo EB","1º Ciclo EB","2º Ciclo EB","3º Ciclo EB","Secundário","Superior","Total"]
[null,"Portugal Continental",5188,4398,5462,11367,22853,19832,{"$f":"SUM(C10:H10)","v":69100},null,4981,4026,4834,9830,18113,14810,56594,null,5054,4212,4830,9707,23201,18548,65552,null,5060,4111,4731,8692,20516,16931,60041]
[null,"AML",1514,1105,1670,2345,3642,3894,14170,null,1462,999,1442,1956,2924,3006,11789,null,1469,1073,1410,2008,3778,3477,13215,null,1519,1095,1388,1539,3222,3176,11939]
[null,"Distrito de Lisboa",1082,831,1209,1844,2780,3241,10987,null,1066,753,1064,1529,2134,2593,{"$f":"SUM(K12:P12)","v":9139},null,1093,803,1032,1508,2761,2967,10164,null,1084,796,1021,1159,2347,2633,9040]
[null,"Concelho de Lisboa",651,408,454,514,668,1349,4044,null,{"$f":"SUM(K14:K38)","v":650},{"$f":"SUM(L14:L38)","v":404},446,444,516,1066,3526,null,661,390,394,404,617,1198,3664,null,634,387,367,281,449,985,3103]
[null,"Ajuda",38,30,12,13,14,30,137,null,41,34,19,13,17,22,146,null,45,36,15,12,17,29,154,null,42,29,14,11,10,18,124]
[null,"Alcântara",5,"-",9,8,17,42,81,null,4,1,7,8,8,33,61,null,2,4,7,5,9,31,58,null,2,3,6,4,7,29,51]
[null,"Alvalade",30,22,6,25,34,94,211,null,28,23,9,16,18,64,158,null,28,22,7,12,14,81,164,null,25,20,7,8,17,67,144]
[null,"Areeiro",8,18,16,6,28,74,150,null,12,18,15,7,23,54,129,null,14,14,13,7,20,67,135,null,12,14,9,7,11,57,110]
[null,"Arroios",25,5,19,20,53,114,236,null,19,4,16,23,38,96,196,null,15,4,18,21,54,98,210,null,15,3,12,15,33,87,165]
[null,"Avenidas Novas",29,9,12,21,36,85,192,null,32,5,14,17,24,55,147,null,30,8,13,9,20,71,151,null,22,8,13,8,23,53,127]
[null,"Beato",21,14,31,19,20,19,124,null,21,19,21,20,12,20,113,null,22,17,18,14,12,15,98,null,19,19,14,11,11,12,86]
[null,"Belém","-",1,4,2,7,38,52,null,"-","-",3,4,5,39,51,null,"-","-",1,3,6,45,55,null,"-","-",1,3,4,29,37]
[null,"Benfica",30,22,26,31,38,96,243,null,25,19,14,28,30,61,177,null,25,23,16,26,43,78,211,null,30,25,19,18,41,69,202]
[null,"Campo de Ourique",4,3,17,14,19,42,99,null,4,4,10,11,16,36,81,null,2,3,9,15,17,33,79,null,5,2,12,5,9,29,62]
[null,"Campolide",3,4,10,12,14,20,63,null,3,2,11,9,12,17,54,null,2,4,9,13,16,15,59,null,3,3,8,9,10,14,47]
[null,"Carnide",31,23,21,33,20,25,153,null,31,19,18,35,16,29,148,null,35,15,18,33,23,33,157,null,37,15,18,28,22,24,144]
[null,"Estrela",2,1,3,13,16,43,78,null,1,1,6,9,16,27,60,null,1,2,3,7,20,40,73,null,"-",2,3,6,13,37,61]
[null,"Lumiar",24,26,11,25,42,146,274,null,24,20,20,27,42,120,253,null,26,22,15,29,36,131,259,null,29,20,16,20,26,112,223]
[null,"Marvila",106,61,88,70,77,54,456,null,101,62,84,57,61,29,394,null,105,55,82,59,78,47,426,null,102,55,67,22,45,32,323]
[null,"Misericórdia",5,3,11,14,11,38,82,null,7,2,6,12,12,32,71,null,7,1,7,6,12,28,61,null,2,1,11,2,8,22,46]
[null,"Olivais",4,3,2,13,7,17,46,null,6,8,14,11,10,23,72,null,6,5,14,16,22,24,87,null,9,10,16,11,23,27,96]
[null,"Parque das Nações",83,57,52,51,55,70,368,null,91,60,53,33,33,58,328,null,95,53,37,27,37,62,311,null,84,48,28,20,16,40,236]
[null,"Penha de França",16,12,13,20,37,73,171,null,12,10,22,20,23,54,141,null,14,9,16,12,28,61,140,null,12,14,18,10,30,47,131]
[null,"Santa Clara",147,75,58,51,44,21,396,null,156,82,60,34,31,15,378,null,161,80,55,35,53,20,404,null,156,84,54,31,32,17,374]
[null,"Santa Maria Maior",22,8,11,10,12,36,99,null,18,2,8,13,18,29,88,null,12,5,2,7,10,25,61,null,12,6,5,8,8,15,54]
[null,"Santo António",4,2,5,11,11,48,81,null,2,1,5,10,15,36,69,null,3,1,4,10,18,34,70,null,3,1,2,10,9,28,53]
[null,"São Domingos de Benfica",5,3,6,9,32,84,139,null,5,3,6,12,21,83,130,null,5,1,6,14,28,100,154,null,5,1,4,9,24,93,136]
[null,"São Vicente",9,6,10,23,20,36,104,null,7,5,5,15,14,30,76,null,6,5,8,12,22,25,78,null,8,3,9,3,17,23,63]
[null,"Freg. Não Codificada","-","-",1,"-",4,4,9,null,"-","-","-","-",1,4,5,null,661,390,394,404,617,1198,3664,null,"-",1,1,2,"-",4,8]
[]
[null,"Fonte: Instituto de Emprego e Formação Profissional"]
[null,"Cálculos: OLCPL"]
[null,"Notas n.d.: não disponível (para valores =< 5, por razões de confidencialidade dados não disponibilizados pela fonte)"]

{"sheet":"1º emprego escolaridade %","index":19,"n_rows":43,"n_cols":29,"rows_kept":43,"cut":false,"hidden":false,"merged":[[8,23,8,28],[6,2,6,28],[7,2,7,28],[8,16,8,21],[45,2,45,8],[43,2,43,6],[44,2,44,6],[8,2,8,7],[8,9,8,14]]}
[]
[]
[]
[]
["Q.18","Desempregados 1º emprego inscritos nos Centros de Emprego, escolaridade, 2014 (%)"]
[]
[null,null,"Desempregados 1º emprego inscritos nos Centros de Emprego, escolaridade"]
[null,null,"%"]
[null,"Unidade: Nº e %","1º TRIMESTRE",null,null,null,null,null,null,"2º TRIMESTRE",null,null,null,null,null,null,"3º TRIMESTRE",null,null,null,null,null,null,"4º TRIMESTRE"]
[null,null,"< 1º Ciclo EB","1º Ciclo EB","2º Ciclo EB","3º Ciclo EB","Secundário","Superior",null,"< 1º Ciclo EB","1º Ciclo EB","2º Ciclo EB","3º Ciclo EB","Secundário","Superior",null,"< 1º Ciclo EB","1º Ciclo EB","2º Ciclo EB","3º Ciclo EB","Secundário","Superior",null,"< 1º Ciclo EB","1º Ciclo EB","2º Ciclo EB","3º Ciclo EB","Secundário","Superior"]
[null,"Portugal Continental",{"$f":"'1º Emprego escolaridade'!C10/'1º Emprego escolaridade'!I10","v":7.5079594790159188E-2},{"$f":"'1º Emprego escolaridade'!D10/'1º Emprego escolaridade'!I10","v":6.364688856729378E-2},{"$f":"'1º Emprego escolaridade'!E10/'1º Emprego escolaridade'!I10","v":7.9044862518089731E-2},{"$f":"'1º Emprego escolaridade'!F10/'1º Emprego escolaridade'!I10","v":0.16450072358900145},{"$f":"'1º Emprego escolaridade'!G10/'1º Emprego escolaridade'!I10","v":0.33072358900144716},{"$f":"'1º Emprego escolaridade'!H10/'1º Emprego escolaridade'!I10","v":0.28700434153400867},null,{"$f":"'1º Emprego escolaridade'!K10/'1º Emprego escolaridade'!Q10","v":8.8012863554440393E-2},{"$f":"'1º Emprego escolaridade'!L10/'1º Emprego escolaridade'!Q10","v":7.1138283210234299E-2},{"$f":"'1º Emprego escolaridade'!M10/'1º Emprego escolaridade'!Q10","v":8.5415415061667319E-2},{"$f":"'1º Emprego escolaridade'!N10/'1º Emprego escolaridade'!Q10","v":0.17369332438067639},{"$f":"'1º Emprego escolaridade'!O10/'1º Emprego escolaridade'!Q10","v":0.32005159557550272},{"$f":"'1º Emprego escolaridade'!P10/'1º Emprego escolaridade'!Q10","v":0.2616885182174789},null,{"$f":"'1º Emprego escolaridade'!S10/'1º Emprego escolaridade'!Y10","v":7.709909690017086E-2},{"$f":"'1º Emprego escolaridade'!T10/'1º Emprego escolaridade'!Y10","v":6.4254332438369532E-2},{"$f":"'1º Emprego escolaridade'!U10/'1º Emprego escolaridade'!Y10","v":7.3681962411520627E-2},{"$f":"'1º Emprego escolaridade'!V10/'1º Emprego escolaridade'!Y10","v":0.14808091286307054},{"$f":"'1º Emprego escolaridade'!W10/'1º Emprego escolaridade'!Y10","v":0.35393275567488408},{"$f":"'1º Emprego escolaridade'!X10/'1º Emprego escolaridade'!Y10","v":0.28295093971198437},null,{"$f":"'1º Emprego escolaridade'!AA10/'1º Emprego escolaridade'!AG10","v":8.4275744907646444E-2},{"$f":"'1º Emprego escolaridade'!AB10/'1º Emprego escolaridade'!AG10","v":6.846987891607402E-2},{"$f":"'1º Emprego escolaridade'!AC10/'1º Emprego escolaridade'!AG10","v":7.8796155960093942E-2},{"$f":"'1º Emprego escolaridade'!AD10/'1º Emprego escolaridade'!AG10","v":0.14476774204293733},{"$f":"'1º Emprego escolaridade'!AE10/'1º Emprego escolaridade'!AG10","v":0.34169983844373014},{"$f":"'1º Emprego escolaridade'!AF10/'1º Emprego escolaridade'!AG10","v":0.28199063972951816}]
[null,"AML",{"$f":"'1º Emprego escolaridade'!C11/'1º Emprego escolaridade'!I11","v":0.10684544812985181},{"$f":"'1º Emprego escolaridade'!D11/'1º Emprego escolaridade'!I11","v":7.7981651376146793E-2},{"$f":"'1º Emprego escolaridade'!E11/'1º Emprego escolaridade'!I11","v":0.11785462244177841},{"$f":"'1º Emprego escolaridade'!F11/'1º Emprego escolaridade'!I11","v":0.16549047282992238},{"$f":"'1º Emprego escolaridade'!G11/'1º Emprego escolaridade'!I11","v":0.25702187720536346},{"$f":"'1º Emprego escolaridade'!H11/'1º Emprego escolaridade'!I11","v":0.27480592801693721},null,{"$f":"'1º Emprego escolaridade'!K11/'1º Emprego escolaridade'!Q11","v":0.1240139112732208},{"$f":"'1º Emprego escolaridade'!L11/'1º Emprego escolaridade'!Q11","v":8.4740011875477139E-2},{"$f":"'1º Emprego escolaridade'!M11/'1º Emprego escolaridade'!Q11","v":0.12231741453897702},{"$f":"'1º Emprego escolaridade'!N11/'1º Emprego escolaridade'!Q11","v":0.16591738060904232},{"$f":"'1º Emprego escolaridade'!O11/'1º Emprego escolaridade'!Q11","v":0.2480278225464416},{"$f":"'1º Emprego escolaridade'!P11/'1º Emprego escolaridade'!Q11","v":0.25498345915684112},null,{"$f":"'1º Emprego escolaridade'!S11/'1º Emprego escolaridade'!Y11","v":0.11116155883465759},{"$f":"'1º Emprego escolaridade'!T11/'1º Emprego escolaridade'!Y11","v":8.1195611048051453E-2},{"$f":"'1º Emprego escolaridade'!U11/'1º Emprego escolaridade'!Y11","v":0.10669693530079455},{"$f":"'1º Emprego escolaridade'!V11/'1º Emprego escolaridade'!Y11","v":0.1519485433219826},{"$f":"'1º Emprego escolaridade'!W11/'1º Emprego escolaridade'!Y11","v":0.28588724933787363},{"$f":"'1º Emprego escolaridade'!X11/'1º Emprego escolaridade'!Y11","v":0.26311010215664016},null,{"$f":"'1º Emprego escolaridade'!AA11/'1º Emprego escolaridade'!AG11","v":0.12723008627188206},{"$f":"'1º Emprego escolaridade'!AB11/'1º Emprego escolaridade'!AG11","v":9.1716224139375163E-2},{"$f":"'1º Emprego escolaridade'!AC11/'1º Emprego escolaridade'!AG11","v":0.11625764301867827},{"$f":"'1º Emprego escolaridade'!AD11/'1º Emprego escolaridade'!AG11","v":0.12890526844794373},{"$f":"'1º Emprego escolaridade'!AE11/'1º Emprego escolaridade'!AG11","v":0.2698718485635313},{"$f":"'1º Emprego escolaridade'!AF11/'1º Emprego escolaridade'!AG11","v":0.26601892955858952}]
[null,"Distrito de Lisboa",{"$f":"'1º Emprego escolaridade'!C12/'1º Emprego escolaridade'!I12","v":9.8480021843997456E-2},{"$f":"'1º Emprego escolaridade'!D12/'1º Emprego escolaridade'!I12","v":7.5634841175935191E-2},{"$f":"'1º Emprego escolaridade'!E12/'1º Emprego escolaridade'!I12","v":0.11003913716210066},{"$f":"'1º Emprego escolaridade'!F12/'1º Emprego escolaridade'!I12","v":0.16783471375261672},{"$f":"'1º Emprego escolaridade'!G12/'1º Emprego escolaridade'!I12","v":0.25302630381359786},{"$f":"'1º Emprego escolaridade'!H12/'1º Emprego escolaridade'!I12","v":0.29498498225175207},null,{"$f":"'1º Emprego escolaridade'!K12/'1º Emprego escolaridade'!Q12","v":0.11664295874822191},{"$f":"'1º Emprego escolaridade'!L12/'1º Emprego escolaridade'!Q12","v":8.239413502571398E-2},{"$f":"'1º Emprego escolaridade'!M12/'1º Emprego escolaridade'!Q12","v":0.11642411642411643},{"$f":"'1º Emprego escolaridade'!N12/'1º Emprego escolaridade'!Q12","v":0.16730495677864099},{"$f":"'1º Emprego escolaridade'!O12/'1º Emprego escolaridade'!Q12","v":0.2335047598205493},{"$f":"'1º Emprego escolaridade'!P12/'1º Emprego escolaridade'!Q12","v":0.28372907320275742},null,{"$f":"'1º Emprego escolaridade'!S12/'1º Emprego escolaridade'!Y12","v":0.10753640299094845},{"$f":"'1º Emprego escolaridade'!T12/'1º Emprego escolaridade'!Y12","v":7.9004329004329008E-2},{"$f":"'1º Emprego escolaridade'!U12/'1º Emprego escolaridade'!Y12","v":0.10153482880755609},{"$f":"'1º Emprego escolaridade'!V12/'1º Emprego escolaridade'!Y12","v":0.14836678473042109},{"$f":"'1º Emprego escolaridade'!W12/'1º Emprego escolaridade'!Y12","v":0.27164502164502163},{"$f":"'1º Emprego escolaridade'!X12/'1º Emprego escolaridade'!Y12","v":0.29191263282172375},null,{"$f":"'1º Emprego escolaridade'!AA12/'1º Emprego escolaridade'!AG12","v":0.11991150442477876},{"$f":"'1º Emprego escolaridade'!AB12/'1º Emprego escolaridade'!AG12","v":8.8053097345132739E-2},{"$f":"'1º Emprego escolaridade'!AC12/'1º Emprego escolaridade'!AG12","v":0.1129424778761062},{"$f":"'1º Emprego escolaridade'!AD12/'1º Emprego escolaridade'!AG12","v":0.12820796460176992},{"$f":"'1º Emprego escolaridade'!AE12/'1º Emprego escolaridade'!AG12","v":0.25962389380530976},{"$f":"'1º Emprego escolaridade'!AF12/'1º Emprego escolaridade'!AG12","v":0.29126106194690266}]
[null,"Concelho de Lisboa",{"$f":"'1º Emprego escolaridade'!C13/'1º Emprego escolaridade'!I13","v":0.16097922848664689},{"$f":"'1º Emprego escolaridade'!D13/'1º Emprego escolaridade'!I13","v":0.10089020771513353},{"$f":"'1º Emprego escolaridade'!E13/'1º Emprego escolaridade'!I13","v":0.11226508407517309},{"$f":"'1º Emprego escolaridade'!F13/'1º Emprego escolaridade'!I13","v":0.12710187932739861},{"$f":"'1º Emprego escolaridade'!G13/'1º Emprego escolaridade'!I13","v":0.16518298714144411},{"$f":"'1º Emprego escolaridade'!H13/'1º Emprego escolaridade'!I13","v":0.33358061325420374},null,{"$f":"'1º Emprego escolaridade'!K13/'1º Emprego escolaridade'!Q13","v":0.184344866704481},{"$f":"'1º Emprego escolaridade'!L13/'1º Emprego escolaridade'!Q13","v":0.11457742484401588},{"$f":"'1º Emprego escolaridade'!M13/'1º Emprego escolaridade'!Q13","v":0.12648893930799773},{"$f":"'1º Emprego escolaridade'!N13/'1º Emprego escolaridade'!Q13","v":0.12592172433352242},{"$f":"'1º Emprego escolaridade'!O13/'1º Emprego escolaridade'!Q13","v":0.14634146341463414},{"$f":"'1º Emprego escolaridade'!P13/'1º Emprego escolaridade'!Q13","v":0.30232558139534882},null,{"$f":"'1º Emprego escolaridade'!S13/'1º Emprego escolaridade'!Y13","v":0.18040393013100436},{"$f":"'1º Emprego escolaridade'!T13/'1º Emprego escolaridade'!Y13","v":0.1064410480349345},{"$f":"'1º Emprego escolaridade'!U13/'1º Emprego escolaridade'!Y13","v":0.10753275109170306},{"$f":"'1º Emprego escolaridade'!V13/'1º Emprego escolaridade'!Y13","v":0.11026200873362445},{"$f":"'1º Emprego escolaridade'!W13/'1º Emprego escolaridade'!Y13","v":0.16839519650655022},{"$f":"'1º Emprego escolaridade'!X13/'1º Emprego escolaridade'!Y13","v":0.32696506550218341},null,{"$f":"'1º Emprego escolaridade'!AA13/'1º Emprego escolaridade'!AG13","v":0.2043184015468901},{"$f":"'1º Emprego escolaridade'!AB13/'1º Emprego escolaridade'!AG13","v":0.12471801482436352},{"$f":"'1º Emprego escolaridade'!AC13/'1º Emprego escolaridade'!AG13","v":0.11827263938124395},{"$f":"'1º Emprego escolaridade'!AD13/'1º Emprego escolaridade'!AG13","v":9.0557524975829848E-2},{"$f":"'1º Emprego escolaridade'!AE13/'1º Emprego escolaridade'!AG13","v":0.14469867869803416},{"$f":"'1º Emprego escolaridade'!AF13/'1º Emprego escolaridade'!AG13","v":0.31743474057363841}]
[null,"Ajuda",{"$f":"'1º Emprego escolaridade'!C14/'1º Emprego escolaridade'!I14","v":0.27737226277372262},{"$f":"'1º Emprego escolaridade'!D14/'1º Emprego escolaridade'!I14","v":0.21897810218978103},{"$f":"'1º Emprego escolaridade'!E14/'1º Emprego escolaridade'!I14","v":8.7591240875912413E-2},{"$f":"'1º Emprego escolaridade'!F14/'1º Emprego escolaridade'!I14","v":9.4890510948905105E-2},{"$f":"'1º Emprego escolaridade'!G14/'1º Emprego escolaridade'!I14","v":0.10218978102189781},{"$f":"'1º Emprego escolaridade'!H14/'1º Emprego escolaridade'!I14","v":0.21897810218978103},null,{"$f":"'1º Emprego escolaridade'!K14/'1º Emprego escolaridade'!Q14","v":0.28082191780821919},{"$f":"'1º Emprego escolaridade'!L14/'1º Emprego escolaridade'!Q14","v":0.23287671232876711},{"$f":"'1º Emprego escolaridade'!M14/'1º Emprego escolaridade'!Q14","v":0.13013698630136986},{"$f":"'1º Emprego escolaridade'!N14/'1º Emprego escolaridade'!Q14","v":8.9041095890410954E-2},{"$f":"'1º Emprego escolaridade'!O14/'1º Emprego escolaridade'!Q14","v":0.11643835616438356},{"$f":"'1º Emprego escolaridade'!P14/'1º Emprego escolaridade'!Q14","v":0.15068493150684931},null,{"$f":"'1º Emprego escolaridade'!S14/'1º Emprego escolaridade'!Y14","v":0.29220779220779219},{"$f":"'1º Emprego escolaridade'!T14/'1º Emprego escolaridade'!Y14","v":0.23376623376623376},{"$f":"'1º Emprego escolaridade'!U14/'1º Emprego escolaridade'!Y14","v":9.7402597402597407E-2},{"$f":"'1º Emprego escolaridade'!V14/'1º Emprego escolaridade'!Y14","v":7.792207792207792E-2},{"$f":"'1º Emprego escolaridade'!W14/'1º Emprego escolaridade'!Y14","v":0.11038961038961038},{"$f":"'1º Emprego escolaridade'!X14/'1º Emprego escolaridade'!Y14","v":0.18831168831168832},null,{"$f":"'1º Emprego escolaridade'!AA14/'1º Emprego escolaridade'!AG14","v":0.33870967741935482},{"$f":"'1º Emprego escolaridade'!AB14/'1º Emprego escolaridade'!AG14","v":0.23387096774193547},{"$f":"'1º Emprego escolaridade'!AC14/'1º Emprego escolaridade'!AG14","v":0.11290322580645161},{"$f":"'1º Emprego escolaridade'!AD14/'1º Emprego escolaridade'!AG14","v":8.8709677419354843E-2},{"$f":"'1º Emprego escolaridade'!AE14/'1º Emprego escolaridade'!AG14","v":8.0645161290322578E-2},{"$f":"'1º Emprego escolaridade'!AF14/'1º Emprego escolaridade'!AG14","v":0.14516129032258066}]
[null,"Alcântara",{"$f":"'1º Emprego escolaridade'!C15/'1º Emprego escolaridade'!I15","v":6.1728395061728392E-2},"-",{"$f":"'1º Emprego escolaridade'!E15/'1º Emprego escolaridade'!I15","v":0.1111111111111111},{"$f":"'1º Emprego escolaridade'!F15/'1º Emprego escolaridade'!I15","v":9.8765432098765427E-2},{"$f":"'1º Emprego escolaridade'!G15/'1º Emprego escolaridade'!I15","v":0.20987654320987653},{"$f":"'1º Emprego escolaridade'!H15/'1º Emprego escolaridade'!I15","v":0.51851851851851849},null,{"$f":"'1º Emprego escolaridade'!K15/'1º Emprego escolaridade'!Q15","v":6.5573770491803282E-2},{"$f":"'1º Emprego escolaridade'!L15/'1º Emprego escolaridade'!Q15","v":1.6393442622950821E-2},{"$f":"'1º Emprego escolaridade'!M15/'1º Emprego escolaridade'!Q15","v":0.11475409836065574},{"$f":"'1º Emprego escolaridade'!N15/'1º Emprego escolaridade'!Q15","v":0.13114754098360656},{"$f":"'1º Emprego escolaridade'!O15/'1º Emprego escolaridade'!Q15","v":0.13114754098360656},{"$f":"'1º Emprego escolaridade'!P15/'1º Emprego escolaridade'!Q15","v":0.54098360655737709},null,{"$f":"'1º Emprego escolaridade'!S15/'1º Emprego escolaridade'!Y15","v":3.4482758620689655E-2},{"$f":"'1º Emprego escolaridade'!T15/'1º Emprego escolaridade'!Y15","v":6.8965517241379309E-2},{"$f":"'1º Emprego escolaridade'!U15/'1º Emprego escolaridade'!Y15","v":0.1206896551724138},{"$f":"'1º Emprego escolaridade'!V15/'1º Emprego escolaridade'!Y15","v":8.6206896551724144E-2},{"$f":"'1º Emprego escolaridade'!W15/'1º Emprego escolaridade'!Y15","v":0.15517241379310345},{"$f":"'1º Emprego escolaridade'!X15/'1º Emprego escolaridade'!Y15","v":0.53448275862068961},null,{"$f":"'1º Emprego escolaridade'!AA15/'1º Emprego escolaridade'!AG15","v":3.9215686274509803E-2},{"$f":"'1º Emprego escolaridade'!AB15/'1º Emprego escolaridade'!AG15","v":5.8823529411764705E-2},{"$f":"'1º Emprego escolaridade'!AC15/'1º Emprego escolaridade'!AG15","v":0.11764705882352941},{"$f":"'1º Emprego escolaridade'!AD15/'1º Emprego escolaridade'!AG15","v":7.8431372549019607E-2},{"$f":"'1º Emprego escolaridade'!AE15/'1º Emprego escolaridade'!AG15","v":0.13725490196078433},{"$f":"'1º Emprego escolaridade'!AF15/'1º Emprego escolaridade'!AG15","v":0.56862745098039214}]
[null,"Alvalade",{"$f":"'1º Emprego escolaridade'!C16/'1º Emprego escolaridade'!I16","v":0.14218009478672985},{"$f":"'1º Emprego escolaridade'!D16/'1º Emprego escolaridade'!I16","v":0.10426540284360189},{"$f":"'1º Emprego escolaridade'!E16/'1º Emprego escolaridade'!I16","v":2.843601895734597E-2},{"$f":"'1º Emprego escolaridade'!F16/'1º Emprego escolaridade'!I16","v":0.11848341232227488},{"$f":"'1º Emprego escolaridade'!G16/'1º Emprego escolaridade'!I16","v":0.16113744075829384},{"$f":"'1º Emprego escolaridade'!H16/'1º Emprego escolaridade'!I16","v":0.44549763033175355},null,{"$f":"'1º Emprego escolaridade'!K16/'1º Emprego escolaridade'!Q16","v":0.17721518987341772},{"$f":"'1º Emprego escolaridade'!L16/'1º Emprego escolaridade'!Q16","v":0.14556962025316456},{"$f":"'1º Emprego escolaridade'!M16/'1º Emprego escolaridade'!Q16","v":5.6962025316455694E-2},{"$f":"'1º Emprego escolaridade'!N16/'1º Emprego escolaridade'!Q16","v":0.10126582278481013},{"$f":"'1º Emprego escolaridade'!O16/'1º Emprego escolaridade'!Q16","v":0.11392405063291139},{"$f":"'1º Emprego escolaridade'!P16/'1º Emprego escolaridade'!Q16","v":0.4050632911392405},null,{"$f":"'1º Emprego escolaridade'!S16/'1º Emprego escolaridade'!Y16","v":0.17073170731707318},{"$f":"'1º Emprego escolaridade'!T16/'1º Emprego escolaridade'!Y16","v":0.13414634146341464},{"$f":"'1º Emprego escolaridade'!U16/'1º Emprego escolaridade'!Y16","v":4.2682926829268296E-2},{"$f":"'1º Emprego escolaridade'!V16/'1º Emprego escolaridade'!Y16","v":7.3170731707317069E-2},{"$f":"'1º Emprego escolaridade'!W16/'1º Emprego escolaridade'!Y16","v":8.5365853658536592E-2},{"$f":"'1º Emprego escolaridade'!X16/'1º Emprego escolaridade'!Y16","v":0.49390243902439024},null,{"$f":"'1º Emprego escolaridade'!AA16/'1º Emprego escolaridade'!AG16","v":0.1736111111111111},{"$f":"'1º Emprego escolaridade'!AB16/'1º Emprego escolaridade'!AG16","v":0.1388888888888889},{"$f":"'1º Emprego escolaridade'!AC16/'1º Emprego escolaridade'!AG16","v":4.8611111111111112E-2},{"$f":"'1º Emprego escolaridade'!AD16/'1º Emprego escolaridade'!AG16","v":5.5555555555555552E-2},{"$f":"'1º Emprego escolaridade'!AE16/'1º Emprego escolaridade'!AG16","v":0.11805555555555555},{"$f":"'1º Emprego escolaridade'!AF16/'1º Emprego escolaridade'!AG16","v":0.46527777777777779}]
[null,"Areeiro",{"$f":"'1º Emprego escolaridade'!C17/'1º Emprego escolaridade'!I17","v":5.3333333333333337E-2},{"$f":"'1º Emprego escolaridade'!D17/'1º Emprego escolaridade'!I17","v":0.12},{"$f":"'1º Emprego escolaridade'!E17/'1º Emprego escolaridade'!I17","v":0.10666666666666667},{"$f":"'1º Emprego escolaridade'!F17/'1º Emprego escolaridade'!I17","v":0.04},{"$f":"'1º Emprego escolaridade'!G17/'1º Emprego escolaridade'!I17","v":0.18666666666666668},{"$f":"'1º Emprego escolaridade'!H17/'1º Emprego escolaridade'!I17","v":0.49333333333333335},null,{"$f":"'1º Emprego escolaridade'!K17/'1º Emprego escolaridade'!Q17","v":9.3023255813953487E-2},{"$f":"'1º Emprego escolaridade'!L17/'1º Emprego escolaridade'!Q17","v":0.13953488372093023},{"$f":"'1º Emprego escolaridade'!M17/'1º Emprego escolaridade'!Q17","v":0.11627906976744186},{"$f":"'1º Emprego escolaridade'!N17/'1º Emprego escolaridade'!Q17","v":5.4263565891472867E-2},{"$f":"'1º Emprego escolaridade'!O17/'1º Emprego escolaridade'!Q17","v":0.17829457364341086},{"$f":"'1º Emprego escolaridade'!P17/'1º Emprego escolaridade'!Q17","v":0.41860465116279072},null,{"$f":"'1º Emprego escolaridade'!S17/'1º Emprego escolaridade'!Y17","v":0.1037037037037037},{"$f":"'1º Emprego escolaridade'!T17/'1º Emprego escolaridade'!Y17","v":0.1037037037037037},{"$f":"'1º Emprego escolaridade'!U17/'1º Emprego escolaridade'!Y17","v":9.6296296296296297E-2},{"$f":"'1º Emprego escolaridade'!V17/'1º Emprego escolaridade'!Y17","v":5.185185185185185E-2},{"$f":"'1º Emprego escolaridade'!W17/'1º Emprego escolaridade'!Y17","v":0.14814814814814814},{"$f":"'1º Emprego escolaridade'!X17/'1º Emprego escolaridade'!Y17","v":0.49629629629629629},null,{"$f":"'1º Emprego escolaridade'!AA17/'1º Emprego escolaridade'!AG17","v":0.10909090909090909},{"$f":"'1º Emprego escolaridade'!AB17/'1º Emprego escolaridade'!AG17","v":0.12727272727272726},{"$f":"'1º Emprego escolaridade'!AC17/'1º Emprego escolaridade'!AG17","v":8.1818181818181818E-2},{"$f":"'1º Emprego escolaridade'!AD17/'1º Emprego escolaridade'!AG17","v":6.363636363636363E-2},{"$f":"'1º Emprego escolaridade'!AE17/'1º Emprego escolaridade'!AG17","v":0.1},{"$f":"'1º Emprego escolaridade'!AF17/'1º Emprego escolaridade'!AG17","v":0.51818181818181819}]
[null,"Arroios",{"$f":"'1º Emprego escolaridade'!C18/'1º Emprego escolaridade'!I18","v":0.1059322033898305},{"$f":"'1º Emprego escolaridade'!D18/'1º Emprego escolaridade'!I18","v":2.1186440677966101E-2},{"$f":"'1º Emprego escolaridade'!E18/'1º Emprego escolaridade'!I18","v":8.050847457627118E-2},{"$f":"'1º Emprego escolaridade'!F18/'1º Emprego escolaridade'!I18","v":8.4745762711864403E-2},{"$f":"'1º Emprego escolaridade'!G18/'1º Emprego escolaridade'!I18","v":0.22457627118644069},{"$f":"'1º Emprego escolaridade'!H18/'1º Emprego escolaridade'!I18","v":0.48305084745762711},null,{"$f":"'1º Emprego escolaridade'!K18/'1º Emprego escolaridade'!Q18","v":9.6938775510204078E-2},{"$f":"'1º Emprego escolaridade'!L18/'1º Emprego escolaridade'!Q18","v":2.0408163265306121E-2},{"$f":"'1º Emprego escolaridade'!M18/'1º Emprego escolaridade'!Q18","v":8.1632653061224483E-2},{"$f":"'1º Emprego escolaridade'!N18/'1º Emprego escolaridade'!Q18","v":0.11734693877551021},{"$f":"'1º Emprego escolaridade'!O18/'1º Emprego escolaridade'!Q18","v":0.19387755102040816},{"$f":"'1º Emprego escolaridade'!P18/'1º Emprego escolaridade'!Q18","v":0.48979591836734693},null,{"$f":"'1º Emprego escolaridade'!S18/'1º Emprego escolaridade'!Y18","v":7.1428571428571425E-2},{"$f":"'1º Emprego escolaridade'!T18/'1º Emprego escolaridade'!Y18","v":1.9047619047619049E-2},{"$f":"'1º Emprego escolaridade'!U18/'1º Emprego escolaridade'!Y18","v":8.5714285714285715E-2},{"$f":"'1º Emprego escolaridade'!V18/'1º Emprego escolaridade'!Y18","v":0.1},{"$f":"'1º Emprego escolaridade'!W18/'1º Emprego escolaridade'!Y18","v":0.25714285714285712},{"$f":"'1º Emprego escolaridade'!X18/'1º Emprego escolaridade'!Y18","v":0.46666666666666667},null,{"$f":"'1º Emprego escolaridade'!AA18/'1º Emprego escolaridade'!AG18","v":9.0909090909090912E-2},{"$f":"'1º Emprego escolaridade'!AB18/'1º Emprego escolaridade'!AG18","v":1.8181818181818181E-2},{"$f":"'1º Emprego escolaridade'!AC18/'1º Emprego escolaridade'!AG18","v":7.2727272727272724E-2},{"$f":"'1º Emprego escolaridade'!AD18/'1º Emprego escolaridade'!AG18","v":9.0909090909090912E-2},{"$f":"'1º Emprego escolaridade'!AE18/'1º Emprego escolaridade'!AG18","v":0.2},{"$f":"'1º Emprego escolaridade'!AF18/'1º Emprego escolaridade'!AG18","v":0.52727272727272723}]
[null,"Avenidas Novas",{"$f":"'1º Emprego escolaridade'!C19/'1º Emprego escolaridade'!I19","v":0.15104166666666666},{"$f":"'1º Emprego escolaridade'!D19/'1º Emprego escolaridade'!I19","v":4.6875E-2},{"$f":"'1º Emprego escolaridade'!E19/'1º Emprego escolaridade'!I19","v":6.25E-2},{"$f":"'1º Emprego escolaridade'!F19/'1º Emprego escolaridade'!I19","v":0.109375},{"$f":"'1º Emprego escolaridade'!G19/'1º Emprego escolaridade'!I19","v":0.1875},{"$f":"'1º Emprego escolaridade'!H19/'1º Emprego escolaridade'!I19","v":0.44270833333333331},null,{"$f":"'1º Emprego escolaridade'!K19/'1º Emprego escolaridade'!Q19","v":0.21768707482993196},{"$f":"'1º Emprego escolaridade'!L19/'1º Emprego escolaridade'!Q19","v":3.4013605442176874E-2},{"$f":"'1º Emprego escolaridade'!M19/'1º Emprego escolaridade'!Q19","v":9.5238095238095233E-2},{"$f":"'1º Emprego escolaridade'!N19/'1º Emprego escolaridade'!Q19","v":0.11564625850340136},{"$f":"'1º Emprego escolaridade'!O19/'1º Emprego escolaridade'!Q19","v":0.16326530612244897},{"$f":"'1º Emprego escolaridade'!P19/'1º Emprego escolaridade'!Q19","v":0.37414965986394561},null,{"$f":"'1º Emprego escolaridade'!S19/'1º Emprego escolaridade'!Y19","v":0.19867549668874171},{"$f":"'1º Emprego escolaridade'!T19/'1º Emprego escolaridade'!Y19","v":5.2980132450331126E-2},{"$f":"'1º Emprego escolaridade'!U19/'1º Emprego escolaridade'!Y19","v":8.6092715231788075E-2},{"$f":"'1º Emprego escolaridade'!V19/'1º Emprego escolaridade'!Y19","v":5.9602649006622516E-2},{"$f":"'1º Emprego escolaridade'!W19/'1º Emprego escolaridade'!Y19","v":0.13245033112582782},{"$f":"'1º Emprego escolaridade'!X19/'1º Emprego escolaridade'!Y19","v":0.47019867549668876},null,{"$f":"'1º Emprego escolaridade'!AA19/'1º Emprego escolaridade'!AG19","v":0.17322834645669291},{"$f":"'1º Emprego escolaridade'!AB19/'1º Emprego escolaridade'!AG19","v":6.2992125984251968E-2},{"$f":"'1º Emprego escolaridade'!AC19/'1º Emprego escolaridade'!AG19","v":0.10236220472440945},{"$f":"'1º Emprego escolaridade'!AD19/'1º Emprego escolaridade'!AG19","v":6.2992125984251968E-2},{"$f":"'1º Emprego escolaridade'!AE19/'1º Emprego escolaridade'!AG19","v":0.18110236220472442},{"$f":"'1º Emprego escolaridade'!AF19/'1º Emprego escolaridade'!AG19","v":0.41732283464566927}]
[null,"Beato",{"$f":"'1º Emprego escolaridade'!C20/'1º Emprego escolaridade'!I20","v":0.16935483870967741},{"$f":"'1º Emprego escolaridade'!D20/'1º Emprego escolaridade'!I20","v":0.11290322580645161},{"$f":"'1º Emprego escolaridade'!E20/'1º Emprego escolaridade'!I20","v":0.25},{"$f":"'1º Emprego escolaridade'!F20/'1º Emprego escolaridade'!I20","v":0.15322580645161291},{"$f":"'1º Emprego escolaridade'!G20/'1º Emprego escolaridade'!I20","v":0.16129032258064516},{"$f":"'1º Emprego escolaridade'!H20/'1º Emprego escolaridade'!I20","v":0.15322580645161291},null,{"$f":"'1º Emprego escolaridade'!K20/'1º Emprego escolaridade'!Q20","v":0.18584070796460178},{"$f":"'1º Emprego escolaridade'!L20/'1º Emprego escolaridade'!Q20","v":0.16814159292035399},{"$f":"'1º Emprego escolaridade'!M20/'1º Emprego escolaridade'!Q20","v":0.18584070796460178},{"$f":"'1º Emprego escolaridade'!N20/'1º Emprego escolaridade'!Q20","v":0.17699115044247787},{"$f":"'1º Emprego escolaridade'!O20/'1º Emprego escolaridade'!Q20","v":0.10619469026548672},{"$f":"'1º Emprego escolaridade'!P20/'1º Emprego escolaridade'!Q20","v":0.17699115044247787},null,{"$f":"'1º Emprego escolaridade'!S20/'1º Emprego escolaridade'!Y20","v":0.22448979591836735},{"$f":"'1º Emprego escolaridade'!T20/'1º Emprego escolaridade'!Y20","v":0.17346938775510204},{"$f":"'1º Emprego escolaridade'!U20/'1º Emprego escolaridade'!Y20","v":0.18367346938775511},{"$f":"'1º Emprego escolaridade'!V20/'1º Emprego escolaridade'!Y20","v":0.14285714285714285},{"$f":"'1º Emprego escolaridade'!W20/'1º Emprego escolaridade'!Y20","v":0.12244897959183673},{"$f":"'1º Emprego escolaridade'!X20/'1º Emprego escolaridade'!Y20","v":0.15306122448979592},null,{"$f":"'1º Emprego escolaridade'!AA20/'1º Emprego escolaridade'!AG20","v":0.22093023255813954},{"$f":"'1º Emprego escolaridade'!AB20/'1º Emprego escolaridade'!AG20","v":0.22093023255813954},{"$f":"'1º Emprego escolaridade'!AC20/'1º Emprego escolaridade'!AG20","v":0.16279069767441862},{"$f":"'1º Emprego escolaridade'!AD20/'1º Emprego escolaridade'!AG20","v":0.12790697674418605},{"$f":"'1º Emprego escolaridade'!AE20/'1º Emprego escolaridade'!AG20","v":0.12790697674418605},{"$f":"'1º Emprego escolaridade'!AF20/'1º Emprego escolaridade'!AG20","v":0.13953488372093023}]
[null,"Belém","-",{"$f":"'1º Emprego escolaridade'!D21/'1º Emprego escolaridade'!I21","v":1.9230769230769232E-2},{"$f":"'1º Emprego escolaridade'!E21/'1º Emprego escolaridade'!I21","v":7.6923076923076927E-2},{"$f":"'1º Emprego escolaridade'!F21/'1º Emprego escolaridade'!I21","v":3.8461538461538464E-2},{"$f":"'1º Emprego escolaridade'!G21/'1º Emprego escolaridade'!I21","v":0.13461538461538461},{"$f":"'1º Emprego escolaridade'!H21/'1º Emprego escolaridade'!I21","v":0.73076923076923073},null,"-","-",{"$f":"'1º Emprego escolaridade'!M21/'1º Emprego escolaridade'!Q21","v":5.8823529411764705E-2},{"$f":"'1º Emprego escolaridade'!N21/'1º Emprego escolaridade'!Q21","v":7.8431372549019607E-2},{"$f":"'1º Emprego escolaridade'!O21/'1º Emprego escolaridade'!Q21","v":9.8039215686274508E-2},{"$f":"'1º Emprego escolaridade'!P21/'1º Emprego escolaridade'!Q21","v":0.76470588235294112},null,"-","-",{"$f":"'1º Emprego escolaridade'!U21/'1º Emprego escolaridade'!Y21","v":1.8181818181818181E-2},{"$f":"'1º Emprego escolaridade'!V21/'1º Emprego escolaridade'!Y21","v":5.4545454545454543E-2},{"$f":"'1º Emprego escolaridade'!W21/'1º Emprego escolaridade'!Y21","v":0.10909090909090909},{"$f":"'1º Emprego escolaridade'!X21/'1º Emprego escolaridade'!Y21","v":0.81818181818181823},null,"-","-",{"$f":"'1º Emprego escolaridade'!AC21/'1º Emprego escolaridade'!AG21","v":2.7027027027027029E-2},{"$f":"'1º Emprego escolaridade'!AD21/'1º Emprego escolaridade'!AG21","v":8.1081081081081086E-2},{"$f":"'1º Emprego escolaridade'!AE21/'1º Emprego escolaridade'!AG21","v":0.10810810810810811},{"$f":"'1º Emprego escolaridade'!AF21/'1º Emprego escolaridade'!AG21","v":0.78378378378378377}]
[null,"Benfica",{"$f":"'1º Emprego escolaridade'!C22/'1º Emprego escolaridade'!I22","v":0.12345679012345678},{"$f":"'1º Emprego escolaridade'!D22/'1º Emprego escolaridade'!I22","v":9.0534979423868317E-2},{"$f":"'1º Emprego escolaridade'!E22/'1º Emprego escolaridade'!I22","v":0.10699588477366255},{"$f":"'1º Emprego escolaridade'!F22/'1º Emprego escolaridade'!I22","v":0.12757201646090535},{"$f":"'1º Emprego escolaridade'!G22/'1º Emprego escolaridade'!I22","v":0.15637860082304528},{"$f":"'1º Emprego escolaridade'!H22/'1º Emprego escolaridade'!I22","v":0.39506172839506171},null,{"$f":"'1º Emprego escolaridade'!K22/'1º Emprego escolaridade'!Q22","v":0.14124293785310735},{"$f":"'1º Emprego escolaridade'!L22/'1º Emprego escolaridade'!Q22","v":0.10734463276836158},{"$f":"'1º Emprego escolaridade'!M22/'1º Emprego escolaridade'!Q22","v":7.909604519774012E-2},{"$f":"'1º Emprego escolaridade'!N22/'1º Emprego escolaridade'!Q22","v":0.15819209039548024},{"$f":"'1º Emprego escolaridade'!O22/'1º Emprego escolaridade'!Q22","v":0.16949152542372881},{"$f":"'1º Emprego escolaridade'!P22/'1º Emprego escolaridade'!Q22","v":0.34463276836158191},null,{"$f":"'1º Emprego escolaridade'!S22/'1º Emprego escolaridade'!Y22","v":0.11848341232227488},{"$f":"'1º Emprego escolaridade'!T22/'1º Emprego escolaridade'!Y22","v":0.10900473933649289},{"$f":"'1º Emprego escolaridade'!U22/'1º Emprego escolaridade'!Y22","v":7.582938388625593E-2},{"$f":"'1º Emprego escolaridade'!V22/'1º Emprego escolaridade'!Y22","v":0.12322274881516587},{"$f":"'1º Emprego escolaridade'!W22/'1º Emprego escolaridade'!Y22","v":0.20379146919431279},{"$f":"'1º Emprego escolaridade'!X22/'1º Emprego escolaridade'!Y22","v":0.36966824644549762},null,{"$f":"'1º Emprego escolaridade'!AA22/'1º Emprego escolaridade'!AG22","v":0.14851485148514851},{"$f":"'1º Emprego escolaridade'!AB22/'1º Emprego escolaridade'!AG22","v":0.12376237623762376},{"$f":"'1º Emprego escolaridade'!AC22/'1º Emprego escolaridade'!AG22","v":9.405940594059406E-2},{"$f":"'1º Emprego escolaridade'!AD22/'1º Emprego escolaridade'!AG22","v":8.9108910891089105E-2},{"$f":"'1º Emprego escolaridade'!AE22/'1º Emprego escolaridade'!AG22","v":0.20297029702970298},{"$f":"'1º Emprego escolaridade'!AF22/'1º Emprego escolaridade'!AG22","v":0.34158415841584161}]
[null,"Campo de Ourique",{"$f":"'1º Emprego escolaridade'!C23/'1º Emprego escolaridade'!I23","v":4.0404040404040407E-2},{"$f":"'1º Emprego escolaridade'!D23/'1º Emprego escolaridade'!I23","v":3.0303030303030304E-2},{"$f":"'1º Emprego escolaridade'!E23/'1º Emprego escolaridade'!I23","v":0.17171717171717171},{"$f":"'1º Emprego escolaridade'!F23/'1º Emprego escolaridade'!I23","v":0.14141414141414141},{"$f":"'1º Emprego escolaridade'!G23/'1º Emprego escolaridade'!I23","v":0.19191919191919191},{"$f":"'1º Emprego escolaridade'!H23/'1º Emprego escolaridade'!I23","v":0.42424242424242425},null,{"$f":"'1º Emprego escolaridade'!K23/'1º Emprego escolaridade'!Q23","v":4.9382716049382713E-2},{"$f":"'1º Emprego escolaridade'!L23/'1º Emprego escolaridade'!Q23","v":4.9382716049382713E-2},{"$f":"'1º Emprego escolaridade'!M23/'1º Emprego escolaridade'!Q23","v":0.12345679012345678},{"$f":"'1º Emprego escolaridade'!N23/'1º Emprego escolaridade'!Q23","v":0.13580246913580246},{"$f":"'1º Emprego escolaridade'!O23/'1º Emprego escolaridade'!Q23","v":0.19753086419753085},{"$f":"'1º Emprego escolaridade'!P23/'1º Emprego escolaridade'!Q23","v":0.44444444444444442},null,{"$f":"'1º Emprego escolaridade'!S23/'1º Emprego escolaridade'!Y23","v":2.5316455696202531E-2},{"$f":"'1º Emprego escolaridade'!T23/'1º Emprego escolaridade'!Y23","v":3.7974683544303799E-2},{"$f":"'1º Emprego escolaridade'!U23/'1º Emprego escolaridade'!Y23","v":0.11392405063291139},{"$f":"'1º Emprego escolaridade'!V23/'1º Emprego escolaridade'!Y23","v":0.189873417721519},{"$f":"'1º Emprego escolaridade'!W23/'1º Emprego escolaridade'!Y23","v":0.21518987341772153},{"$f":"'1º Emprego escolaridade'!X23/'1º Emprego escolaridade'!Y23","v":0.41772151898734178},null,{"$f":"'1º Emprego escolaridade'!AA23/'1º Emprego escolaridade'!AG23","v":8.0645161290322578E-2},{"$f":"'1º Emprego escolaridade'!AB23/'1º Emprego escolaridade'!AG23","v":3.2258064516129031E-2},{"$f":"'1º Emprego escolaridade'!AC23/'1º Emprego escolaridade'!AG23","v":0.19354838709677419},{"$f":"'1º Emprego escolaridade'!AD23/'1º Emprego escolaridade'!AG23","v":8.0645161290322578E-2},{"$f":"'1º Emprego escolaridade'!AE23/'1º Emprego escolaridade'!AG23","v":0.14516129032258066},{"$f":"'1º Emprego escolaridade'!AF23/'1º Emprego escolaridade'!AG23","v":0.46774193548387094}]
[null,"Campolide",{"$f":"'1º Emprego escolaridade'!C24/'1º Emprego escolaridade'!I24","v":4.7619047619047616E-2},{"$f":"'1º Emprego escolaridade'!D24/'1º Emprego escolaridade'!I24","v":6.3492063492063489E-2},{"$f":"'1º Emprego escolaridade'!E24/'1º Emprego escolaridade'!I24","v":0.15873015873015872},{"$f":"'1º Emprego escolaridade'!F24/'1º Emprego escolaridade'!I24","v":0.19047619047619047},{"$f":"'1º Emprego escolaridade'!G24/'1º Emprego escolaridade'!I24","v":0.22222222222222221},{"$f":"'1º Emprego escolaridade'!H24/'1º Emprego escolaridade'!I24","v":0.31746031746031744},null,{"$f":"'1º Emprego escolaridade'!K24/'1º Emprego escolaridade'!Q24","v":5.5555555555555552E-2},{"$f":"'1º Emprego escolaridade'!L24/'1º Emprego escolaridade'!Q24","v":3.7037037037037035E-2},{"$f":"'1º Emprego escolaridade'!M24/'1º Emprego escolaridade'!Q24","v":0.20370370370370369},{"$f":"'1º Emprego escolaridade'!N24/'1º Emprego escolaridade'!Q24","v":0.16666666666666666},{"$f":"'1º Emprego escolaridade'!O24/'1º Emprego escolaridade'!Q24","v":0.22222222222222221},{"$f":"'1º Emprego escolaridade'!P24/'1º Emprego escolaridade'!Q24","v":0.31481481481481483},null,{"$f":"'1º Emprego escolaridade'!S24/'1º Emprego escolaridade'!Y24","v":3.3898305084745763E-2},{"$f":"'1º Emprego escolaridade'!T24/'1º Emprego escolaridade'!Y24","v":6.7796610169491525E-2},{"$f":"'1º Emprego escolaridade'!U24/'1º Emprego escolaridade'!Y24","v":0.15254237288135594},{"$f":"'1º Emprego escolaridade'!V24/'1º Emprego escolaridade'!Y24","v":0.22033898305084745},{"$f":"'1º Emprego escolaridade'!W24/'1º Emprego escolaridade'!Y24","v":0.2711864406779661},{"$f":"'1º Emprego escolaridade'!X24/'1º Emprego escolaridade'!Y24","v":0.25423728813559321},null,{"$f":"'1º Emprego escolaridade'!AA24/'1º Emprego escolaridade'!AG24","v":6.3829787234042548E-2},{"$f":"'1º Emprego escolaridade'!AB24/'1º Emprego escolaridade'!AG24","v":6.3829787234042548E-2},{"$f":"'1º Emprego escolaridade'!AC24/'1º Emprego escolaridade'!AG24","v":0.1702127659574468},{"$f":"'1º Emprego escolaridade'!AD24/'1º Emprego escolaridade'!AG24","v":0.19148936170212766},{"$f":"'1º Emprego escolaridade'!AE24/'1º Emprego escolaridade'!AG24","v":0.21276595744680851},{"$f":"'1º Emprego escolaridade'!AF24/'1º Emprego escolaridade'!AG24","v":0.2978723404255319}]
[null,"Carnide",{"$f":"'1º Emprego escolaridade'!C25/'1º Emprego escolaridade'!I25","v":0.20261437908496732},{"$f":"'1º Emprego escolaridade'!D25/'1º Emprego escolaridade'!I25","v":0.15032679738562091},{"$f":"'1º Emprego escolaridade'!E25/'1º Emprego escolaridade'!I25","v":0.13725490196078433},{"$f":"'1º Emprego escolaridade'!F25/'1º Emprego escolaridade'!I25","v":0.21568627450980393},{"$f":"'1º Emprego escolaridade'!G25/'1º Emprego escolaridade'!I25","v":0.13071895424836602},{"$f":"'1º Emprego escolaridade'!H25/'1º Emprego escolaridade'!I25","v":0.16339869281045752},null,{"$f":"'1º Emprego escolaridade'!K25/'1º Emprego escolaridade'!Q25","v":0.20945945945945946},{"$f":"'1º Emprego escolaridade'!L25/'1º Emprego escolaridade'!Q25","v":0.12837837837837837},{"$f":"'1º Emprego escolaridade'!M25/'1º Emprego escolaridade'!Q25","v":0.12162162162162163},{"$f":"'1º Emprego escolaridade'!N25/'1º Emprego escolaridade'!Q25","v":0.23648648648648649},{"$f":"'1º Emprego escolaridade'!O25/'1º Emprego escolaridade'!Q25","v":0.10810810810810811},{"$f":"'1º Emprego escolaridade'!P25/'1º Emprego escolaridade'!Q25","v":0.19594594594594594},null,{"$f":"'1º Emprego escolaridade'!S25/'1º Emprego escolaridade'!Y25","v":0.22292993630573249},{"$f":"'1º Emprego escolaridade'!T25/'1º Emprego escolaridade'!Y25","v":9.5541401273885357E-2},{"$f":"'1º Emprego escolaridade'!U25/'1º Emprego escolaridade'!Y25","v":0.11464968152866242},{"$f":"'1º Emprego escolaridade'!V25/'1º Emprego escolaridade'!Y25","v":0.21019108280254778},{"$f":"'1º Emprego escolaridade'!W25/'1º Emprego escolaridade'!Y25","v":0.1464968152866242},{"$f":"'1º Emprego escolaridade'!X25/'1º Emprego escolaridade'!Y25","v":0.21019108280254778},null,{"$f":"'1º Emprego escolaridade'!AA25/'1º Emprego escolaridade'!AG25","v":0.25694444444444442},{"$f":"'1º Emprego escolaridade'!AB25/'1º Emprego escolaridade'!AG25","v":0.10416666666666667},{"$f":"'1º Emprego escolaridade'!AC25/'1º Emprego escolaridade'!AG25","v":0.125},{"$f":"'1º Emprego escolaridade'!AD25/'1º Emprego escolaridade'!AG25","v":0.19444444444444445},{"$f":"'1º Emprego escolaridade'!AE25/'1º Emprego escolaridade'!AG25","v":0.15277777777777779},{"$f":"'1º Emprego escolaridade'!AF25/'1º Emprego escolaridade'!AG25","v":0.16666666666666666}]
[null,"Estrela",{"$f":"'1º Emprego escolaridade'!C26/'1º Emprego escolaridade'!I26","v":2.564102564102564E-2},{"$f":"'1º Emprego escolaridade'!D26/'1º Emprego escolaridade'!I26","v":1.282051282051282E-2},{"$f":"'1º Emprego escolaridade'!E26/'1º Emprego escolaridade'!I26","v":3.8461538461538464E-2},{"$f":"'1º Emprego escolaridade'!F26/'1º Emprego escolaridade'!I26","v":0.16666666666666666},{"$f":"'1º Emprego escolaridade'!G26/'1º Emprego escolaridade'!I26","v":0.20512820512820512},{"$f":"'1º Emprego escolaridade'!H26/'1º Emprego escolaridade'!I26","v":0.55128205128205132},null,{"$f":"'1º Emprego escolaridade'!K26/'1º Emprego escolaridade'!Q26","v":1.6666666666666666E-2},{"$f":"'1º Emprego escolaridade'!L26/'1º Emprego escolaridade'!Q26","v":1.6666666666666666E-2},{"$f":"'1º Emprego escolaridade'!M26/'1º Emprego escolaridade'!Q26","v":0.1},{"$f":"'1º Emprego escolaridade'!N26/'1º Emprego escolaridade'!Q26","v":0.15},{"$f":"'1º Emprego escolaridade'!O26/'1º Emprego escolaridade'!Q26","v":0.26666666666666666},{"$f":"'1º Emprego escolaridade'!P26/'1º Emprego escolaridade'!Q26","v":0.45},null,{"$f":"'1º Emprego escolaridade'!S26/'1º Emprego escolaridade'!Y26","v":1.3698630136986301E-2},{"$f":"'1º Emprego escolaridade'!T26/'1º Emprego escolaridade'!Y26","v":2.7397260273972601E-2},{"$f":"'1º Emprego escolaridade'!U26/'1º Emprego escolaridade'!Y26","v":4.1095890410958902E-2},{"$f":"'1º Emprego escolaridade'!V26/'1º Emprego escolaridade'!Y26","v":9.5890410958904104E-2},{"$f":"'1º Emprego escolaridade'!W26/'1º Emprego escolaridade'!Y26","v":0.27397260273972601},{"$f":"'1º Emprego escolaridade'!X26/'1º Emprego escolaridade'!Y26","v":0.54794520547945202},null,"-",{"$f":"'1º Emprego escolaridade'!AB26/'1º Emprego escolaridade'!AG26","v":3.2786885245901641E-2},{"$f":"'1º Emprego escolaridade'!AC26/'1º Emprego escolaridade'!AG26","v":4.9180327868852458E-2},{"$f":"'1º Emprego escolaridade'!AD26/'1º Emprego escolaridade'!AG26","v":9.8360655737704916E-2},{"$f":"'1º Emprego escolaridade'!AE26/'1º Emprego escolaridade'!AG26","v":0.21311475409836064},{"$f":"'1º Emprego escolaridade'!AF26/'1º Emprego escolaridade'!AG26","v":0.60655737704918034}]
[null,"Lumiar",{"$f":"'1º Emprego escolaridade'!C27/'1º Emprego escolaridade'!I27","v":8.7591240875912413E-2},{"$f":"'1º Emprego escolaridade'!D27/'1º Emprego escolaridade'!I27","v":9.4890510948905105E-2},{"$f":"'1º Emprego escolaridade'!E27/'1º Emprego escolaridade'!I27","v":4.0145985401459854E-2},{"$f":"'1º Emprego escolaridade'!F27/'1º Emprego escolaridade'!I27","v":9.1240875912408759E-2},{"$f":"'1º Emprego escolaridade'!G27/'1º Emprego escolaridade'!I27","v":0.15328467153284672},{"$f":"'1º Emprego escolaridade'!H27/'1º Emprego escolaridade'!I27","v":0.53284671532846717},null,{"$f":"'1º Emprego escolaridade'!K27/'1º Emprego escolaridade'!Q27","v":9.4861660079051377E-2},{"$f":"'1º Emprego escolaridade'!L27/'1º Emprego escolaridade'!Q27","v":7.9051383399209488E-2},{"$f":"'1º Emprego escolaridade'!M27/'1º Emprego escolaridade'!Q27","v":7.9051383399209488E-2},{"$f":"'1º Emprego escolaridade'!N27/'1º Emprego escolaridade'!Q27","v":0.1067193675889328},{"$f":"'1º Emprego escolaridade'!O27/'1º Emprego escolaridade'!Q27","v":0.16600790513833993},{"$f":"'1º Emprego escolaridade'!P27/'1º Emprego escolaridade'!Q27","v":0.4743083003952569},null,{"$f":"'1º Emprego escolaridade'!S27/'1º Emprego escolaridade'!Y27","v":0.10038610038610038},{"$f":"'1º Emprego escolaridade'!T27/'1º Emprego escolaridade'!Y27","v":8.4942084942084939E-2},{"$f":"'1º Emprego escolaridade'!U27/'1º Emprego escolaridade'!Y27","v":5.7915057915057917E-2},{"$f":"'1º Emprego escolaridade'!V27/'1º Emprego escolaridade'!Y27","v":0.11196911196911197},{"$f":"'1º Emprego escolaridade'!W27/'1º Emprego escolaridade'!Y27","v":0.138996138996139},{"$f":"'1º Emprego escolaridade'!X27/'1º Emprego escolaridade'!Y27","v":0.50579150579150578},null,{"$f":"'1º Emprego escolaridade'!AA27/'1º Emprego escolaridade'!AG27","v":0.13004484304932734},{"$f":"'1º Emprego escolaridade'!AB27/'1º Emprego escolaridade'!AG27","v":8.9686098654708515E-2},{"$f":"'1º Emprego escolaridade'!AC27/'1º Emprego escolaridade'!AG27","v":7.1748878923766815E-2},{"$f":"'1º Emprego escolaridade'!AD27/'1º Emprego escolaridade'!AG27","v":8.9686098654708515E-2},{"$f":"'1º Emprego escolaridade'!AE27/'1º Emprego escolaridade'!AG27","v":0.11659192825112108},{"$f":"'1º Emprego escolaridade'!AF27/'1º Emprego escolaridade'!AG27","v":0.50224215246636772}]
[null,"Marvila",{"$f":"'1º Emprego escolaridade'!C28/'1º Emprego escolaridade'!I28","v":0.23245614035087719},{"$f":"'1º Emprego escolaridade'!D28/'1º Emprego escolaridade'!I28","v":0.1337719298245614},{"$f":"'1º Emprego escolaridade'!E28/'1º Emprego escolaridade'!I28","v":0.19298245614035087},{"$f":"'1º Emprego escolaridade'!F28/'1º Emprego escolaridade'!I28","v":0.15350877192982457},{"$f":"'1º Emprego escolaridade'!G28/'1º Emprego escolaridade'!I28","v":0.16885964912280702},{"$f":"'1º Emprego escolaridade'!H28/'1º Emprego escolaridade'!I28","v":0.11842105263157894},null,{"$f":"'1º Emprego escolaridade'!K28/'1º Emprego escolaridade'!Q28","v":0.25634517766497461},{"$f":"'1º Emprego escolaridade'!L28/'1º Emprego escolaridade'!Q28","v":0.15736040609137056},{"$f":"'1º Emprego escolaridade'!M28/'1º Emprego escolaridade'!Q28","v":0.21319796954314721},{"$f":"'1º Emprego escolaridade'!N28/'1º Emprego escolaridade'!Q28","v":0.14467005076142131},{"$f":"'1º Emprego escolaridade'!O28/'1º Emprego escolaridade'!Q28","v":0.1548223350253807},{"$f":"'1º Emprego escolaridade'!P28/'1º Emprego escolaridade'!Q28","v":7.3604060913705582E-2},null,{"$f":"'1º Emprego escolaridade'!S28/'1º Emprego escolaridade'!Y28","v":0.24647887323943662},{"$f":"'1º Emprego escolaridade'!T28/'1º Emprego escolaridade'!Y28","v":0.12910798122065728},{"$f":"'1º Emprego escolaridade'!U28/'1º Emprego escolaridade'!Y28","v":0.19248826291079812},{"$f":"'1º Emprego escolaridade'!V28/'1º Emprego escolaridade'!Y28","v":0.13849765258215962},{"$f":"'1º Emprego escolaridade'!W28/'1º Emprego escolaridade'!Y28","v":0.18309859154929578},{"$f":"'1º Emprego escolaridade'!X28/'1º Emprego escolaridade'!Y28","v":0.11032863849765258},null,{"$f":"'1º Emprego escolaridade'!AA28/'1º Emprego escolaridade'!AG28","v":0.31578947368421051},{"$f":"'1º Emprego escolaridade'!AB28/'1º Emprego escolaridade'!AG28","v":0.17027863777089783},{"$f":"'1º Emprego escolaridade'!AC28/'1º Emprego escolaridade'!AG28","v":0.20743034055727555},{"$f":"'1º Emprego escolaridade'!AD28/'1º Emprego escolaridade'!AG28","v":6.8111455108359129E-2},{"$f":"'1º Emprego escolaridade'!AE28/'1º Emprego escolaridade'!AG28","v":0.13931888544891641},{"$f":"'1º Emprego escolaridade'!AF28/'1º Emprego escolaridade'!AG28","v":9.9071207430340563E-2}]
[null,"Misericórdia",{"$f":"'1º Emprego escolaridade'!C29/'1º Emprego escolaridade'!I29","v":6.097560975609756E-2},{"$f":"'1º Emprego escolaridade'!D29/'1º Emprego escolaridade'!I29","v":3.6585365853658534E-2},{"$f":"'1º Emprego escolaridade'!E29/'1º Emprego escolaridade'!I29","v":0.13414634146341464},{"$f":"'1º Emprego escolaridade'!F29/'1º Emprego escolaridade'!I29","v":0.17073170731707318},{"$f":"'1º Emprego escolaridade'!G29/'1º Emprego escolaridade'!I29","v":0.13414634146341464},{"$f":"'1º Emprego escolaridade'!H29/'1º Emprego escolaridade'!I29","v":0.46341463414634149},null,{"$f":"'1º Emprego escolaridade'!K29/'1º Emprego escolaridade'!Q29","v":9.8591549295774641E-2},{"$f":"'1º Emprego escolaridade'!L29/'1º Emprego escolaridade'!Q29","v":2.8169014084507043E-2},{"$f":"'1º Emprego escolaridade'!M29/'1º Emprego escolaridade'!Q29","v":8.4507042253521125E-2},{"$f":"'1º Emprego escolaridade'!N29/'1º Emprego escolaridade'!Q29","v":0.16901408450704225},{"$f":"'1º Emprego escolaridade'!O29/'1º Emprego escolaridade'!Q29","v":0.16901408450704225},{"$f":"'1º Emprego escolaridade'!P29/'1º Emprego escolaridade'!Q29","v":0.45070422535211269},null,{"$f":"'1º Emprego escolaridade'!S29/'1º Emprego escolaridade'!Y29","v":0.11475409836065574},{"$f":"'1º Emprego escolaridade'!T29/'1º Emprego escolaridade'!Y29","v":1.6393442622950821E-2},{"$f":"'1º Emprego escolaridade'!U29/'1º Emprego escolaridade'!Y29","v":0.11475409836065574},{"$f":"'1º Emprego escolaridade'!V29/'1º Emprego escolaridade'!Y29","v":9.8360655737704916E-2},{"$f":"'1º Emprego escolaridade'!W29/'1º Emprego escolaridade'!Y29","v":0.19672131147540983},{"$f":"'1º Emprego escolaridade'!X29/'1º Emprego escolaridade'!Y29","v":0.45901639344262296},null,{"$f":"'1º Emprego escolaridade'!AA29/'1º Emprego escolaridade'!AG29","v":4.3478260869565216E-2},{"$f":"'1º Emprego escolaridade'!AB29/'1º Emprego escolaridade'!AG29","v":2.1739130434782608E-2},{"$f":"'1º Emprego escolaridade'!AC29/'1º Emprego escolaridade'!AG29","v":0.2391304347826087},{"$f":"'1º Emprego escolaridade'!AD29/'1º Emprego escolaridade'!AG29","v":4.3478260869565216E-2},{"$f":"'1º Emprego escolaridade'!AE29/'1º Emprego escolaridade'!AG29","v":0.17391304347826086},{"$f":"'1º Emprego escolaridade'!AF29/'1º Emprego escolaridade'!AG29","v":0.47826086956521741}]
[null,"Olivais",{"$f":"'1º Emprego escolaridade'!C30/'1º Emprego escolaridade'!I30","v":8.6956521739130432E-2},{"$f":"'1º Emprego escolaridade'!D30/'1º Emprego escolaridade'!I30","v":6.5217391304347824E-2},{"$f":"'1º Emprego escolaridade'!E30/'1º Emprego escolaridade'!I30","v":4.3478260869565216E-2},{"$f":"'1º Emprego escolaridade'!F30/'1º Emprego escolaridade'!I30","v":0.28260869565217389},{"$f":"'1º Emprego escolaridade'!G30/'1º Emprego escolaridade'!I30","v":0.15217391304347827},{"$f":"'1º Emprego escolaridade'!H30/'1º Emprego escolaridade'!I30","v":0.36956521739130432},null,{"$f":"'1º Emprego escolaridade'!K30/'1º Emprego escolaridade'!Q30","v":8.3333333333333329E-2},{"$f":"'1º Emprego escolaridade'!L30/'1º Emprego escolaridade'!Q30","v":0.1111111111111111},{"$f":"'1º Emprego escolaridade'!M30/'1º Emprego escolaridade'!Q30","v":0.19444444444444445},{"$f":"'1º Emprego escolaridade'!N30/'1º Emprego escolaridade'!Q30","v":0.15277777777777779},{"$f":"'1º Emprego escolaridade'!O30/'1º Emprego escolaridade'!Q30","v":0.1388888888888889},{"$f":"'1º Emprego escolaridade'!P30/'1º Emprego escolaridade'!Q30","v":0.31944444444444442},null,{"$f":"'1º Emprego escolaridade'!S30/'1º Emprego escolaridade'!Y30","v":6.8965517241379309E-2},{"$f":"'1º Emprego escolaridade'!T30/'1º Emprego escolaridade'!Y30","v":5.7471264367816091E-2},{"$f":"'1º Emprego escolaridade'!U30/'1º Emprego escolaridade'!Y30","v":0.16091954022988506},{"$f":"'1º Emprego escolaridade'!V30/'1º Emprego escolaridade'!Y30","v":0.18390804597701149},{"$f":"'1º Emprego escolaridade'!W30/'1º Emprego escolaridade'!Y30","v":0.25287356321839083},{"$f":"'1º Emprego escolaridade'!X30/'1º Emprego escolaridade'!Y30","v":0.27586206896551724},null,{"$f":"'1º Emprego escolaridade'!AA30/'1º Emprego escolaridade'!AG30","v":9.375E-2},{"$f":"'1º Emprego escolaridade'!AB30/'1º Emprego escolaridade'!AG30","v":0.10416666666666667},{"$f":"'1º Emprego escolaridade'!AC30/'1º Emprego escolaridade'!AG30","v":0.16666666666666666},{"$f":"'1º Emprego escolaridade'!AD30/'1º Emprego escolaridade'!AG30","v":0.11458333333333333},{"$f":"'1º Emprego escolaridade'!AE30/'1º Emprego escolaridade'!AG30","v":0.23958333333333334},{"$f":"'1º Emprego escolaridade'!AF30/'1º Emprego escolaridade'!AG30","v":0.28125}]
[null,"Parque das Nações",{"$f":"'1º Emprego escolaridade'!C31/'1º Emprego escolaridade'!I31","v":0.22554347826086957},{"$f":"'1º Emprego escolaridade'!D31/'1º Emprego escolaridade'!I31","v":0.15489130434782608},{"$f":"'1º Emprego escolaridade'!E31/'1º Emprego escolaridade'!I31","v":0.14130434782608695},{"$f":"'1º Emprego escolaridade'!F31/'1º Emprego escolaridade'!I31","v":0.13858695652173914},{"$f":"'1º Emprego escolaridade'!G31/'1º Emprego escolaridade'!I31","v":0.14945652173913043},{"$f":"'1º Emprego escolaridade'!H31/'1º Emprego escolaridade'!I31","v":0.19021739130434784},null,{"$f":"'1º Emprego escolaridade'!K31/'1º Emprego escolaridade'!Q31","v":0.27743902439024393},{"$f":"'1º Emprego escolaridade'!L31/'1º Emprego escolaridade'!Q31","v":0.18292682926829268},{"$f":"'1º Emprego escolaridade'!M31/'1º Emprego escolaridade'!Q31","v":0.16158536585365854},{"$f":"'1º Emprego escolaridade'!N31/'1º Emprego escolaridade'!Q31","v":0.10060975609756098},{"$f":"'1º Emprego escolaridade'!O31/'1º Emprego escolaridade'!Q31","v":0.10060975609756098},{"$f":"'1º Emprego escolaridade'!P31/'1º Emprego escolaridade'!Q31","v":0.17682926829268292},null,{"$f":"'1º Emprego escolaridade'!S31/'1º Emprego escolaridade'!Y31","v":0.30546623794212219},{"$f":"'1º Emprego escolaridade'!T31/'1º Emprego escolaridade'!Y31","v":0.17041800643086816},{"$f":"'1º Emprego escolaridade'!U31/'1º Emprego escolaridade'!Y31","v":0.11897106109324759},{"$f":"'1º Emprego escolaridade'!V31/'1º Emprego escolaridade'!Y31","v":8.6816720257234734E-2},{"$f":"'1º Emprego escolaridade'!W31/'1º Emprego escolaridade'!Y31","v":0.11897106109324759},{"$f":"'1º Emprego escolaridade'!X31/'1º Emprego escolaridade'!Y31","v":0.19935691318327975},null,{"$f":"'1º Emprego escolaridade'!AA31/'1º Emprego escolaridade'!AG31","v":0.3559322033898305},{"$f":"'1º Emprego escolaridade'!AB31/'1º Emprego escolaridade'!AG31","v":0.20338983050847459},{"$f":"'1º Emprego escolaridade'!AC31/'1º Emprego escolaridade'!AG31","v":0.11864406779661017},{"$f":"'1º Emprego escolaridade'!AD31/'1º Emprego escolaridade'!AG31","v":8.4745762711864403E-2},{"$f":"'1º Emprego escolaridade'!AE31/'1º Emprego escolaridade'!AG31","v":6.7796610169491525E-2},{"$f":"'1º Emprego escolaridade'!AF31/'1º Emprego escolaridade'!AG31","v":0.16949152542372881}]
[null,"Penha de França",{"$f":"'1º Emprego escolaridade'!C32/'1º Emprego escolaridade'!I32","v":9.3567251461988299E-2},{"$f":"'1º Emprego escolaridade'!D32/'1º Emprego escolaridade'!I32","v":7.0175438596491224E-2},{"$f":"'1º Emprego escolaridade'!E32/'1º Emprego escolaridade'!I32","v":7.6023391812865493E-2},{"$f":"'1º Emprego escolaridade'!F32/'1º Emprego escolaridade'!I32","v":0.11695906432748537},{"$f":"'1º Emprego escolaridade'!G32/'1º Emprego escolaridade'!I32","v":0.21637426900584794},{"$f":"'1º Emprego escolaridade'!H32/'1º Emprego escolaridade'!I32","v":0.42690058479532161},null,{"$f":"'1º Emprego escolaridade'!K32/'1º Emprego escolaridade'!Q32","v":8.5106382978723402E-2},{"$f":"'1º Emprego escolaridade'!L32/'1º Emprego escolaridade'!Q32","v":7.0921985815602842E-2},{"$f":"'1º Emprego escolaridade'!M32/'1º Emprego escolaridade'!Q32","v":0.15602836879432624},{"$f":"'1º Emprego escolaridade'!N32/'1º Emprego escolaridade'!Q32","v":0.14184397163120568},{"$f":"'1º Emprego escolaridade'!O32/'1º Emprego escolaridade'!Q32","v":0.16312056737588654},{"$f":"'1º Emprego escolaridade'!P32/'1º Emprego escolaridade'!Q32","v":0.38297872340425532},null,{"$f":"'1º Emprego escolaridade'!S32/'1º Emprego escolaridade'!Y32","v":0.1},{"$f":"'1º Emprego escolaridade'!T32/'1º Emprego escolaridade'!Y32","v":6.4285714285714279E-2},{"$f":"'1º Emprego escolaridade'!U32/'1º Emprego escolaridade'!Y32","v":0.11428571428571428},{"$f":"'1º Emprego escolaridade'!V32/'1º Emprego escolaridade'!Y32","v":8.5714285714285715E-2},{"$f":"'1º Emprego escolaridade'!W32/'1º Emprego escolaridade'!Y32","v":0.2},{"$f":"'1º Emprego escolaridade'!X32/'1º Emprego escolaridade'!Y32","v":0.43571428571428572},null,{"$f":"'1º Emprego escolaridade'!AA32/'1º Emprego escolaridade'!AG32","v":9.1603053435114504E-2},{"$f":"'1º Emprego escolaridade'!AB32/'1º Emprego escolaridade'!AG32","v":0.10687022900763359},{"$f":"'1º Emprego escolaridade'!AC32/'1º Emprego escolaridade'!AG32","v":0.13740458015267176},{"$f":"'1º Emprego escolaridade'!AD32/'1º Emprego escolaridade'!AG32","v":7.6335877862595422E-2},{"$f":"'1º Emprego escolaridade'!AE32/'1º Emprego escolaridade'!AG32","v":0.22900763358778625},{"$f":"'1º Emprego escolaridade'!AF32/'1º Emprego escolaridade'!AG32","v":0.35877862595419846}]
[null,"Santa Clara",{"$f":"'1º Emprego escolaridade'!C33/'1º Emprego escolaridade'!I33","v":0.37121212121212122},{"$f":"'1º Emprego escolaridade'!D33/'1º Emprego escolaridade'!I33","v":0.18939393939393939},{"$f":"'1º Emprego escolaridade'!E33/'1º Emprego escolaridade'!I33","v":0.14646464646464646},{"$f":"'1º Emprego escolaridade'!F33/'1º Emprego escolaridade'!I33","v":0.12878787878787878},{"$f":"'1º Emprego escolaridade'!G33/'1º Emprego escolaridade'!I33","v":0.1111111111111111},{"$f":"'1º Emprego escolaridade'!H33/'1º Emprego escolaridade'!I33","v":5.3030303030303032E-2},null,{"$f":"'1º Emprego escolaridade'!K33/'1º Emprego escolaridade'!Q33","v":0.41269841269841268},{"$f":"'1º Emprego escolaridade'!L33/'1º Emprego escolaridade'!Q33","v":0.21693121693121692},{"$f":"'1º Emprego escolaridade'!M33/'1º Emprego escolaridade'!Q33","v":0.15873015873015872},{"$f":"'1º Emprego escolaridade'!N33/'1º Emprego escolaridade'!Q33","v":8.9947089947089942E-2},{"$f":"'1º Emprego escolaridade'!O33/'1º Emprego escolaridade'!Q33","v":8.2010582010582006E-2},{"$f":"'1º Emprego escolaridade'!P33/'1º Emprego escolaridade'!Q33","v":3.968253968253968E-2},null,{"$f":"'1º Emprego escolaridade'!S33/'1º Emprego escolaridade'!Y33","v":0.39851485148514854},{"$f":"'1º Emprego escolaridade'!T33/'1º Emprego escolaridade'!Y33","v":0.19801980198019803},{"$f":"'1º Emprego escolaridade'!U33/'1º Emprego escolaridade'!Y33","v":0.13613861386138615},{"$f":"'1º Emprego escolaridade'!V33/'1º Emprego escolaridade'!Y33","v":8.6633663366336627E-2},{"$f":"'1º Emprego escolaridade'!W33/'1º Emprego escolaridade'!Y33","v":0.13118811881188119},{"$f":"'1º Emprego escolaridade'!X33/'1º Emprego escolaridade'!Y33","v":4.9504950495049507E-2},null,{"$f":"'1º Emprego escolaridade'!AA33/'1º Emprego escolaridade'!AG33","v":0.41711229946524064},{"$f":"'1º Emprego escolaridade'!AB33/'1º Emprego escolaridade'!AG33","v":0.22459893048128343},{"$f":"'1º Emprego escolaridade'!AC33/'1º Emprego escolaridade'!AG33","v":0.14438502673796791},{"$f":"'1º Emprego escolaridade'!AD33/'1º Emprego escolaridade'!AG33","v":8.2887700534759357E-2},{"$f":"'1º Emprego escolaridade'!AE33/'1º Emprego escolaridade'!AG33","v":8.5561497326203204E-2},{"$f":"'1º Emprego escolaridade'!AF33/'1º Emprego escolaridade'!AG33","v":4.5454545454545456E-2}]
[null,"Santa Maria Maior",{"$f":"'1º Emprego escolaridade'!C34/'1º Emprego escolaridade'!I34","v":0.22222222222222221},{"$f":"'1º Emprego escolaridade'!D34/'1º Emprego escolaridade'!I34","v":8.0808080808080815E-2},{"$f":"'1º Emprego escolaridade'!E34/'1º Emprego escolaridade'!I34","v":0.1111111111111111},{"$f":"'1º Emprego escolaridade'!F34/'1º Emprego escolaridade'!I34","v":0.10101010101010101},{"$f":"'1º Emprego escolaridade'!G34/'1º Emprego escolaridade'!I34","v":0.12121212121212122},{"$f":"'1º Emprego escolaridade'!H34/'1º Emprego escolaridade'!I34","v":0.36363636363636365},null,{"$f":"'1º Emprego escolaridade'!K34/'1º Emprego escolaridade'!Q34","v":0.20454545454545456},{"$f":"'1º Emprego escolaridade'!L34/'1º Emprego escolaridade'!Q34","v":2.2727272727272728E-2},{"$f":"'1º Emprego escolaridade'!M34/'1º Emprego escolaridade'!Q34","v":9.0909090909090912E-2},{"$f":"'1º Emprego escolaridade'!N34/'1º Emprego escolaridade'!Q34","v":0.14772727272727273},{"$f":"'1º Emprego escolaridade'!O34/'1º Emprego escolaridade'!Q34","v":0.20454545454545456},{"$f":"'1º Emprego escolaridade'!P34/'1º Emprego escolaridade'!Q34","v":0.32954545454545453},null,{"$f":"'1º Emprego escolaridade'!S34/'1º Emprego escolaridade'!Y34","v":0.19672131147540983},{"$f":"'1º Emprego escolaridade'!T34/'1º Emprego escolaridade'!Y34","v":8.1967213114754092E-2},{"$f":"'1º Emprego escolaridade'!U34/'1º Emprego escolaridade'!Y34","v":3.2786885245901641E-2},{"$f":"'1º Emprego escolaridade'!V34/'1º Emprego escolaridade'!Y34","v":0.11475409836065574},{"$f":"'1º Emprego escolaridade'!W34/'1º Emprego escolaridade'!Y34","v":0.16393442622950818},{"$f":"'1º Emprego escolaridade'!X34/'1º Emprego escolaridade'!Y34","v":0.4098360655737705},null,{"$f":"'1º Emprego escolaridade'!AA34/'1º Emprego escolaridade'!AG34","v":0.22222222222222221},{"$f":"'1º Emprego escolaridade'!AB34/'1º Emprego escolaridade'!AG34","v":0.1111111111111111},{"$f":"'1º Emprego escolaridade'!AC34/'1º Emprego escolaridade'!AG34","v":9.2592592592592587E-2},{"$f":"'1º Emprego escolaridade'!AD34/'1º Emprego escolaridade'!AG34","v":0.14814814814814814},{"$f":"'1º Emprego escolaridade'!AE34/'1º Emprego escolaridade'!AG34","v":0.14814814814814814},{"$f":"'1º Emprego escolaridade'!AF34/'1º Emprego escolaridade'!AG34","v":0.27777777777777779}]
[null,"Santo António",{"$f":"'1º Emprego escolaridade'!C35/'1º Emprego escolaridade'!I35","v":4.9382716049382713E-2},{"$f":"'1º Emprego escolaridade'!D35/'1º Emprego escolaridade'!I35","v":2.4691358024691357E-2},{"$f":"'1º Emprego escolaridade'!E35/'1º Emprego escolaridade'!I35","v":6.1728395061728392E-2},{"$f":"'1º Emprego escolaridade'!F35/'1º Emprego escolaridade'!I35","v":0.13580246913580246},{"$f":"'1º Emprego escolaridade'!G35/'1º Emprego escolaridade'!I35","v":0.13580246913580246},{"$f":"'1º Emprego escolaridade'!H35/'1º Emprego escolaridade'!I35","v":0.59259259259259256},null,{"$f":"'1º Emprego escolaridade'!K35/'1º Emprego escolaridade'!Q35","v":2.8985507246376812E-2},{"$f":"'1º Emprego escolaridade'!L35/'1º Emprego escolaridade'!Q35","v":1.4492753623188406E-2},{"$f":"'1º Emprego escolaridade'!M35/'1º Emprego escolaridade'!Q35","v":7.2463768115942032E-2},{"$f":"'1º Emprego escolaridade'!N35/'1º Emprego escolaridade'!Q35","v":0.14492753623188406},{"$f":"'1º Emprego escolaridade'!O35/'1º Emprego escolaridade'!Q35","v":0.21739130434782608},{"$f":"'1º Emprego escolaridade'!P35/'1º Emprego escolaridade'!Q35","v":0.52173913043478259},null,{"$f":"'1º Emprego escolaridade'!S35/'1º Emprego escolaridade'!Y35","v":4.2857142857142858E-2},{"$f":"'1º Emprego escolaridade'!T35/'1º Emprego escolaridade'!Y35","v":1.4285714285714285E-2},{"$f":"'1º Emprego escolaridade'!U35/'1º Emprego escolaridade'!Y35","v":5.7142857142857141E-2},{"$f":"'1º Emprego escolaridade'!V35/'1º Emprego escolaridade'!Y35","v":0.14285714285714285},{"$f":"'1º Emprego escolaridade'!W35/'1º Emprego escolaridade'!Y35","v":0.25714285714285712},{"$f":"'1º Emprego escolaridade'!X35/'1º Emprego escolaridade'!Y35","v":0.48571428571428571},null,{"$f":"'1º Emprego escolaridade'!AA35/'1º Emprego escolaridade'!AG35","v":5.6603773584905662E-2},{"$f":"'1º Emprego escolaridade'!AB35/'1º Emprego escolaridade'!AG35","v":1.8867924528301886E-2},{"$f":"'1º Emprego escolaridade'!AC35/'1º Emprego escolaridade'!AG35","v":3.7735849056603772E-2},{"$f":"'1º Emprego escolaridade'!AD35/'1º Emprego escolaridade'!AG35","v":0.18867924528301888},{"$f":"'1º Emprego escolaridade'!AE35/'1º Emprego escolaridade'!AG35","v":0.16981132075471697},{"$f":"'1º Emprego escolaridade'!AF35/'1º Emprego escolaridade'!AG35","v":0.52830188679245282}]
[null,"São Domingos de Benfica",{"$f":"'1º Emprego escolaridade'!C36/'1º Emprego escolaridade'!I36","v":3.5971223021582732E-2},{"$f":"'1º Emprego escolaridade'!D36/'1º Emprego escolaridade'!I36","v":2.1582733812949641E-2},{"$f":"'1º Emprego escolaridade'!E36/'1º Emprego escolaridade'!I36","v":4.3165467625899283E-2},{"$f":"'1º Emprego escolaridade'!F36/'1º Emprego escolaridade'!I36","v":6.4748201438848921E-2},{"$f":"'1º Emprego escolaridade'!G36/'1º Emprego escolaridade'!I36","v":0.23021582733812951},{"$f":"'1º Emprego escolaridade'!H36/'1º Emprego escolaridade'!I36","v":0.60431654676258995},null,{"$f":"'1º Emprego escolaridade'!K36/'1º Emprego escolaridade'!Q36","v":3.8461538461538464E-2},{"$f":"'1º Emprego escolaridade'!L36/'1º Emprego escolaridade'!Q36","v":2.3076923076923078E-2},{"$f":"'1º Emprego escolaridade'!M36/'1º Emprego escolaridade'!Q36","v":4.6153846153846156E-2},{"$f":"'1º Emprego escolaridade'!N36/'1º Emprego escolaridade'!Q36","v":9.2307692307692313E-2},{"$f":"'1º Emprego escolaridade'!O36/'1º Emprego escolaridade'!Q36","v":0.16153846153846155},{"$f":"'1º Emprego escolaridade'!P36/'1º Emprego escolaridade'!Q36","v":0.63846153846153841},null,{"$f":"'1º Emprego escolaridade'!S36/'1º Emprego escolaridade'!Y36","v":3.2467532467532464E-2},{"$f":"'1º Emprego escolaridade'!T36/'1º Emprego escolaridade'!Y36","v":6.4935064935064939E-3},{"$f":"'1º Emprego escolaridade'!U36/'1º Emprego escolaridade'!Y36","v":3.896103896103896E-2},{"$f":"'1º Emprego escolaridade'!V36/'1º Emprego escolaridade'!Y36","v":9.0909090909090912E-2},{"$f":"'1º Emprego escolaridade'!W36/'1º Emprego escolaridade'!Y36","v":0.18181818181818182},{"$f":"'1º Emprego escolaridade'!X36/'1º Emprego escolaridade'!Y36","v":0.64935064935064934},null,{"$f":"'1º Emprego escolaridade'!AA36/'1º Emprego escolaridade'!AG36","v":3.6764705882352942E-2},{"$f":"'1º Emprego escolaridade'!AB36/'1º Emprego escolaridade'!AG36","v":7.3529411764705881E-3},{"$f":"'1º Emprego escolaridade'!AC36/'1º Emprego escolaridade'!AG36","v":2.9411764705882353E-2},{"$f":"'1º Emprego escolaridade'!AD36/'1º Emprego escolaridade'!AG36","v":6.6176470588235295E-2},{"$f":"'1º Emprego escolaridade'!AE36/'1º Emprego escolaridade'!AG36","v":0.17647058823529413},{"$f":"'1º Emprego escolaridade'!AF36/'1º Emprego escolaridade'!AG36","v":0.68382352941176472}]
[null,"São Vicente",{"$f":"'1º Emprego escolaridade'!C37/'1º Emprego escolaridade'!I37","v":8.6538461538461536E-2},{"$f":"'1º Emprego escolaridade'!D37/'1º Emprego escolaridade'!I37","v":5.7692307692307696E-2},{"$f":"'1º Emprego escolaridade'!E37/'1º Emprego escolaridade'!I37","v":9.6153846153846159E-2},{"$f":"'1º Emprego escolaridade'!F37/'1º Emprego escolaridade'!I37","v":0.22115384615384615},{"$f":"'1º Emprego escolaridade'!G37/'1º Emprego escolaridade'!I37","v":0.19230769230769232},{"$f":"'1º Emprego escolaridade'!H37/'1º Emprego escolaridade'!I37","v":0.34615384615384615},null,{"$f":"'1º Emprego escolaridade'!K37/'1º Emprego escolaridade'!Q37","v":9.2105263157894732E-2},{"$f":"'1º Emprego escolaridade'!L37/'1º Emprego escolaridade'!Q37","v":6.5789473684210523E-2},{"$f":"'1º Emprego escolaridade'!M37/'1º Emprego escolaridade'!Q37","v":6.5789473684210523E-2},{"$f":"'1º Emprego escolaridade'!N37/'1º Emprego escolaridade'!Q37","v":0.19736842105263158},{"$f":"'1º Emprego escolaridade'!O37/'1º Emprego escolaridade'!Q37","v":0.18421052631578946},{"$f":"'1º Emprego escolaridade'!P37/'1º Emprego escolaridade'!Q37","v":0.39473684210526316},null,{"$f":"'1º Emprego escolaridade'!S37/'1º Emprego escolaridade'!Y37","v":7.6923076923076927E-2},{"$f":"'1º Emprego escolaridade'!T37/'1º Emprego escolaridade'!Y37","v":6.4102564102564097E-2},{"$f":"'1º Emprego escolaridade'!U37/'1º Emprego escolaridade'!Y37","v":0.10256410256410256},{"$f":"'1º Emprego escolaridade'!V37/'1º Emprego escolaridade'!Y37","v":0.15384615384615385},{"$f":"'1º Emprego escolaridade'!W37/'1º Emprego escolaridade'!Y37","v":0.28205128205128205},{"$f":"'1º Emprego escolaridade'!X37/'1º Emprego escolaridade'!Y37","v":0.32051282051282054},null,{"$f":"'1º Emprego escolaridade'!AA37/'1º Emprego escolaridade'!AG37","v":0.12698412698412698},{"$f":"'1º Emprego escolaridade'!AB37/'1º Emprego escolaridade'!AG37","v":4.7619047619047616E-2},{"$f":"'1º Emprego escolaridade'!AC37/'1º Emprego escolaridade'!AG37","v":0.14285714285714285},{"$f":"'1º Emprego escolaridade'!AD37/'1º Emprego escolaridade'!AG37","v":4.7619047619047616E-2},{"$f":"'1º Emprego escolaridade'!AE37/'1º Emprego escolaridade'!AG37","v":0.26984126984126983},{"$f":"'1º Emprego escolaridade'!AF37/'1º Emprego escolaridade'!AG37","v":0.36507936507936506}]
[null,"Freg. Não Codificada","-","-",{"$f":"'1º Emprego escolaridade'!E38/'1º Emprego escolaridade'!I38","v":0.1111111111111111},"-",{"$f":"'1º Emprego escolaridade'!G38/'1º Emprego escolaridade'!I38","v":0.44444444444444442},{"$f":"'1º Emprego escolaridade'!H38/'1º Emprego escolaridade'!I38","v":0.44444444444444442},null,"-","-","-","-",{"$f":"'1º Emprego escolaridade'!O38/'1º Emprego escolaridade'!Q38","v":0.2},{"$f":"'1º Emprego escolaridade'!P38/'1º Emprego escolaridade'!Q38","v":0.8},null,{"$f":"'1º Emprego escolaridade'!S38/'1º Emprego escolaridade'!Y38","v":0.18040393013100436},{"$f":"'1º Emprego escolaridade'!T38/'1º Emprego escolaridade'!Y38","v":0.1064410480349345},{"$f":"'1º Emprego escolaridade'!U38/'1º Emprego escolaridade'!Y38","v":0.10753275109170306},{"$f":"'1º Emprego escolaridade'!V38/'1º Emprego escolaridade'!Y38","v":0.11026200873362445},{"$f":"'1º Emprego escolaridade'!W38/'1º Emprego escolaridade'!Y38","v":0.16839519650655022},{"$f":"'1º Emprego escolaridade'!X38/'1º Emprego escolaridade'!Y38","v":0.32696506550218341},null,"-",{"$f":"'1º Emprego escolaridade'!AB38/'1º Emprego escolaridade'!AG38","v":0.125},{"$f":"'1º Emprego escolaridade'!AC38/'1º Emprego escolaridade'!AG38","v":0.125},{"$f":"'1º Emprego escolaridade'!AD38/'1º Emprego escolaridade'!AG38","v":0.25},"-",{"$f":"'1º Emprego escolaridade'!AF38/'1º Emprego escolaridade'!AG38","v":0.5}]
[]
[null,"Fonte: Instituto de Emprego e Formação Profissional"]
[null,"Cálculos: OLCPL"]
[null,"Notas n.d.: não disponível (para valores =< 5, por razões de confidencialidade dados não disponibilizados pela fonte)"]